BEGIN:VCALENDAR
VERSION:2.0
PRODID:-//jEvents 2.0 for Joomla//EN
CALSCALE:GREGORIAN
METHOD:PUBLISH
BEGIN:VTIMEZONE
TZID:America/Tijuana
BEGIN:STANDARD
DTSTART:20161106T010000
RDATE:20170312T030000
TZOFFSETFROM:-0700
TZOFFSETTO:-0800
TZNAME:America/Tijuana PST
END:STANDARD
BEGIN:STANDARD
DTSTART:20171105T010000
RDATE:20180311T030000
TZOFFSETFROM:-0700
TZOFFSETTO:-0800
TZNAME:America/Tijuana PST
END:STANDARD
BEGIN:STANDARD
DTSTART:20181104T010000
RDATE:20190310T030000
TZOFFSETFROM:-0700
TZOFFSETTO:-0800
TZNAME:America/Tijuana PST
END:STANDARD
BEGIN:STANDARD
DTSTART:20191103T010000
RDATE:20200308T030000
TZOFFSETFROM:-0700
TZOFFSETTO:-0800
TZNAME:America/Tijuana PST
END:STANDARD
BEGIN:STANDARD
DTSTART:20201101T010000
RDATE:20210314T030000
TZOFFSETFROM:-0700
TZOFFSETTO:-0800
TZNAME:America/Tijuana PST
END:STANDARD
BEGIN:STANDARD
DTSTART:20211107T010000
RDATE:20220313T030000
TZOFFSETFROM:-0700
TZOFFSETTO:-0800
TZNAME:America/Tijuana PST
END:STANDARD
BEGIN:STANDARD
DTSTART:20221106T010000
RDATE:20230312T030000
TZOFFSETFROM:-0700
TZOFFSETTO:-0800
TZNAME:America/Tijuana PST
END:STANDARD
BEGIN:STANDARD
DTSTART:20231105T010000
RDATE:20240310T030000
TZOFFSETFROM:-0700
TZOFFSETTO:-0800
TZNAME:America/Tijuana PST
END:STANDARD
BEGIN:STANDARD
DTSTART:20241103T010000
RDATE:20250309T030000
TZOFFSETFROM:-0700
TZOFFSETTO:-0800
TZNAME:America/Tijuana PST
END:STANDARD
BEGIN:STANDARD
DTSTART:20251102T010000
RDATE:20260308T030000
TZOFFSETFROM:-0700
TZOFFSETTO:-0800
TZNAME:America/Tijuana PST
END:STANDARD
BEGIN:STANDARD
DTSTART:20261101T010000
RDATE:20270314T030000
TZOFFSETFROM:-0700
TZOFFSETTO:-0800
TZNAME:America/Tijuana PST
END:STANDARD
BEGIN:STANDARD
DTSTART:20271107T010000
RDATE:20280312T030000
TZOFFSETFROM:-0700
TZOFFSETTO:-0800
TZNAME:America/Tijuana PST
END:STANDARD
BEGIN:DAYLIGHT
DTSTART:20160415T093000
RDATE:20161106T010000
TZOFFSETFROM:-0800
TZOFFSETTO:-0700
TZNAME:America/Tijuana PDT
END:DAYLIGHT
BEGIN:DAYLIGHT
DTSTART:20170312T030000
RDATE:20171105T010000
TZOFFSETFROM:-0800
TZOFFSETTO:-0700
TZNAME:America/Tijuana PDT
END:DAYLIGHT
BEGIN:DAYLIGHT
DTSTART:20180311T030000
RDATE:20181104T010000
TZOFFSETFROM:-0800
TZOFFSETTO:-0700
TZNAME:America/Tijuana PDT
END:DAYLIGHT
BEGIN:DAYLIGHT
DTSTART:20190310T030000
RDATE:20191103T010000
TZOFFSETFROM:-0800
TZOFFSETTO:-0700
TZNAME:America/Tijuana PDT
END:DAYLIGHT
BEGIN:DAYLIGHT
DTSTART:20200308T030000
RDATE:20201101T010000
TZOFFSETFROM:-0800
TZOFFSETTO:-0700
TZNAME:America/Tijuana PDT
END:DAYLIGHT
BEGIN:DAYLIGHT
DTSTART:20210314T030000
RDATE:20211107T010000
TZOFFSETFROM:-0800
TZOFFSETTO:-0700
TZNAME:America/Tijuana PDT
END:DAYLIGHT
BEGIN:DAYLIGHT
DTSTART:20220313T030000
RDATE:20221106T010000
TZOFFSETFROM:-0800
TZOFFSETTO:-0700
TZNAME:America/Tijuana PDT
END:DAYLIGHT
BEGIN:DAYLIGHT
DTSTART:20230312T030000
RDATE:20231105T010000
TZOFFSETFROM:-0800
TZOFFSETTO:-0700
TZNAME:America/Tijuana PDT
END:DAYLIGHT
BEGIN:DAYLIGHT
DTSTART:20240310T030000
RDATE:20241103T010000
TZOFFSETFROM:-0800
TZOFFSETTO:-0700
TZNAME:America/Tijuana PDT
END:DAYLIGHT
BEGIN:DAYLIGHT
DTSTART:20250309T030000
RDATE:20251102T010000
TZOFFSETFROM:-0800
TZOFFSETTO:-0700
TZNAME:America/Tijuana PDT
END:DAYLIGHT
BEGIN:DAYLIGHT
DTSTART:20260308T030000
RDATE:20261101T010000
TZOFFSETFROM:-0800
TZOFFSETTO:-0700
TZNAME:America/Tijuana PDT
END:DAYLIGHT
BEGIN:DAYLIGHT
DTSTART:20270314T030000
RDATE:20271107T010000
TZOFFSETFROM:-0800
TZOFFSETTO:-0700
TZNAME:America/Tijuana PDT
END:DAYLIGHT
END:VTIMEZONE
BEGIN:VEVENT
UID:d8476b8eaea268118fb7dde72ba02095
CATEGORIES:Field Trips
CREATED:20170213T111506
SUMMARY:Serpentine Loop Trail in Calero County Park (San Jose)
LOCATION:Calero County Park (San Jose)
DESCRIPTION:Join Sheila Colby and Ken Himes on a walk through Calero County Park, where
  we will pass a variety of exposures and habitats, including grasslands, mi
 xed deciduous woodlands, chaparral and serpentine barrens. The hike will be
  6 miles long with more than 1,500 feet of elevation gain and a lot of up a
 nd down hiking. \nThere is a parking fee of $6; please bring exact/extra ch
 ange. Bring lunch, snacks, plenty of water, and hiking poles if you like. R
 ain cancels. \nThe hike is limited to 12 hikers. To reserve your spot and g
 et directions and meeting details, please RSVP to Sheila at This email addr
 ess is being protected from spambots. You need JavaScript enabled to view i
 t.
				document.getElementById('cloakf3500e96e6c56f53ac128616866e4b47').inn
 erHTML = '';
				var prefix = '&#109;a' + 'i&#108;' + '&#116;o';
				var pa
 th = 'hr' + 'ef' + '=';
				var addyf3500e96e6c56f53ac128616866e4b47 = 'sh&
 #101;&#105;l&#97;mc&#111;lby' + '&#64;';
				addyf3500e96e6c56f53ac12861686
 6e4b47 = addyf3500e96e6c56f53ac128616866e4b47 + 'gm&#97;&#105;l' + '&#46;' 
 + 'c&#111;m';
				var addy_textf3500e96e6c56f53ac128616866e4b47 = 'sh&#101;
 &#105;l&#97;mc&#111;lby' + '&#64;' + 'gm&#97;&#105;l' + '&#46;' + 'c&#111;m
 ';document.getElementById('cloakf3500e96e6c56f53ac128616866e4b47').innerHTM
 L += '<a ' + path + '\'' + prefix + ':' + addyf3500e96e6c56f53ac128616866e4
 b47 + '\'>'+addy_textf3500e96e6c56f53ac128616866e4b47+'';
		 or (669) 224-8
 298. \n
X-ALT-DESC;FMTTYPE=text/html:<div class="page" title="Page 8"><div class="layoutArea"><div class="column
 "><p><span style="font-size: 11pt; font-family: TimesNewRoman;">Join Sheila
  Colby and Ken Himes on a walk through Calero County Park, where we will pa
 ss a variety of exposures and habitats, including grasslands, mixed deciduo
 us woodlands, chaparral and serpentine barrens. The hike will be 6 miles lo
 ng with more than 1,500 feet of elevation gain and a lot of up and down hik
 ing. </span></p><p><span style="font-size: 11pt; font-family: TimesNewRoman
 ;">There is a parking fee of $6; please bring exact/extra change. Bring lun
 ch, snacks, plenty of water, and hiking poles if you like. Rain cancels. </
 span></p><p><span style="font-size: 11pt; font-family: TimesNewRoman;">The 
 hike is limited to 12 hikers. To </span><span style="font-size: 11pt; font-
 family: 'TimesNewRoman,Bold';">reserve your spot </span><span style="font-s
 ize: 11pt; font-family: TimesNewRoman;">and get directions and meeting deta
 ils, please RSVP to Sheila at <span id="cloakf3500e96e6c56f53ac128616866e4b
 47">This email address is being protected from spambots. You need JavaScrip
 t enabled to view it.</span><script type='text/javascript'>
				document.ge
 tElementById('cloakf3500e96e6c56f53ac128616866e4b47').innerHTML = '';
				v
 ar prefix = '&#109;a' + 'i&#108;' + '&#116;o';
				var path = 'hr' + 'ef' +
  '=';
				var addyf3500e96e6c56f53ac128616866e4b47 = 'sh&#101;&#105;l&#97;m
 c&#111;lby' + '&#64;';
				addyf3500e96e6c56f53ac128616866e4b47 = addyf3500
 e96e6c56f53ac128616866e4b47 + 'gm&#97;&#105;l' + '&#46;' + 'c&#111;m';
				
 var addy_textf3500e96e6c56f53ac128616866e4b47 = 'sh&#101;&#105;l&#97;mc&#11
 1;lby' + '&#64;' + 'gm&#97;&#105;l' + '&#46;' + 'c&#111;m';document.getElem
 entById('cloakf3500e96e6c56f53ac128616866e4b47').innerHTML += '<a ' + path 
 + '\'' + prefix + ':' + addyf3500e96e6c56f53ac128616866e4b47 + '\'>'+addy_t
 extf3500e96e6c56f53ac128616866e4b47+'<\/a>';
		</script> or (669) 224-8298.
  </span></p></div></div></div>
CONTACT:Sheila at This email address is being protected from spambots. You need JavaScript enabled to view it.
				document.getElementById('cloakc56e2615d1e1b9cf117859ec43ed8488').innerHTML = '';
				var prefix = '&#109;a' + 'i&#108;' + '&#116;o';
				var path = 'hr' + 'ef' + '=';
				var addyc56e2615d1e1b9cf117859ec43ed8488 = 'sh&#101;&#105;l&#97;mc&#111;lby' + '&#64;';
				addyc56e2615d1e1b9cf117859ec43ed8488 = addyc56e2615d1e1b9cf117859ec43ed8488 + 'gm&#97;&#105;l' + '&#46;' + 'c&#111;m';
				var addy_textc56e2615d1e1b9cf117859ec43ed8488 = 'sh&#101;&#105;l&#97;mc&#111;lby' + '&#64;' + 'gm&#97;&#105;l' + '&#46;' + 'c&#111;m';document.getElementById('cloakc56e2615d1e1b9cf117859ec43ed8488').innerHTML += '<a ' + path + '\'' + prefix + ':' + addyc56e2615d1e1b9cf117859ec43ed8488 + '\'>'+addy_textc56e2615d1e1b9cf117859ec43ed8488+'';
		 or (669) 224-8298
DTSTAMP:20260423T154725
DTSTART;TZID=America/Tijuana:20170416T093000
DTEND;TZID=America/Tijuana:20170416T160000
SEQUENCE:0
TRANSP:OPAQUE
END:VEVENT
END:VCALENDAR