BEGIN:VCALENDAR
VERSION:2.0
PRODID:-//jEvents 2.0 for Joomla//EN
CALSCALE:GREGORIAN
METHOD:PUBLISH
BEGIN:VTIMEZONE
TZID:America/Tijuana
BEGIN:STANDARD
DTSTART:20170125T193000
RDATE:20170312T030000
TZOFFSETFROM:-0700
TZOFFSETTO:-0800
TZNAME:America/Tijuana PST
END:STANDARD
BEGIN:STANDARD
DTSTART:20171105T010000
RDATE:20180311T030000
TZOFFSETFROM:-0700
TZOFFSETTO:-0800
TZNAME:America/Tijuana PST
END:STANDARD
BEGIN:STANDARD
DTSTART:20181104T010000
RDATE:20190310T030000
TZOFFSETFROM:-0700
TZOFFSETTO:-0800
TZNAME:America/Tijuana PST
END:STANDARD
BEGIN:STANDARD
DTSTART:20191103T010000
RDATE:20200308T030000
TZOFFSETFROM:-0700
TZOFFSETTO:-0800
TZNAME:America/Tijuana PST
END:STANDARD
BEGIN:STANDARD
DTSTART:20201101T010000
RDATE:20210314T030000
TZOFFSETFROM:-0700
TZOFFSETTO:-0800
TZNAME:America/Tijuana PST
END:STANDARD
BEGIN:STANDARD
DTSTART:20211107T010000
RDATE:20220313T030000
TZOFFSETFROM:-0700
TZOFFSETTO:-0800
TZNAME:America/Tijuana PST
END:STANDARD
BEGIN:STANDARD
DTSTART:20221106T010000
RDATE:20230312T030000
TZOFFSETFROM:-0700
TZOFFSETTO:-0800
TZNAME:America/Tijuana PST
END:STANDARD
BEGIN:STANDARD
DTSTART:20231105T010000
RDATE:20240310T030000
TZOFFSETFROM:-0700
TZOFFSETTO:-0800
TZNAME:America/Tijuana PST
END:STANDARD
BEGIN:STANDARD
DTSTART:20241103T010000
RDATE:20250309T030000
TZOFFSETFROM:-0700
TZOFFSETTO:-0800
TZNAME:America/Tijuana PST
END:STANDARD
BEGIN:STANDARD
DTSTART:20251102T010000
RDATE:20260308T030000
TZOFFSETFROM:-0700
TZOFFSETTO:-0800
TZNAME:America/Tijuana PST
END:STANDARD
BEGIN:STANDARD
DTSTART:20261101T010000
RDATE:20270314T030000
TZOFFSETFROM:-0700
TZOFFSETTO:-0800
TZNAME:America/Tijuana PST
END:STANDARD
BEGIN:STANDARD
DTSTART:20271107T010000
RDATE:20280312T030000
TZOFFSETFROM:-0700
TZOFFSETTO:-0800
TZNAME:America/Tijuana PST
END:STANDARD
BEGIN:DAYLIGHT
DTSTART:20170312T030000
RDATE:20171105T010000
TZOFFSETFROM:-0800
TZOFFSETTO:-0700
TZNAME:America/Tijuana PDT
END:DAYLIGHT
BEGIN:DAYLIGHT
DTSTART:20180311T030000
RDATE:20181104T010000
TZOFFSETFROM:-0800
TZOFFSETTO:-0700
TZNAME:America/Tijuana PDT
END:DAYLIGHT
BEGIN:DAYLIGHT
DTSTART:20190310T030000
RDATE:20191103T010000
TZOFFSETFROM:-0800
TZOFFSETTO:-0700
TZNAME:America/Tijuana PDT
END:DAYLIGHT
BEGIN:DAYLIGHT
DTSTART:20200308T030000
RDATE:20201101T010000
TZOFFSETFROM:-0800
TZOFFSETTO:-0700
TZNAME:America/Tijuana PDT
END:DAYLIGHT
BEGIN:DAYLIGHT
DTSTART:20210314T030000
RDATE:20211107T010000
TZOFFSETFROM:-0800
TZOFFSETTO:-0700
TZNAME:America/Tijuana PDT
END:DAYLIGHT
BEGIN:DAYLIGHT
DTSTART:20220313T030000
RDATE:20221106T010000
TZOFFSETFROM:-0800
TZOFFSETTO:-0700
TZNAME:America/Tijuana PDT
END:DAYLIGHT
BEGIN:DAYLIGHT
DTSTART:20230312T030000
RDATE:20231105T010000
TZOFFSETFROM:-0800
TZOFFSETTO:-0700
TZNAME:America/Tijuana PDT
END:DAYLIGHT
BEGIN:DAYLIGHT
DTSTART:20240310T030000
RDATE:20241103T010000
TZOFFSETFROM:-0800
TZOFFSETTO:-0700
TZNAME:America/Tijuana PDT
END:DAYLIGHT
BEGIN:DAYLIGHT
DTSTART:20250309T030000
RDATE:20251102T010000
TZOFFSETFROM:-0800
TZOFFSETTO:-0700
TZNAME:America/Tijuana PDT
END:DAYLIGHT
BEGIN:DAYLIGHT
DTSTART:20260308T030000
RDATE:20261101T010000
TZOFFSETFROM:-0800
TZOFFSETTO:-0700
TZNAME:America/Tijuana PDT
END:DAYLIGHT
BEGIN:DAYLIGHT
DTSTART:20270314T030000
RDATE:20271107T010000
TZOFFSETFROM:-0800
TZOFFSETTO:-0700
TZNAME:America/Tijuana PDT
END:DAYLIGHT
END:VTIMEZONE
BEGIN:VEVENT
UID:b5378331f7b245bff616b1cad118166c
CATEGORIES:Meetings
CREATED:20171220T094828
SUMMARY:Members’ Night and General Meeting
LOCATION:Los Altos Library Program Room 13 So. San Antonio Road\, Los Altos
DESCRIPTION:In this annual tradition, Chapter members share photos of notable plants an
 d places they have visited in 2017. Native plant species are well-adapted t
 o thrive in wet and dry years, and in 2017 we saw the results of an extraor
 dinarily wet rainy season. This abundance of rain and snow led to “superblo
 oms” in some parts of California ̶ did you find and photograph any of these
  areas? Or maybe you found something more subtle and maybe a bit sublime? I
 f so, please consider showing your images and/or stories with others at thi
 s fun event. And if you don't have any photos to share, come to enjoy an ab
 undance of beautiful photos and maybe hear a few stories highlighting our r
 emarkable flora and scenery.\nIf you’d like to share your photos or other m
 aterials, please RSVP by Sunday, January 21st by emailing Kevin Bryant at T
 his email address is being protected from spambots. You need JavaScript ena
 bled to view it.
				document.getElementById('cloak128baecde63b477f0cfb6d14
 dee5d94e').innerHTML = '';
				var prefix = '&#109;a' + 'i&#108;' + '&#116;
 o';
				var path = 'hr' + 'ef' + '=';
				var addy128baecde63b477f0cfb6d14d
 ee5d94e = 'mtngr&#101;&#101;n17' + '&#64;';
				addy128baecde63b477f0cfb6d1
 4dee5d94e = addy128baecde63b477f0cfb6d14dee5d94e + 'gm&#97;&#105;l' + '&#46
 ;' + 'c&#111;m';
				var addy_text128baecde63b477f0cfb6d14dee5d94e = 'mtngr
 &#101;&#101;n17' + '&#64;' + 'gm&#97;&#105;l' + '&#46;' + 'c&#111;m';docume
 nt.getElementById('cloak128baecde63b477f0cfb6d14dee5d94e').innerHTML += '<a
  ' + path + '\'' + prefix + ':' + addy128baecde63b477f0cfb6d14dee5d94e + '\
 '>'+addy_text128baecde63b477f0cfb6d14dee5d94e+'';
		 or calling (408) 348- 
 9470; and let him know about the materials you’d like to share from 2017. T
 ime allotted per person will depend on how many participants RSVP. Whether 
 you have photos to share or not, join us for a fun midwinter celebration of
  the beauty and tenacity of native plants and their habitats.\nCNPS General
  Meetings are free and open to the public. \n
X-ALT-DESC;FMTTYPE=text/html:<div class="page" title="Page 1"><div class="layoutArea"><div class="column
 "><p>In this annual tradition, Chapter members share photos of notable plan
 ts and places they have visited in 2017. Native plant species are well-adap
 ted to thrive in wet and dry years, and in 2017 we saw the results of an ex
 traordinarily wet rainy season. This abundance of rain and snow led to “sup
 erblooms” in some parts of California ̶ did you find and photograph any of 
 these areas? Or maybe you found something more subtle and maybe a bit subli
 me? If so, please consider&nbsp;showing your images and/or stories with oth
 ers at this fun event. And if you don't have any photos to share, come to e
 njoy an abundance of beautiful photos and maybe hear a few stories highligh
 ting our remarkable flora and scenery.</p><p>If you’d like to share your ph
 otos or other materials, please RSVP by Sunday, January 21st by emailing Ke
 vin Bryant at <span id="cloak128baecde63b477f0cfb6d14dee5d94e">This email a
 ddress is being protected from spambots. You need JavaScript enabled to vie
 w it.</span><script type='text/javascript'>
				document.getElementById('cl
 oak128baecde63b477f0cfb6d14dee5d94e').innerHTML = '';
				var prefix = '&#1
 09;a' + 'i&#108;' + '&#116;o';
				var path = 'hr' + 'ef' + '=';
				var ad
 dy128baecde63b477f0cfb6d14dee5d94e = 'mtngr&#101;&#101;n17' + '&#64;';
				
 addy128baecde63b477f0cfb6d14dee5d94e = addy128baecde63b477f0cfb6d14dee5d94e
  + 'gm&#97;&#105;l' + '&#46;' + 'c&#111;m';
				var addy_text128baecde63b47
 7f0cfb6d14dee5d94e = 'mtngr&#101;&#101;n17' + '&#64;' + 'gm&#97;&#105;l' + 
 '&#46;' + 'c&#111;m';document.getElementById('cloak128baecde63b477f0cfb6d14
 dee5d94e').innerHTML += '<a ' + path + '\'' + prefix + ':' + addy128baecde6
 3b477f0cfb6d14dee5d94e + '\'>'+addy_text128baecde63b477f0cfb6d14dee5d94e+'<
 \/a>';
		</script> or calling (408) 348- 9470; and let him know about the m
 aterials you’d like to share from 2017. Time allotted per person will depen
 d on how many participants RSVP. Whether you have photos to&nbsp;share or n
 ot, join us for a fun midwinter celebration of the beauty and tenacity of n
 ative plants and their habitats.</p><p>CNPS General Meetings are free and o
 pen to the public.&nbsp;</p></div></div></div>
CONTACT:Madeline Morrow at This email address is being protected from spambots. You need JavaScript enabled to view it.
				document.getElementById('cloaka8490d06d23b986a4a3d65139c1da82e').innerHTML = '';
				var prefix = '&#109;a' + 'i&#108;' + '&#116;o';
				var path = 'hr' + 'ef' + '=';
				var addya8490d06d23b986a4a3d65139c1da82e = 'm&#97;d&#101;l&#105;n&#101;m&#111;rr&#111;w' + '&#64;';
				addya8490d06d23b986a4a3d65139c1da82e = addya8490d06d23b986a4a3d65139c1da82e + '&#101;&#97;rthl&#105;nk' + '&#46;' + 'n&#101;t';
				var addy_texta8490d06d23b986a4a3d65139c1da82e = 'm&#97;d&#101;l&#105;n&#101;m&#111;rr&#111;w' + '&#64;' + '&#101;&#97;rthl&#105;nk' + '&#46;' + 'n&#101;t';document.getElementById('cloaka8490d06d23b986a4a3d65139c1da82e').innerHTML += '<a ' + path + '\'' + prefix + ':' + addya8490d06d23b986a4a3d65139c1da82e + '\'>'+addy_texta8490d06d23b986a4a3d65139c1da82e+'';
		 or the Chapter phone at (650) 260-3450
DTSTAMP:20260425T131124
DTSTART;TZID=America/Tijuana:20180126T193000
DTEND;TZID=America/Tijuana:20180126T210000
SEQUENCE:0
TRANSP:OPAQUE
END:VEVENT
END:VCALENDAR