BEGIN:VCALENDAR
VERSION:2.0
PRODID:-//jEvents 2.0 for Joomla//EN
CALSCALE:GREGORIAN
METHOD:PUBLISH
BEGIN:VTIMEZONE
TZID:America/Tijuana
BEGIN:STANDARD
DTSTART:20211107T010000
RDATE:20220313T030000
TZOFFSETFROM:-0700
TZOFFSETTO:-0800
TZNAME:America/Tijuana PST
END:STANDARD
BEGIN:STANDARD
DTSTART:20221106T010000
RDATE:20230312T030000
TZOFFSETFROM:-0700
TZOFFSETTO:-0800
TZNAME:America/Tijuana PST
END:STANDARD
BEGIN:STANDARD
DTSTART:20231105T010000
RDATE:20240310T030000
TZOFFSETFROM:-0700
TZOFFSETTO:-0800
TZNAME:America/Tijuana PST
END:STANDARD
BEGIN:STANDARD
DTSTART:20241103T010000
RDATE:20250309T030000
TZOFFSETFROM:-0700
TZOFFSETTO:-0800
TZNAME:America/Tijuana PST
END:STANDARD
BEGIN:STANDARD
DTSTART:20251102T010000
RDATE:20260308T030000
TZOFFSETFROM:-0700
TZOFFSETTO:-0800
TZNAME:America/Tijuana PST
END:STANDARD
BEGIN:STANDARD
DTSTART:20261101T010000
RDATE:20270314T030000
TZOFFSETFROM:-0700
TZOFFSETTO:-0800
TZNAME:America/Tijuana PST
END:STANDARD
BEGIN:STANDARD
DTSTART:20271107T010000
RDATE:20280312T030000
TZOFFSETFROM:-0700
TZOFFSETTO:-0800
TZNAME:America/Tijuana PST
END:STANDARD
BEGIN:DAYLIGHT
DTSTART:20210907T190000
RDATE:20211107T010000
TZOFFSETFROM:-0800
TZOFFSETTO:-0700
TZNAME:America/Tijuana PDT
END:DAYLIGHT
BEGIN:DAYLIGHT
DTSTART:20220313T030000
RDATE:20221106T010000
TZOFFSETFROM:-0800
TZOFFSETTO:-0700
TZNAME:America/Tijuana PDT
END:DAYLIGHT
BEGIN:DAYLIGHT
DTSTART:20230312T030000
RDATE:20231105T010000
TZOFFSETFROM:-0800
TZOFFSETTO:-0700
TZNAME:America/Tijuana PDT
END:DAYLIGHT
BEGIN:DAYLIGHT
DTSTART:20240310T030000
RDATE:20241103T010000
TZOFFSETFROM:-0800
TZOFFSETTO:-0700
TZNAME:America/Tijuana PDT
END:DAYLIGHT
BEGIN:DAYLIGHT
DTSTART:20250309T030000
RDATE:20251102T010000
TZOFFSETFROM:-0800
TZOFFSETTO:-0700
TZNAME:America/Tijuana PDT
END:DAYLIGHT
BEGIN:DAYLIGHT
DTSTART:20260308T030000
RDATE:20261101T010000
TZOFFSETFROM:-0800
TZOFFSETTO:-0700
TZNAME:America/Tijuana PDT
END:DAYLIGHT
BEGIN:DAYLIGHT
DTSTART:20270314T030000
RDATE:20271107T010000
TZOFFSETFROM:-0800
TZOFFSETTO:-0700
TZNAME:America/Tijuana PDT
END:DAYLIGHT
END:VTIMEZONE
BEGIN:VEVENT
UID:4ce1c105dfaecaa09a746532e8e0e38f
CATEGORIES:Field Trips
CREATED:20220907T172333
SUMMARY:CNPS SCV Field Trip Planning Meeting
LOCATION: https://us02web.zoom.us/j/87616370800?pwd=VkhoZFozM1ovMmJoMm1DZFU4Vk1QQT09
DESCRIPTION:Field Trip enthusiasts and leaders -  Field trip enthusiasts and leaders, p
 lease join us to help schedule our Chapter’s field trips for the remainder 
 of the year, plus brainstorm ideas for 2023’s trips. All are welcome to joi
 n in the discussion. For further information email Dee Himes at This email 
 address is being protected from spambots. You need JavaScript enabled to vi
 ew it.
				document.getElementById('cloak1d0e08234bb2d44f3897a8e9f4ad3bfa')
 .innerHTML = '';
				var prefix = '&#109;a' + 'i&#108;' + '&#116;o';
				va
 r path = 'hr' + 'ef' + '=';
				var addy1d0e08234bb2d44f3897a8e9f4ad3bfa = 
 'd&#101;&#101;4cnps' + '&#64;';
				addy1d0e08234bb2d44f3897a8e9f4ad3bfa = 
 addy1d0e08234bb2d44f3897a8e9f4ad3bfa + 'gm&#97;&#105;l' + '&#46;' + 'c&#111
 ;m';
				var addy_text1d0e08234bb2d44f3897a8e9f4ad3bfa = 'd&#101;&#101;4cnp
 s' + '&#64;' + 'gm&#97;&#105;l' + '&#46;' + 'c&#111;m';document.getElementB
 yId('cloak1d0e08234bb2d44f3897a8e9f4ad3bfa').innerHTML += '<a ' + path + '\
 '' + prefix + ':' + addy1d0e08234bb2d44f3897a8e9f4ad3bfa + '\'>'+addy_text1
 d0e08234bb2d44f3897a8e9f4ad3bfa+'';
		.Zoom:   (https://us02web.zoom.us/j/8
 7616370800?pwd=VkhoZFozM1ovMmJoMm1DZFU4Vk1QQT09)https://us02web.zoom.us/j/8
 7616370800?pwd=VkhoZFozM1ovMmJoMm1DZFU4Vk1QQT09 (https://us02web.zoom.us/j/
 87616370800?pwd=VkhoZFozM1ovMmJoMm1DZFU4Vk1QQT09)
X-ALT-DESC;FMTTYPE=text/html:<div>Field Trip enthusiasts and leaders -&nbsp;</div><div>&nbsp;</div><div>
 Field trip enthusiasts and leaders, please join us to help schedule our Cha
 pter’s field trips for the remainder of the year, plus brainstorm ideas for
  2023’s trips. All are welcome to join in the discussion. For further infor
 mation email Dee Himes at <span id="cloak1d0e08234bb2d44f3897a8e9f4ad3bfa">
 This email address is being protected from spambots. You need JavaScript en
 abled to view it.</span><script type='text/javascript'>
				document.getEle
 mentById('cloak1d0e08234bb2d44f3897a8e9f4ad3bfa').innerHTML = '';
				var p
 refix = '&#109;a' + 'i&#108;' + '&#116;o';
				var path = 'hr' + 'ef' + '='
 ;
				var addy1d0e08234bb2d44f3897a8e9f4ad3bfa = 'd&#101;&#101;4cnps' + '&#
 64;';
				addy1d0e08234bb2d44f3897a8e9f4ad3bfa = addy1d0e08234bb2d44f3897a8
 e9f4ad3bfa + 'gm&#97;&#105;l' + '&#46;' + 'c&#111;m';
				var addy_text1d0e
 08234bb2d44f3897a8e9f4ad3bfa = 'd&#101;&#101;4cnps' + '&#64;' + 'gm&#97;&#1
 05;l' + '&#46;' + 'c&#111;m';document.getElementById('cloak1d0e08234bb2d44f
 3897a8e9f4ad3bfa').innerHTML += '<a ' + path + '\'' + prefix + ':' + addy1d
 0e08234bb2d44f3897a8e9f4ad3bfa + '\'>'+addy_text1d0e08234bb2d44f3897a8e9f4a
 d3bfa+'<\/a>';
		</script>.</div><div>Zoom: &nbsp;<a href="https://us02web.
 zoom.us/j/87616370800?pwd=VkhoZFozM1ovMmJoMm1DZFU4Vk1QQT09" target="_blank"
  rel="noopener"></a><a href="https://us02web.zoom.us/j/87616370800?pwd=Vkho
 ZFozM1ovMmJoMm1DZFU4Vk1QQT09">https://us02web.zoom.us/j/87616370800?pwd=Vkh
 oZFozM1ovMmJoMm1DZFU4Vk1QQT09</a></div>
CONTACT:Dee Himes, dee4cnps[at]gmail.com.
DTSTAMP:20260423T091627
DTSTART;TZID=America/Tijuana:20220908T190000
DTEND;TZID=America/Tijuana:20220908T210000
SEQUENCE:0
TRANSP:OPAQUE
END:VEVENT
END:VCALENDAR