BEGIN:VCALENDAR
VERSION:2.0
PRODID:-//jEvents 2.0 for Joomla//EN
CALSCALE:GREGORIAN
METHOD:PUBLISH
BEGIN:VTIMEZONE
TZID:America/Tijuana
BEGIN:STANDARD
DTSTART:20151101T010000
RDATE:20160313T030000
TZOFFSETFROM:-0700
TZOFFSETTO:-0800
TZNAME:America/Tijuana PST
END:STANDARD
BEGIN:STANDARD
DTSTART:20161106T010000
RDATE:20170312T030000
TZOFFSETFROM:-0700
TZOFFSETTO:-0800
TZNAME:America/Tijuana PST
END:STANDARD
BEGIN:STANDARD
DTSTART:20171105T010000
RDATE:20180311T030000
TZOFFSETFROM:-0700
TZOFFSETTO:-0800
TZNAME:America/Tijuana PST
END:STANDARD
BEGIN:STANDARD
DTSTART:20181104T010000
RDATE:20190310T030000
TZOFFSETFROM:-0700
TZOFFSETTO:-0800
TZNAME:America/Tijuana PST
END:STANDARD
BEGIN:STANDARD
DTSTART:20191103T010000
RDATE:20200308T030000
TZOFFSETFROM:-0700
TZOFFSETTO:-0800
TZNAME:America/Tijuana PST
END:STANDARD
BEGIN:STANDARD
DTSTART:20201101T010000
RDATE:20210314T030000
TZOFFSETFROM:-0700
TZOFFSETTO:-0800
TZNAME:America/Tijuana PST
END:STANDARD
BEGIN:STANDARD
DTSTART:20211107T010000
RDATE:20220313T030000
TZOFFSETFROM:-0700
TZOFFSETTO:-0800
TZNAME:America/Tijuana PST
END:STANDARD
BEGIN:STANDARD
DTSTART:20221106T010000
RDATE:20230312T030000
TZOFFSETFROM:-0700
TZOFFSETTO:-0800
TZNAME:America/Tijuana PST
END:STANDARD
BEGIN:STANDARD
DTSTART:20231105T010000
RDATE:20240310T030000
TZOFFSETFROM:-0700
TZOFFSETTO:-0800
TZNAME:America/Tijuana PST
END:STANDARD
BEGIN:STANDARD
DTSTART:20241103T010000
RDATE:20250309T030000
TZOFFSETFROM:-0700
TZOFFSETTO:-0800
TZNAME:America/Tijuana PST
END:STANDARD
BEGIN:STANDARD
DTSTART:20251102T010000
RDATE:20260308T030000
TZOFFSETFROM:-0700
TZOFFSETTO:-0800
TZNAME:America/Tijuana PST
END:STANDARD
BEGIN:STANDARD
DTSTART:20261101T010000
RDATE:20270314T030000
TZOFFSETFROM:-0700
TZOFFSETTO:-0800
TZNAME:America/Tijuana PST
END:STANDARD
BEGIN:STANDARD
DTSTART:20271107T010000
RDATE:20280312T030000
TZOFFSETFROM:-0700
TZOFFSETTO:-0800
TZNAME:America/Tijuana PST
END:STANDARD
BEGIN:DAYLIGHT
DTSTART:20150520T190000
RDATE:20151101T010000
TZOFFSETFROM:-0800
TZOFFSETTO:-0700
TZNAME:America/Tijuana PDT
END:DAYLIGHT
BEGIN:DAYLIGHT
DTSTART:20160313T030000
RDATE:20161106T010000
TZOFFSETFROM:-0800
TZOFFSETTO:-0700
TZNAME:America/Tijuana PDT
END:DAYLIGHT
BEGIN:DAYLIGHT
DTSTART:20170312T030000
RDATE:20171105T010000
TZOFFSETFROM:-0800
TZOFFSETTO:-0700
TZNAME:America/Tijuana PDT
END:DAYLIGHT
BEGIN:DAYLIGHT
DTSTART:20180311T030000
RDATE:20181104T010000
TZOFFSETFROM:-0800
TZOFFSETTO:-0700
TZNAME:America/Tijuana PDT
END:DAYLIGHT
BEGIN:DAYLIGHT
DTSTART:20190310T030000
RDATE:20191103T010000
TZOFFSETFROM:-0800
TZOFFSETTO:-0700
TZNAME:America/Tijuana PDT
END:DAYLIGHT
BEGIN:DAYLIGHT
DTSTART:20200308T030000
RDATE:20201101T010000
TZOFFSETFROM:-0800
TZOFFSETTO:-0700
TZNAME:America/Tijuana PDT
END:DAYLIGHT
BEGIN:DAYLIGHT
DTSTART:20210314T030000
RDATE:20211107T010000
TZOFFSETFROM:-0800
TZOFFSETTO:-0700
TZNAME:America/Tijuana PDT
END:DAYLIGHT
BEGIN:DAYLIGHT
DTSTART:20220313T030000
RDATE:20221106T010000
TZOFFSETFROM:-0800
TZOFFSETTO:-0700
TZNAME:America/Tijuana PDT
END:DAYLIGHT
BEGIN:DAYLIGHT
DTSTART:20230312T030000
RDATE:20231105T010000
TZOFFSETFROM:-0800
TZOFFSETTO:-0700
TZNAME:America/Tijuana PDT
END:DAYLIGHT
BEGIN:DAYLIGHT
DTSTART:20240310T030000
RDATE:20241103T010000
TZOFFSETFROM:-0800
TZOFFSETTO:-0700
TZNAME:America/Tijuana PDT
END:DAYLIGHT
BEGIN:DAYLIGHT
DTSTART:20250309T030000
RDATE:20251102T010000
TZOFFSETFROM:-0800
TZOFFSETTO:-0700
TZNAME:America/Tijuana PDT
END:DAYLIGHT
BEGIN:DAYLIGHT
DTSTART:20260308T030000
RDATE:20261101T010000
TZOFFSETFROM:-0800
TZOFFSETTO:-0700
TZNAME:America/Tijuana PDT
END:DAYLIGHT
BEGIN:DAYLIGHT
DTSTART:20270314T030000
RDATE:20271107T010000
TZOFFSETFROM:-0800
TZOFFSETTO:-0700
TZNAME:America/Tijuana PDT
END:DAYLIGHT
END:VTIMEZONE
BEGIN:VEVENT
UID:8fec8626c0eb3d13ef52f192d5ff6f06
CATEGORIES:Meetings
CREATED:20160420T212158
SUMMARY:Monkeyflowers in Flux
LOCATION:Los Altos Library Program Room\, 13 So. San Antonio Road\, Los Altos 
DESCRIPTION:Monkeyflowers (the genus Mimulus) are favorites of botanists, amateur natur
 alists, and native gardeners alike. They include annuals, perennials and su
 b-shrubs, many of which are very showy and beautiful. California is the cen
 ter of Mimulus biodiversity in the world, since more than 90 of the 150 wor
 ldwide species occur here. Members of the genus exhibit adaptations, endemi
 sm and distributions that reflect the most interesting themes of California
  botany, such as fire-following, serpentine and other geological endemism, 
 vernal pools, pollination, hybridization and large within-species variabili
 ty.\nSteve Schoenig is currently the CNPS Rare Plant Treasure Hunt Botanist
 . He has a 30 year long interest in native California plants with a special
  focus on the monkeyflower genus Mimulus and endemic plants of the three Ca
 lifornia deserts.\n
X-ALT-DESC;FMTTYPE=text/html:<div class="page" title="Page 1"><div class="layoutArea"><div class="column
 "><p><span style="font-size: 11pt; font-family: TimesNewRoman;">Monkeyflowe
 rs (the genus Mimulus) are favorites of botanists, amateur naturalists, and
  native gardeners alike. They include annuals, perennials and sub-shrubs, m
 any of which are very showy and beautiful. California is the center of Mimu
 lus biodiversity in the world, since more than 90 of the 150 worldwide spec
 ies occur here. Members of the genus exhibit adaptations, endemism and dist
 ributions that reflect the most interesting themes of California botany, su
 ch as fire-following, serpentine and other geological endemism, vernal pool
 s, pollination, hybridization and large within-species variability.</span><
 /p><p>Steve Schoenig is currently the CNPS Rare Plant Treasure Hunt Botanis
 t. He has a 30 year long interest in native California plants with a specia
 l focus on the monkeyflower genus Mimulus and endemic plants of the three C
 alifornia deserts.</p></div></div></div>
CONTACT:Stephen Rosenthal at This email address is being protected from spambots. You need JavaScript enabled to view it.
				document.getElementById('cloak936937f4ed3c025c9d15a75a90ac49b7').innerHTML = '';
				var prefix = '&#109;a' + 'i&#108;' + '&#116;o';
				var path = 'hr' + 'ef' + '=';
				var addy936937f4ed3c025c9d15a75a90ac49b7 = 's&#97;&#105;l&#105;nst&#101;v&#101;' + '&#64;';
				addy936937f4ed3c025c9d15a75a90ac49b7 = addy936937f4ed3c025c9d15a75a90ac49b7 + 'sbcgl&#111;b&#97;l' + '&#46;' + 'n&#101;t';
				var addy_text936937f4ed3c025c9d15a75a90ac49b7 = 's&#97;&#105;l&#105;nst&#101;v&#101;' + '&#64;' + 'sbcgl&#111;b&#97;l' + '&#46;' + 'n&#101;t';document.getElementById('cloak936937f4ed3c025c9d15a75a90ac49b7').innerHTML += '<a ' + path + '\'' + prefix + ':' + addy936937f4ed3c025c9d15a75a90ac49b7 + '\'>'+addy_text936937f4ed3c025c9d15a75a90ac49b7+'';
		 or the Chapter phone (650) 260-3450
DTSTAMP:20260422T222212
DTSTART;TZID=America/Tijuana:20160520T190000
DTEND;TZID=America/Tijuana:20160520T203000
SEQUENCE:0
TRANSP:OPAQUE
END:VEVENT
END:VCALENDAR