BEGIN:VCALENDAR
VERSION:2.0
PRODID:-//jEvents 2.0 for Joomla//EN
CALSCALE:GREGORIAN
METHOD:PUBLISH
BEGIN:VTIMEZONE
TZID:America/Tijuana
BEGIN:STANDARD
DTSTART:20151101T010000
RDATE:20160313T030000
TZOFFSETFROM:-0700
TZOFFSETTO:-0800
TZNAME:America/Tijuana PST
END:STANDARD
BEGIN:STANDARD
DTSTART:20161106T010000
RDATE:20170312T030000
TZOFFSETFROM:-0700
TZOFFSETTO:-0800
TZNAME:America/Tijuana PST
END:STANDARD
BEGIN:STANDARD
DTSTART:20171105T010000
RDATE:20180311T030000
TZOFFSETFROM:-0700
TZOFFSETTO:-0800
TZNAME:America/Tijuana PST
END:STANDARD
BEGIN:STANDARD
DTSTART:20181104T010000
RDATE:20190310T030000
TZOFFSETFROM:-0700
TZOFFSETTO:-0800
TZNAME:America/Tijuana PST
END:STANDARD
BEGIN:STANDARD
DTSTART:20191103T010000
RDATE:20200308T030000
TZOFFSETFROM:-0700
TZOFFSETTO:-0800
TZNAME:America/Tijuana PST
END:STANDARD
BEGIN:STANDARD
DTSTART:20201101T010000
RDATE:20210314T030000
TZOFFSETFROM:-0700
TZOFFSETTO:-0800
TZNAME:America/Tijuana PST
END:STANDARD
BEGIN:STANDARD
DTSTART:20211107T010000
RDATE:20220313T030000
TZOFFSETFROM:-0700
TZOFFSETTO:-0800
TZNAME:America/Tijuana PST
END:STANDARD
BEGIN:STANDARD
DTSTART:20221106T010000
RDATE:20230312T030000
TZOFFSETFROM:-0700
TZOFFSETTO:-0800
TZNAME:America/Tijuana PST
END:STANDARD
BEGIN:STANDARD
DTSTART:20231105T010000
RDATE:20240310T030000
TZOFFSETFROM:-0700
TZOFFSETTO:-0800
TZNAME:America/Tijuana PST
END:STANDARD
BEGIN:STANDARD
DTSTART:20241103T010000
RDATE:20250309T030000
TZOFFSETFROM:-0700
TZOFFSETTO:-0800
TZNAME:America/Tijuana PST
END:STANDARD
BEGIN:STANDARD
DTSTART:20251102T010000
RDATE:20260308T030000
TZOFFSETFROM:-0700
TZOFFSETTO:-0800
TZNAME:America/Tijuana PST
END:STANDARD
BEGIN:STANDARD
DTSTART:20261101T010000
RDATE:20270314T030000
TZOFFSETFROM:-0700
TZOFFSETTO:-0800
TZNAME:America/Tijuana PST
END:STANDARD
BEGIN:STANDARD
DTSTART:20271107T010000
RDATE:20280312T030000
TZOFFSETFROM:-0700
TZOFFSETTO:-0800
TZNAME:America/Tijuana PST
END:STANDARD
BEGIN:DAYLIGHT
DTSTART:20150602T190000
RDATE:20151101T010000
TZOFFSETFROM:-0800
TZOFFSETTO:-0700
TZNAME:America/Tijuana PDT
END:DAYLIGHT
BEGIN:DAYLIGHT
DTSTART:20160313T030000
RDATE:20161106T010000
TZOFFSETFROM:-0800
TZOFFSETTO:-0700
TZNAME:America/Tijuana PDT
END:DAYLIGHT
BEGIN:DAYLIGHT
DTSTART:20170312T030000
RDATE:20171105T010000
TZOFFSETFROM:-0800
TZOFFSETTO:-0700
TZNAME:America/Tijuana PDT
END:DAYLIGHT
BEGIN:DAYLIGHT
DTSTART:20180311T030000
RDATE:20181104T010000
TZOFFSETFROM:-0800
TZOFFSETTO:-0700
TZNAME:America/Tijuana PDT
END:DAYLIGHT
BEGIN:DAYLIGHT
DTSTART:20190310T030000
RDATE:20191103T010000
TZOFFSETFROM:-0800
TZOFFSETTO:-0700
TZNAME:America/Tijuana PDT
END:DAYLIGHT
BEGIN:DAYLIGHT
DTSTART:20200308T030000
RDATE:20201101T010000
TZOFFSETFROM:-0800
TZOFFSETTO:-0700
TZNAME:America/Tijuana PDT
END:DAYLIGHT
BEGIN:DAYLIGHT
DTSTART:20210314T030000
RDATE:20211107T010000
TZOFFSETFROM:-0800
TZOFFSETTO:-0700
TZNAME:America/Tijuana PDT
END:DAYLIGHT
BEGIN:DAYLIGHT
DTSTART:20220313T030000
RDATE:20221106T010000
TZOFFSETFROM:-0800
TZOFFSETTO:-0700
TZNAME:America/Tijuana PDT
END:DAYLIGHT
BEGIN:DAYLIGHT
DTSTART:20230312T030000
RDATE:20231105T010000
TZOFFSETFROM:-0800
TZOFFSETTO:-0700
TZNAME:America/Tijuana PDT
END:DAYLIGHT
BEGIN:DAYLIGHT
DTSTART:20240310T030000
RDATE:20241103T010000
TZOFFSETFROM:-0800
TZOFFSETTO:-0700
TZNAME:America/Tijuana PDT
END:DAYLIGHT
BEGIN:DAYLIGHT
DTSTART:20250309T030000
RDATE:20251102T010000
TZOFFSETFROM:-0800
TZOFFSETTO:-0700
TZNAME:America/Tijuana PDT
END:DAYLIGHT
BEGIN:DAYLIGHT
DTSTART:20260308T030000
RDATE:20261101T010000
TZOFFSETFROM:-0800
TZOFFSETTO:-0700
TZNAME:America/Tijuana PDT
END:DAYLIGHT
BEGIN:DAYLIGHT
DTSTART:20270314T030000
RDATE:20271107T010000
TZOFFSETFROM:-0800
TZOFFSETTO:-0700
TZNAME:America/Tijuana PDT
END:DAYLIGHT
END:VTIMEZONE
BEGIN:VEVENT
UID:2b07ca4cfa18416d677ff2dfbca09410
CATEGORIES:Meetings
CREATED:20160529T120108
SUMMARY:Conservation Committee (formerly LIVeCoRP) 
LOCATION:Peninsula Conservation Center (PCC)\, 3921 E. Bayshore Road\, Palo Alto
DESCRIPTION:Our Chapter’s conservation committee (formerly LIVeCoRP - Legislation, Inva
 sives, Conservation, and Rare Plant) meets on the first Thursday of the mon
 th at the PCC in Palo Alto. Meetings are open to people who wish to get inv
 olved with preserving, protecting, and understanding native species and pla
 nt communities throughout our Chapter's area. No experience is necessary, o
 nly a desire to help retain what remains of our natural heritage. Please jo
 in us in our important work! For questions, comments or concerns, please co
 ntact Conservation Chair Linda Ruthruff at This email address is being prot
 ected from spambots. You need JavaScript enabled to view it.
				document.g
 etElementById('cloakbea4b9f2f8dde4a2d9ce910030333fcf').innerHTML = '';
				
 var prefix = '&#109;a' + 'i&#108;' + '&#116;o';
				var path = 'hr' + 'ef' 
 + '=';
				var addybea4b9f2f8dde4a2d9ce910030333fcf = 'c&#111;ns&#101;rv&#9
 7;t&#105;&#111;nch&#97;&#105;r' + '&#64;';
				addybea4b9f2f8dde4a2d9ce9100
 30333fcf = addybea4b9f2f8dde4a2d9ce910030333fcf + 'cnps-scv' + '&#46;' + '&
 #111;rg';
				var addy_textbea4b9f2f8dde4a2d9ce910030333fcf = 'c&#111;ns&#1
 01;rv&#97;t&#105;&#111;nch&#97;&#105;r' + '&#64;' + 'cnps-scv' + '&#46;' + 
 '&#111;rg';document.getElementById('cloakbea4b9f2f8dde4a2d9ce910030333fcf')
 .innerHTML += '<a ' + path + '\'' + prefix + ':' + addybea4b9f2f8dde4a2d9ce
 910030333fcf + '\'>'+addy_textbea4b9f2f8dde4a2d9ce910030333fcf+'';
		. Regu
 lar participants should join the committee email group (https://groups.yaho
 o.com/neo/groups/Livecorps/info).\n
X-ALT-DESC;FMTTYPE=text/html:<p>Our Chapter’s conservation committee (formerly LIVeCoRP - Legislation, I
 nvasives, Conservation, and Rare Plant) meets on the first Thursday of the 
 month at the PCC in Palo Alto. Meetings are open to people who wish to get 
 involved with preserving, protecting, and understanding native species and 
 plant communities throughout our Chapter's area. No experience is necessary
 , only a desire to help retain what remains of our natural heritage. Please
  join us in our important work! For questions, comments or concerns, please
  contact Conservation Chair Linda Ruthruff at <span id="cloakbea4b9f2f8dde4
 a2d9ce910030333fcf">This email address is being protected from spambots. Yo
 u need JavaScript enabled to view it.</span><script type='text/javascript'>
 
				document.getElementById('cloakbea4b9f2f8dde4a2d9ce910030333fcf').inner
 HTML = '';
				var prefix = '&#109;a' + 'i&#108;' + '&#116;o';
				var path
  = 'hr' + 'ef' + '=';
				var addybea4b9f2f8dde4a2d9ce910030333fcf = 'c&#11
 1;ns&#101;rv&#97;t&#105;&#111;nch&#97;&#105;r' + '&#64;';
				addybea4b9f2f
 8dde4a2d9ce910030333fcf = addybea4b9f2f8dde4a2d9ce910030333fcf + 'cnps-scv'
  + '&#46;' + '&#111;rg';
				var addy_textbea4b9f2f8dde4a2d9ce910030333fcf 
 = 'c&#111;ns&#101;rv&#97;t&#105;&#111;nch&#97;&#105;r' + '&#64;' + 'cnps-sc
 v' + '&#46;' + '&#111;rg';document.getElementById('cloakbea4b9f2f8dde4a2d9c
 e910030333fcf').innerHTML += '<a ' + path + '\'' + prefix + ':' + addybea4b
 9f2f8dde4a2d9ce910030333fcf + '\'>'+addy_textbea4b9f2f8dde4a2d9ce910030333f
 cf+'<\/a>';
		</script>. Regular participants should join the <a href="http
 s://groups.yahoo.com/neo/groups/Livecorps/info">committee email group</a>.<
 /p>
DTSTAMP:20260422T135854
DTSTART;TZID=America/Tijuana:20160602T190000
DTEND;TZID=America/Tijuana:20160602T210000
SEQUENCE:0
TRANSP:OPAQUE
END:VEVENT
END:VCALENDAR