BEGIN:VCALENDAR
VERSION:2.0
PRODID:-//jEvents 2.0 for Joomla//EN
CALSCALE:GREGORIAN
METHOD:PUBLISH
BEGIN:VTIMEZONE
TZID:America/Tijuana
BEGIN:STANDARD
DTSTART:20231105T010000
RDATE:20240310T030000
TZOFFSETFROM:-0700
TZOFFSETTO:-0800
TZNAME:America/Tijuana PST
END:STANDARD
BEGIN:STANDARD
DTSTART:20241103T010000
RDATE:20250309T030000
TZOFFSETFROM:-0700
TZOFFSETTO:-0800
TZNAME:America/Tijuana PST
END:STANDARD
BEGIN:STANDARD
DTSTART:20251102T010000
RDATE:20260308T030000
TZOFFSETFROM:-0700
TZOFFSETTO:-0800
TZNAME:America/Tijuana PST
END:STANDARD
BEGIN:STANDARD
DTSTART:20261101T010000
RDATE:20270314T030000
TZOFFSETFROM:-0700
TZOFFSETTO:-0800
TZNAME:America/Tijuana PST
END:STANDARD
BEGIN:STANDARD
DTSTART:20271107T010000
RDATE:20280312T030000
TZOFFSETFROM:-0700
TZOFFSETTO:-0800
TZNAME:America/Tijuana PST
END:STANDARD
BEGIN:DAYLIGHT
DTSTART:20230411T190000
RDATE:20231105T010000
TZOFFSETFROM:-0800
TZOFFSETTO:-0700
TZNAME:America/Tijuana PDT
END:DAYLIGHT
BEGIN:DAYLIGHT
DTSTART:20240310T030000
RDATE:20241103T010000
TZOFFSETFROM:-0800
TZOFFSETTO:-0700
TZNAME:America/Tijuana PDT
END:DAYLIGHT
BEGIN:DAYLIGHT
DTSTART:20250309T030000
RDATE:20251102T010000
TZOFFSETFROM:-0800
TZOFFSETTO:-0700
TZNAME:America/Tijuana PDT
END:DAYLIGHT
BEGIN:DAYLIGHT
DTSTART:20260308T030000
RDATE:20261101T010000
TZOFFSETFROM:-0800
TZOFFSETTO:-0700
TZNAME:America/Tijuana PDT
END:DAYLIGHT
BEGIN:DAYLIGHT
DTSTART:20270314T030000
RDATE:20271107T010000
TZOFFSETFROM:-0800
TZOFFSETTO:-0700
TZNAME:America/Tijuana PDT
END:DAYLIGHT
END:VTIMEZONE
BEGIN:VEVENT
UID:5d58adf8f9ce18103c614f7255cffe19RR3428
CATEGORIES:Meetings
CREATED:20240229T083922
SUMMARY:CNPS SCV Board Meeting
LOCATION:Zoom
DESCRIPTION:CNPS SCV Board meetings are open to all members. The meetings start at 7pm,
  and are generally held on the third or fourth Thursday of the month on Zoo
 m. \nIf you would like to attend the meeting, please contact the President,
  Radhika Thekkath at This email address is being protected from spambots. Y
 ou need JavaScript enabled to view it.
				document.getElementById('cloak38
 d049af1b507255a4364f287002ffce').innerHTML = '';
				var prefix = '&#109;a'
  + 'i&#108;' + '&#116;o';
				var path = 'hr' + 'ef' + '=';
				var addy38d
 049af1b507255a4364f287002ffce = 'pr&#101;s&#105;d&#101;nt' + '&#64;';
				a
 ddy38d049af1b507255a4364f287002ffce = addy38d049af1b507255a4364f287002ffce 
 + 'cnps-scv' + '&#46;' + '&#111;rg';
				var addy_text38d049af1b507255a4364
 f287002ffce = 'pr&#101;s&#105;d&#101;nt' + '&#64;' + 'cnps-scv' + '&#46;' +
  '&#111;rg';document.getElementById('cloak38d049af1b507255a4364f287002ffce'
 ).innerHTML += '<a ' + path + '\'' + prefix + ':' + addy38d049af1b507255a43
 64f287002ffce + '\'>'+addy_text38d049af1b507255a4364f287002ffce+'';
		.\n
X-ALT-DESC;FMTTYPE=text/html:<div class="jev_evdt_desc" style="margin: 0px; padding: 0px 0px 10px; borde
 r: none; vertical-align: top; line-height: 18px; color: #336633; font-famil
 y: 'Segoe UI', Arial, Helvetica, sans-serif; font-size: 12px;"><p style="ma
 rgin: 15px 0px; padding: 0px; border: none; line-height: 1.5em;">CNPS SCV B
 oard meetings are open to all members. The meetings start at 7pm, and are g
 enerally held on the third or fourth Thursday of the month on Zoom. </p><p>
 If you would like to attend the meeting, please contact the President, Radh
 ika Thekkath at <span id="cloak38d049af1b507255a4364f287002ffce">This email
  address is being protected from spambots. You need JavaScript enabled to v
 iew it.</span><script type='text/javascript'>
				document.getElementById('
 cloak38d049af1b507255a4364f287002ffce').innerHTML = '';
				var prefix = '&
 #109;a' + 'i&#108;' + '&#116;o';
				var path = 'hr' + 'ef' + '=';
				var 
 addy38d049af1b507255a4364f287002ffce = 'pr&#101;s&#105;d&#101;nt' + '&#64;'
 ;
				addy38d049af1b507255a4364f287002ffce = addy38d049af1b507255a4364f2870
 02ffce + 'cnps-scv' + '&#46;' + '&#111;rg';
				var addy_text38d049af1b5072
 55a4364f287002ffce = 'pr&#101;s&#105;d&#101;nt' + '&#64;' + 'cnps-scv' + '&
 #46;' + '&#111;rg';document.getElementById('cloak38d049af1b507255a4364f2870
 02ffce').innerHTML += '<a ' + path + '\'' + prefix + ':' + addy38d049af1b50
 7255a4364f287002ffce + '\'>'+addy_text38d049af1b507255a4364f287002ffce+'<\/
 a>';
		</script>.</p></div>
DTSTAMP:20260423T152707
DTSTART;TZID=America/Tijuana:20240411T190000
DTEND;TZID=America/Tijuana:20240411T210000
SEQUENCE:0
TRANSP:OPAQUE
END:VEVENT
END:VCALENDAR