BEGIN:VCALENDAR
VERSION:2.0
PRODID:-//jEvents 2.0 for Joomla//EN
CALSCALE:GREGORIAN
METHOD:PUBLISH
BEGIN:VTIMEZONE
TZID:America/Tijuana
BEGIN:STANDARD
DTSTART:20231105T010000
RDATE:20240310T030000
TZOFFSETFROM:-0700
TZOFFSETTO:-0800
TZNAME:America/Tijuana PST
END:STANDARD
BEGIN:STANDARD
DTSTART:20241103T010000
RDATE:20250309T030000
TZOFFSETFROM:-0700
TZOFFSETTO:-0800
TZNAME:America/Tijuana PST
END:STANDARD
BEGIN:STANDARD
DTSTART:20251102T010000
RDATE:20260308T030000
TZOFFSETFROM:-0700
TZOFFSETTO:-0800
TZNAME:America/Tijuana PST
END:STANDARD
BEGIN:STANDARD
DTSTART:20261101T010000
RDATE:20270314T030000
TZOFFSETFROM:-0700
TZOFFSETTO:-0800
TZNAME:America/Tijuana PST
END:STANDARD
BEGIN:STANDARD
DTSTART:20271107T010000
RDATE:20280312T030000
TZOFFSETFROM:-0700
TZOFFSETTO:-0800
TZNAME:America/Tijuana PST
END:STANDARD
BEGIN:DAYLIGHT
DTSTART:20230714T100000
RDATE:20231105T010000
TZOFFSETFROM:-0800
TZOFFSETTO:-0700
TZNAME:America/Tijuana PDT
END:DAYLIGHT
BEGIN:DAYLIGHT
DTSTART:20240310T030000
RDATE:20241103T010000
TZOFFSETFROM:-0800
TZOFFSETTO:-0700
TZNAME:America/Tijuana PDT
END:DAYLIGHT
BEGIN:DAYLIGHT
DTSTART:20250309T030000
RDATE:20251102T010000
TZOFFSETFROM:-0800
TZOFFSETTO:-0700
TZNAME:America/Tijuana PDT
END:DAYLIGHT
BEGIN:DAYLIGHT
DTSTART:20260308T030000
RDATE:20261101T010000
TZOFFSETFROM:-0800
TZOFFSETTO:-0700
TZNAME:America/Tijuana PDT
END:DAYLIGHT
BEGIN:DAYLIGHT
DTSTART:20270314T030000
RDATE:20271107T010000
TZOFFSETFROM:-0800
TZOFFSETTO:-0700
TZNAME:America/Tijuana PDT
END:DAYLIGHT
END:VTIMEZONE
BEGIN:VEVENT
UID:5b7c0977df61b0cfd902697b7583a694
CATEGORIES:Field Trips
CREATED:20240625T160326
SUMMARY:Sanborn County Park Hike (Saratoga)
LOCATION:Sanborn County Park Hike (Saratoga)
DESCRIPTION:<div class="page" title="Page 9"><div class="layoutArea"><div class="column
 "><p>Enjoy the pristine trails of Sanborn Park on July 14 with Tom Lee. We 
 will hike through a lushly wooded park with redwood and tanbark oak trees. 
 This hike will be about 2 miles long with an elevation gain of 250 feet. Th
 e trail starts with an easy climb and continues until we reach Welch House.
  Then we’ll retrace our steps back to the trailhead. The historic Welch-Hur
 st house was built in 1892 as a gentleman’s working ranch and family retrea
 t. In later years it became a hostel until its closure in 2010.</p><div cla
 ss="page" title="Page 9"><div class="layoutArea"><div class="column"><p>Som
 e plants seen in past years during this season include ocean spray, toyon a
 nd wood rose; we may also see red-winged blackbirds.</p><p>We’ll meet at th
 e park entrance off of Sanborn Road. <strong>Hike start time is 10:00am</st
 rong>. There is a park entrance fee of $6 per vehicle. Please bring sturdy 
 shoes, appropriate layering, a hat and lunch.</p><p>To reach Sanborn Park p
 roceed 2 miles west of Saratoga on Hwy. 9 to Sanborn Rd. Turn left on Sanbo
 rn Rd., then travel another mile to the park entrance.</p><p>RSVP is requir
 ed to join the hike. RSVPs will open up one week before the event. No drop-
 ins please and space is limited. See the instructions at the beginning of t
 his Field Trips section to <a href="https://www.meetup.com/California-Nativ
 e-Plant-Society-Santa-Clara-Valley-Chapter/">RSVP on Meetup</a>.</p></div><
 /div></div></div></div></div>
CONTACT:Meetup
DTSTAMP:20260421T000959
DTSTART;TZID=America/Tijuana:20240714T100000
DTEND;TZID=America/Tijuana:20240714T140000
SEQUENCE:0
TRANSP:OPAQUE
END:VEVENT
END:VCALENDAR