BEGIN:VCALENDAR
VERSION:2.0
PRODID:-//jEvents 2.0 for Joomla//EN
CALSCALE:GREGORIAN
METHOD:PUBLISH
BEGIN:VTIMEZONE
TZID:America/Tijuana
BEGIN:STANDARD
DTSTART:20240111T084500
RDATE:20240310T030000
TZOFFSETFROM:-0700
TZOFFSETTO:-0800
TZNAME:America/Tijuana PST
END:STANDARD
BEGIN:STANDARD
DTSTART:20241103T010000
RDATE:20250309T030000
TZOFFSETFROM:-0700
TZOFFSETTO:-0800
TZNAME:America/Tijuana PST
END:STANDARD
BEGIN:STANDARD
DTSTART:20251102T010000
RDATE:20260308T030000
TZOFFSETFROM:-0700
TZOFFSETTO:-0800
TZNAME:America/Tijuana PST
END:STANDARD
BEGIN:STANDARD
DTSTART:20261101T010000
RDATE:20270314T030000
TZOFFSETFROM:-0700
TZOFFSETTO:-0800
TZNAME:America/Tijuana PST
END:STANDARD
BEGIN:STANDARD
DTSTART:20271107T010000
RDATE:20280312T030000
TZOFFSETFROM:-0700
TZOFFSETTO:-0800
TZNAME:America/Tijuana PST
END:STANDARD
BEGIN:DAYLIGHT
DTSTART:20240310T030000
RDATE:20241103T010000
TZOFFSETFROM:-0800
TZOFFSETTO:-0700
TZNAME:America/Tijuana PDT
END:DAYLIGHT
BEGIN:DAYLIGHT
DTSTART:20250309T030000
RDATE:20251102T010000
TZOFFSETFROM:-0800
TZOFFSETTO:-0700
TZNAME:America/Tijuana PDT
END:DAYLIGHT
BEGIN:DAYLIGHT
DTSTART:20260308T030000
RDATE:20261101T010000
TZOFFSETFROM:-0800
TZOFFSETTO:-0700
TZNAME:America/Tijuana PDT
END:DAYLIGHT
BEGIN:DAYLIGHT
DTSTART:20270314T030000
RDATE:20271107T010000
TZOFFSETFROM:-0800
TZOFFSETTO:-0700
TZNAME:America/Tijuana PDT
END:DAYLIGHT
END:VTIMEZONE
BEGIN:VEVENT
UID:f10afd94af88a5285e799d63082bc445
CATEGORIES:Habitat
CREATED:20241227T120907
SUMMARY:Alum Rock Park Restoration
LOCATION:Alum Rock Park\, San Jose
DESCRIPTION:Come help us weed out invasive plants at this natural gem of San Jose. Our 
 habitat restoration efforts allow the native plants to “come to light.”\nOu
 r workdays take place one Saturday morning per month. No experience is nece
 ssary. All tools and instruction will be provided. Please bring a filled wa
 ter bottle and snacks; wear closed-toe shoes and long pants.\nForms and res
 ervations are required to volunteer. Start by visiting the City’s volunteer
  opportunities page at www.sanjoseca.gov/your-government/departments-office
 s/parks-recreation-neighborhood-services/get-involved/volunteer-with-us (ht
 tps://www.sanjoseca.gov/your-government/departments-offices/parks-recreatio
 n-neighborhood-services/get-involved/volunteer-with-us). You will see Alum 
 Rock Park Trail Crew as one of the options.\n
X-ALT-DESC;FMTTYPE=text/html:<div class="page" title="Page 7"><div class="layoutArea"><div class="column
 "><p>Come help us weed out invasive plants at this natural gem of San Jose.
  Our habitat restoration efforts allow the native plants to “come to light.
 ”</p><p>Our workdays take place one <strong>Saturday morning</strong> per m
 onth. No experience is necessary. All tools and instruction will be provide
 d. Please bring a filled water bottle and snacks; wear closed-toe shoes and
  long pants.</p><p>Forms and reservations are required to volunteer. Start 
 by visiting the City’s volunteer opportunities page at <a href="https://www
 .sanjoseca.gov/your-government/departments-offices/parks-recreation-neighbo
 rhood-services/get-involved/volunteer-with-us">www.sanjoseca.gov/your-gover
 nment/departments-offices/parks-recreation-neighborhood-services/get-involv
 ed/volunteer-with-us</a>. You will see Alum Rock Park Trail Crew as one of 
 the options.</p></div></div></div>
CONTACT:Stephen Rosenthal at This email address is being protected from spambots. You need JavaScript enabled to view it.
				document.getElementById('cloak695a9336d0f702f5de79834aec596bbc').innerHTML = '';
				var prefix = '&#109;a' + 'i&#108;' + '&#116;o';
				var path = 'hr' + 'ef' + '=';
				var addy695a9336d0f702f5de79834aec596bbc = 's&#97;&#105;l&#105;nst&#101;v&#101;' + '&#64;';
				addy695a9336d0f702f5de79834aec596bbc = addy695a9336d0f702f5de79834aec596bbc + 'sbcgl&#111;b&#97;l' + '&#46;' + 'n&#101;t';
				var addy_text695a9336d0f702f5de79834aec596bbc = 's&#97;&#105;l&#105;nst&#101;v&#101;' + '&#64;' + 'sbcgl&#111;b&#97;l' + '&#46;' + 'n&#101;t';document.getElementById('cloak695a9336d0f702f5de79834aec596bbc').innerHTML += '<a ' + path + '\'' + prefix + ':' + addy695a9336d0f702f5de79834aec596bbc + '\'>'+addy_text695a9336d0f702f5de79834aec596bbc+'';
		 or (650) 260-3450
DTSTAMP:20260422T135650
DTSTART;TZID=America/Tijuana:20250111T084500
DTEND;TZID=America/Tijuana:20250111T120000
SEQUENCE:0
TRANSP:OPAQUE
END:VEVENT
END:VCALENDAR