BEGIN:VCALENDAR
VERSION:2.0
PRODID:-//jEvents 2.0 for Joomla//EN
CALSCALE:GREGORIAN
METHOD:PUBLISH
BEGIN:VTIMEZONE
TZID:America/Tijuana
BEGIN:STANDARD
DTSTART:20240215T100000
RDATE:20240310T030000
TZOFFSETFROM:-0700
TZOFFSETTO:-0800
TZNAME:America/Tijuana PST
END:STANDARD
BEGIN:STANDARD
DTSTART:20241103T010000
RDATE:20250309T030000
TZOFFSETFROM:-0700
TZOFFSETTO:-0800
TZNAME:America/Tijuana PST
END:STANDARD
BEGIN:STANDARD
DTSTART:20251102T010000
RDATE:20260308T030000
TZOFFSETFROM:-0700
TZOFFSETTO:-0800
TZNAME:America/Tijuana PST
END:STANDARD
BEGIN:STANDARD
DTSTART:20261101T010000
RDATE:20270314T030000
TZOFFSETFROM:-0700
TZOFFSETTO:-0800
TZNAME:America/Tijuana PST
END:STANDARD
BEGIN:STANDARD
DTSTART:20271107T010000
RDATE:20280312T030000
TZOFFSETFROM:-0700
TZOFFSETTO:-0800
TZNAME:America/Tijuana PST
END:STANDARD
BEGIN:DAYLIGHT
DTSTART:20240310T030000
RDATE:20241103T010000
TZOFFSETFROM:-0800
TZOFFSETTO:-0700
TZNAME:America/Tijuana PDT
END:DAYLIGHT
BEGIN:DAYLIGHT
DTSTART:20250309T030000
RDATE:20251102T010000
TZOFFSETFROM:-0800
TZOFFSETTO:-0700
TZNAME:America/Tijuana PDT
END:DAYLIGHT
BEGIN:DAYLIGHT
DTSTART:20260308T030000
RDATE:20261101T010000
TZOFFSETFROM:-0800
TZOFFSETTO:-0700
TZNAME:America/Tijuana PDT
END:DAYLIGHT
BEGIN:DAYLIGHT
DTSTART:20270314T030000
RDATE:20271107T010000
TZOFFSETFROM:-0800
TZOFFSETTO:-0700
TZNAME:America/Tijuana PDT
END:DAYLIGHT
END:VTIMEZONE
BEGIN:VEVENT
UID:34ce147eb27601e3df7fa3feac86b090
CATEGORIES:Field Trips
CREATED:20241227T123331
SUMMARY:Dirca Walk at Windy Hill OSP (Portola Valley)
LOCATION:Portola Valley Town Center\, 765 Portola Road in Portola Valley
DESCRIPTION:<div class="page" title="Page 10"><div class="layoutArea"><div class="colum
 n"><p>Join Rare Plants Chair Don Thomas for a four mile walk to see the one
  of the more accessible populations of the endemic Western leatherwood (<em
 >Dirca occidentalis</em>). We may also see some early emerging woodland pla
 nts in flower.</p><p>There will be some moderate but slow-paced hill climbi
 ng, with a stop for lunch. We will take the Hamm’s Gulch trail to see the <
 em>Dirca</em> near a trailside bench, which will also be our turnaround poi
 nt. Along the way, we will walk through a variety of plant communities, inc
 luding meadows, oak&nbsp;woodland, mixed evergreen forest, redwood forest a
 nd&nbsp;riparian woodland.</p><div class="page" title="Page 11"><div class=
 "layoutArea"><div class="column"><p>Please bring lunch, snacks and liquid. 
 Heavy rain cancels. RSVP is required to join the hike. No drop-ins please a
 nd space is limited. To reserve your spot,&nbsp;please visit our Chapter’s 
 Meetup group, here: <a href="https://www.meetup.com/California-Native-Plant
 -Society-Santa-Clara-Valley-Chapter/">www.meetup.com/California-Native-Plan
 t-Society-Santa- Clara-Valley-Chapter/</a>. We open the RSVPs one week befo
 re the event. Find your event within the group and tap/click the “Attend” b
 utton to reserve your spot.</p><p><span style="caret-color: auto;">We will 
 meet at the Portola Valley Town Center, 765 Portola Road in Portola Valley.
  Driving directions and parking tips are provided on the Meetup page. For q
 uestions or more information, please contact Don at </span><a href="mailto:
 donethomasd@gmail.com."><span id="cloak66151a1ccf2b65068037f776217ae72b">Th
 is email address is being protected from spambots. You need JavaScript enab
 led to view it.</span><script type='text/javascript'>
				document.getEleme
 ntById('cloak66151a1ccf2b65068037f776217ae72b').innerHTML = '';
				var pre
 fix = '&#109;a' + 'i&#108;' + '&#116;o';
				var path = 'hr' + 'ef' + '=';

 				var addy66151a1ccf2b65068037f776217ae72b = 'd&#111;n&#101;th&#111;m&#97
 ;sd' + '&#64;';
				addy66151a1ccf2b65068037f776217ae72b = addy66151a1ccf2b
 65068037f776217ae72b + 'gm&#97;&#105;l' + '&#46;' + 'c&#111;m';
				var add
 y_text66151a1ccf2b65068037f776217ae72b = 'd&#111;n&#101;th&#111;m&#97;sd' +
  '&#64;' + 'gm&#97;&#105;l' + '&#46;' + 'c&#111;m';document.getElementById(
 'cloak66151a1ccf2b65068037f776217ae72b').innerHTML += '<a ' + path + '\'' +
  prefix + ':' + addy66151a1ccf2b65068037f776217ae72b + '\'>'+addy_text66151
 a1ccf2b65068037f776217ae72b+'<\/a>';
		</script>.</a></p></div></div></div>
 </div></div></div>
CONTACT:Don at This email address is being protected from spambots. You need JavaScript enabled to view it.
				document.getElementById('cloakdd8e73702224cbad1bb98435aba366eb').innerHTML = '';
				var prefix = '&#109;a' + 'i&#108;' + '&#116;o';
				var path = 'hr' + 'ef' + '=';
				var addydd8e73702224cbad1bb98435aba366eb = 'd&#111;n&#101;th&#111;m&#97;sd' + '&#64;';
				addydd8e73702224cbad1bb98435aba366eb = addydd8e73702224cbad1bb98435aba366eb + 'gm&#97;&#105;l' + '&#46;' + 'c&#111;m';
				var addy_textdd8e73702224cbad1bb98435aba366eb = 'd&#111;n&#101;th&#111;m&#97;sd' + '&#64;' + 'gm&#97;&#105;l' + '&#46;' + 'c&#111;m';document.getElementById('cloakdd8e73702224cbad1bb98435aba366eb').innerHTML += '<a ' + path + '\'' + prefix + ':' + addydd8e73702224cbad1bb98435aba366eb + '\'>'+addy_textdd8e73702224cbad1bb98435aba366eb+'';
		
DTSTAMP:20260421T131239
DTSTART;TZID=America/Tijuana:20250215T100000
DTEND;TZID=America/Tijuana:20250215T143000
SEQUENCE:0
TRANSP:OPAQUE
END:VEVENT
END:VCALENDAR