BEGIN:VCALENDAR
VERSION:2.0
PRODID:-//jEvents 2.0 for Joomla//EN
CALSCALE:GREGORIAN
METHOD:PUBLISH
BEGIN:VTIMEZONE
TZID:America/Tijuana
BEGIN:STANDARD
DTSTART:20241103T010000
RDATE:20250309T030000
TZOFFSETFROM:-0700
TZOFFSETTO:-0800
TZNAME:America/Tijuana PST
END:STANDARD
BEGIN:STANDARD
DTSTART:20251102T010000
RDATE:20260308T030000
TZOFFSETFROM:-0700
TZOFFSETTO:-0800
TZNAME:America/Tijuana PST
END:STANDARD
BEGIN:STANDARD
DTSTART:20261101T010000
RDATE:20270314T030000
TZOFFSETFROM:-0700
TZOFFSETTO:-0800
TZNAME:America/Tijuana PST
END:STANDARD
BEGIN:STANDARD
DTSTART:20271107T010000
RDATE:20280312T030000
TZOFFSETFROM:-0700
TZOFFSETTO:-0800
TZNAME:America/Tijuana PST
END:STANDARD
BEGIN:DAYLIGHT
DTSTART:20240408T100000
RDATE:20241103T010000
TZOFFSETFROM:-0800
TZOFFSETTO:-0700
TZNAME:America/Tijuana PDT
END:DAYLIGHT
BEGIN:DAYLIGHT
DTSTART:20250309T030000
RDATE:20251102T010000
TZOFFSETFROM:-0800
TZOFFSETTO:-0700
TZNAME:America/Tijuana PDT
END:DAYLIGHT
BEGIN:DAYLIGHT
DTSTART:20260308T030000
RDATE:20261101T010000
TZOFFSETFROM:-0800
TZOFFSETTO:-0700
TZNAME:America/Tijuana PDT
END:DAYLIGHT
BEGIN:DAYLIGHT
DTSTART:20270314T030000
RDATE:20271107T010000
TZOFFSETFROM:-0800
TZOFFSETTO:-0700
TZNAME:America/Tijuana PDT
END:DAYLIGHT
END:VTIMEZONE
BEGIN:VEVENT
UID:d6dca98a788a4389a763172e4ffcb604
CATEGORIES:Field Trips
CREATED:20250225T204025
SUMMARY:Coyote Lake Harvey Bear Ranch County Park (Gilroy)
LOCATION:Coyote Lake Harvey Bear Ranch County Park (Gilroy)
DESCRIPTION:Join Judy Fenerty and Stella Yang for a moderately paced hike on the Mendoz
 a, Mummy Mountain and Coyote Ridge trails in the Mendoza Ranch section of C
 oyote Lake-Harvey Bear Ranch County Park.\nThis 4-mile, 400+ foot elevation
  gain hike will take us through valley grasslands and up an oak-studded rid
 geline with spectacular views of the south Santa Clara Valley, Coyote Lake 
 and Palassou Ridge. This varied habitat supports a wide range of native pla
 nts including several stands of big-scale balsamroot, Balsamorhiza macrolep
 is var. macrolepis, a CNPS 1B.2 rare plant. If there’s time and interest, w
 e can add an optional foray to check out the serpentine area on the Calaver
 as Trail.\nPlease bring lunch, snacks and plenty of water. Heavy rain cance
 ls.\nRSVP is required to join us for the walk. No drop-ins please, and spac
 e is limited.\nTo register, visit our Chapter’s Meetup page, here: www.meet
 up.com/California-Native-Plant-Society-Santa-Clara-Valley-Chapter/ (https:/
 /www.meetup.com/California-Native-Plant-Society-Santa-Clara-Valley-Chapter/
 ). We open the RSVPs one week before the event. Find your event within the 
 page and tap/click the “Attend” button to reserve your spot.  Driving direc
 tions are provided on Meetup.\nFor more information contact Judy Fenerty at
  This email address is being protected from spambots. You need JavaScript e
 nabled to view it.
				document.getElementById('cloak9d810069a19d0e879d3198
 a1e95e617e').innerHTML = '';
				var prefix = '&amp;#109;a' + 'i&amp;#108;'
  + '&amp;#116;o';
				var path = 'hr' + 'ef' + '=';
				var addy9d810069a19
 d0e879d3198a1e95e617e = 'j&amp;#117;dy' + '&amp;#64;';
				addy9d810069a19d
 0e879d3198a1e95e617e = addy9d810069a19d0e879d3198a1e95e617e + 'f&amp;#101;n
 &amp;#101;rty' + '&amp;#46;' + 'c&amp;#111;m';
				var addy_text9d810069a19
 d0e879d3198a1e95e617e = 'j&amp;#117;dy' + '&amp;#64;' + 'f&amp;#101;n&amp;#
 101;rty' + '&amp;#46;' + 'c&amp;#111;m';document.getElementById('cloak9d810
 069a19d0e879d3198a1e95e617e').innerHTML += '&lt;a ' + path + '\'' + prefix 
 + ':' + addy9d810069a19d0e879d3198a1e95e617e + '\'&gt;'+addy_text9d810069a1
 9d0e879d3198a1e95e617e+'&lt;\/a&gt;';
		. (mailto:judy@fenerty.com.)\n
X-ALT-DESC;FMTTYPE=text/html:<p class="p1">Join Judy Fenerty and Stella Yang for a moderately paced&nbsp
 ;hike on the Mendoza, Mummy Mountain and Coyote Ridge&nbsp;trails in the Me
 ndoza Ranch section of Coyote Lake-Harvey Bear Ranch County Park.</p><p cla
 ss="p1">This 4-mile, 400+ foot elevation gain hike will take us&nbsp;throug
 h valley grasslands and up an oak-studded ridgeline&nbsp;with spectacular v
 iews of the south Santa Clara Valley,&nbsp;Coyote Lake and Palassou Ridge. 
 This varied habitat&nbsp;supports a wide range of native plants including s
 everal&nbsp;stands of big-scale balsamroot, <i>Balsamorhiza macrolepis&nbsp
 ;</i>var<i>. macrolepis</i>, a CNPS 1B.2 rare plant. If there’s time&nbsp;a
 nd interest, we can add an optional foray to check out the&nbsp;serpentine 
 area on the Calaveras Trail.</p><p class="p1">Please bring lunch, snacks&nb
 sp;and plenty of water. Heavy&nbsp;rain cancels.</p><p class="p1">RSVP is r
 equired to join us&nbsp;for the walk. No drop-ins&nbsp;please, and space is
  limited.</p><p class="p1">To register,&nbsp;visit our Chapter’s <b>Meetup 
 page</b>, here:&nbsp;<a href="https://www.meetup.com/California-Native-Plan
 t-Society-Santa-Clara-Valley-Chapter/">www.meetup.com/California-Native-Pla
 nt-Society-Santa-Clara-Valley-Chapter/</a>. <b>We open the RSVPs one week&n
 bsp;</b><b>before the event</b>. Find your event within the page and&nbsp;t
 ap/click the “Attend” button to reserve your spot.&nbsp; <b>Driving&nbsp;</
 b><b>directions</b> are provided on&nbsp;Meetup.</p><p class="p1">For more 
 information&nbsp;contact Judy Fenerty at&nbsp;<a href="mailto:judy@fenerty.
 com."><span id="cloak9d810069a19d0e879d3198a1e95e617e">This email address i
 s being protected from spambots. You need JavaScript enabled to view it.</s
 pan><script type='text/javascript'>
				document.getElementById('cloak9d810
 069a19d0e879d3198a1e95e617e').innerHTML = '';
				var prefix = '&#109;a' + 
 'i&#108;' + '&#116;o';
				var path = 'hr' + 'ef' + '=';
				var addy9d8100
 69a19d0e879d3198a1e95e617e = 'j&#117;dy' + '&#64;';
				addy9d810069a19d0e8
 79d3198a1e95e617e = addy9d810069a19d0e879d3198a1e95e617e + 'f&#101;n&#101;r
 ty' + '&#46;' + 'c&#111;m';
				var addy_text9d810069a19d0e879d3198a1e95e61
 7e = 'j&#117;dy' + '&#64;' + 'f&#101;n&#101;rty' + '&#46;' + 'c&#111;m';doc
 ument.getElementById('cloak9d810069a19d0e879d3198a1e95e617e').innerHTML += 
 '<a ' + path + '\'' + prefix + ':' + addy9d810069a19d0e879d3198a1e95e617e +
  '\'>'+addy_text9d810069a19d0e879d3198a1e95e617e+'<\/a>';
		</script>.</a><
 /p>
CONTACT:Judy Fenerty at This email address is being protected from spambots. You need JavaScript enabled to view it.
				document.getElementById('cloakc336cd0e51953e32bfb80793b35c4b61').innerHTML = '';
				var prefix = '&#109;a' + 'i&#108;' + '&#116;o';
				var path = 'hr' + 'ef' + '=';
				var addyc336cd0e51953e32bfb80793b35c4b61 = 'j&#117;dy' + '&#64;';
				addyc336cd0e51953e32bfb80793b35c4b61 = addyc336cd0e51953e32bfb80793b35c4b61 + 'f&#101;n&#101;rty' + '&#46;' + 'c&#111;m';
				var addy_textc336cd0e51953e32bfb80793b35c4b61 = 'j&#117;dy' + '&#64;' + 'f&#101;n&#101;rty' + '&#46;' + 'c&#111;m';document.getElementById('cloakc336cd0e51953e32bfb80793b35c4b61').innerHTML += '<a ' + path + '\'' + prefix + ':' + addyc336cd0e51953e32bfb80793b35c4b61 + '\'>'+addy_textc336cd0e51953e32bfb80793b35c4b61+'';
		
DTSTAMP:20260423T015731
DTSTART;TZID=America/Tijuana:20250409T100000
DTEND;TZID=America/Tijuana:20250409T140000
SEQUENCE:0
TRANSP:OPAQUE
END:VEVENT
END:VCALENDAR