BEGIN:VCALENDAR
VERSION:2.0
PRODID:-//jEvents 2.0 for Joomla//EN
CALSCALE:GREGORIAN
METHOD:PUBLISH
BEGIN:VTIMEZONE
TZID:America/Tijuana
BEGIN:STANDARD
DTSTART:20241103T010000
RDATE:20250309T030000
TZOFFSETFROM:-0700
TZOFFSETTO:-0800
TZNAME:America/Tijuana PST
END:STANDARD
BEGIN:STANDARD
DTSTART:20251102T010000
RDATE:20260308T030000
TZOFFSETFROM:-0700
TZOFFSETTO:-0800
TZNAME:America/Tijuana PST
END:STANDARD
BEGIN:STANDARD
DTSTART:20261101T010000
RDATE:20270314T030000
TZOFFSETFROM:-0700
TZOFFSETTO:-0800
TZNAME:America/Tijuana PST
END:STANDARD
BEGIN:STANDARD
DTSTART:20271107T010000
RDATE:20280312T030000
TZOFFSETFROM:-0700
TZOFFSETTO:-0800
TZNAME:America/Tijuana PST
END:STANDARD
BEGIN:DAYLIGHT
DTSTART:20240418T120000
RDATE:20241103T010000
TZOFFSETFROM:-0800
TZOFFSETTO:-0700
TZNAME:America/Tijuana PDT
END:DAYLIGHT
BEGIN:DAYLIGHT
DTSTART:20250309T030000
RDATE:20251102T010000
TZOFFSETFROM:-0800
TZOFFSETTO:-0700
TZNAME:America/Tijuana PDT
END:DAYLIGHT
BEGIN:DAYLIGHT
DTSTART:20260308T030000
RDATE:20261101T010000
TZOFFSETFROM:-0800
TZOFFSETTO:-0700
TZNAME:America/Tijuana PDT
END:DAYLIGHT
BEGIN:DAYLIGHT
DTSTART:20270314T030000
RDATE:20271107T010000
TZOFFSETFROM:-0800
TZOFFSETTO:-0700
TZNAME:America/Tijuana PDT
END:DAYLIGHT
END:VTIMEZONE
BEGIN:VEVENT
UID:926cd3f001ebb35307b28b7735784766
CATEGORIES:Field Trips
CREATED:20250319T094649
SUMMARY:Vernal Pool Wildflower Tours in Fremont
LOCATION:Fremont
DESCRIPTION:<p>The California Native Plant Society and the&nbsp;Don Edwards San Francis
 co Bay National Wildlife Refuge&nbsp;are pleased to present the&nbsp;<b>Dis
 cover the Vernal Pool Grassland in Your Own Backyard</b>&nbsp;wildflower to
 urs at the Warm Springs Unit in Fremont. A spring and an early summer tour 
 highlight the many unique plants of the South Bay's largest vernal pool gra
 ssland.</p><p><strong>These tours are for CNPS members only.</strong>&nbsp;
 If you are interested in joining a tour, please contact Aidona Kakouros at&
 nbsp;<b><span id="yiv7286615247gmail-cloak01575a472193226f1d8be29aa8ec5aa5"
 ><a href="mailto:aidona_kakouros@fws.gov" target="_blank" rel="nofollow noo
 pener noreferrer"></a><span id="cloak5d7de49818ba9aaf40ce9c1a552ba641">This
  email address is being protected from spambots. You need JavaScript enable
 d to view it.</span><script type='text/javascript'>
				document.getElement
 ById('cloak5d7de49818ba9aaf40ce9c1a552ba641').innerHTML = '';
				var prefi
 x = '&#109;a' + 'i&#108;' + '&#116;o';
				var path = 'hr' + 'ef' + '=';
		
 		var addy5d7de49818ba9aaf40ce9c1a552ba641 = '&#97;&#105;d&#111;n&#97;_k&#9
 7;k&#111;&#117;r&#111;s' + '&#64;';
				addy5d7de49818ba9aaf40ce9c1a552ba64
 1 = addy5d7de49818ba9aaf40ce9c1a552ba641 + 'fws' + '&#46;' + 'g&#111;v';
		
 		var addy_text5d7de49818ba9aaf40ce9c1a552ba641 = '&#97;&#105;d&#111;n&#97;
 _k&#97;k&#111;&#117;r&#111;s' + '&#64;' + 'fws' + '&#46;' + 'g&#111;v';docu
 ment.getElementById('cloak5d7de49818ba9aaf40ce9c1a552ba641').innerHTML += '
 <a ' + path + '\'' + prefix + ':' + addy5d7de49818ba9aaf40ce9c1a552ba641 + 
 '\'>'+addy_text5d7de49818ba9aaf40ce9c1a552ba641+'<\/a>';
		</script></span>
 </b>&nbsp;to register.&nbsp; Please indicate in your email:</p><p><b>1)&nbs
 p;</b>which of the tours you are interested in,&nbsp;<b>2)&nbsp;</b>how man
 y guests you are bringing,<b>&nbsp;3)&nbsp;</b>your CNPS Chapter, and<b>&nb
 sp;4)&nbsp;</b>preferred email to send directions and any other notificatio
 ns related to the event you are interested in.&nbsp; Directions to the meet
 ing site will be provided nearer to the event date. Space is limited.</p><p
 ><strong>“Kaleidoscopic” Vernal pool blooms tour, Saturday, April 19, 2025,
  12:00pm to 3:30pm&nbsp;</strong></p><p>View rings of colorful blooms and p
 ools fi lled with a tapestry of fl oral textures. We'll see species endemic
  to vernal pools such as the federally-endangered Contra Costa goldfi elds 
 (<em>Lasthenia conjugens</em>) and its Downingia partner at Warm Springs, f
 l atface calicofl ower (D. <em>pulchella</em>). Other botanical beauties in
 clude stalked popcornfl ower (<em>Plagiobothrys stipitatus</em>), the rare 
 vernal pincushion plant (<em>Navarretia prostrata</em>), California eryngo 
 (<em>Eryngium aristulatum</em> var. <em>hooveri</em>), and many more.</p><p
 ><b><strong>“Power to the Pollinators” Summer Native Plant Community Tour, 
 Saturday, June 21, 9:00am to 12:30pm</strong></b></p><p>At this time of yea
 r, the dry pools are dotted with saline tolerant, warm-season perennials su
 ch as alkali heliotrope (<em>Heliotropium curassavicum</em>), alkali mallow
  (<em>Malvella leprosa</em>) and alkali weed (<em>Cressa truxillensis</em>)
 . Super bloomers like common spikeweed (<em>Centromadia pungens</em>) and a
 lkali heath (<em>Frankenia salina</em>) display masses of fl owers, providi
 ng important sources of nectar to pollinators. We’ll also seek out rare or 
 unusual plants including Congdon's tarplant (<em>Centromadia parryi</em> ss
 p. <em>congdonii</em>), San Joaquin spearscale (<em>Extriplex joaquinana</e
 m>) and Atriplex species.</p>
CONTACT:Aidona Kakouros at This email address is being protected from spambots. You need JavaScript enabled to view it.
				document.getElementById('cloak875e3e0ba197c9b137250355828893e1').innerHTML = '';
				var prefix = '&#109;a' + 'i&#108;' + '&#116;o';
				var path = 'hr' + 'ef' + '=';
				var addy875e3e0ba197c9b137250355828893e1 = '&#97;&#105;d&#111;n&#97;_k&#97;k&#111;&#117;r&#111;s' + '&#64;';
				addy875e3e0ba197c9b137250355828893e1 = addy875e3e0ba197c9b137250355828893e1 + 'fws' + '&#46;' + 'g&#111;v';
				var addy_text875e3e0ba197c9b137250355828893e1 = '&#97;&#105;d&#111;n&#97;_k&#97;k&#111;&#117;r&#111;s' + '&#64;' + 'fws' + '&#46;' + 'g&#111;v';document.getElementById('cloak875e3e0ba197c9b137250355828893e1').innerHTML += '<a ' + path + '\'' + prefix + ':' + addy875e3e0ba197c9b137250355828893e1 + '\'>'+addy_text875e3e0ba197c9b137250355828893e1+'';
		 
DTSTAMP:20260424T041832
DTSTART;TZID=America/Tijuana:20250419T120000
DTEND;TZID=America/Tijuana:20250419T153000
SEQUENCE:0
TRANSP:OPAQUE
END:VEVENT
END:VCALENDAR