BEGIN:VCALENDAR
VERSION:2.0
PRODID:-//jEvents 2.0 for Joomla//EN
CALSCALE:GREGORIAN
METHOD:PUBLISH
BEGIN:VTIMEZONE
TZID:America/Tijuana
BEGIN:STANDARD
DTSTART:20241103T010000
RDATE:20250309T030000
TZOFFSETFROM:-0700
TZOFFSETTO:-0800
TZNAME:America/Tijuana PST
END:STANDARD
BEGIN:STANDARD
DTSTART:20251102T010000
RDATE:20260308T030000
TZOFFSETFROM:-0700
TZOFFSETTO:-0800
TZNAME:America/Tijuana PST
END:STANDARD
BEGIN:STANDARD
DTSTART:20261101T010000
RDATE:20270314T030000
TZOFFSETFROM:-0700
TZOFFSETTO:-0800
TZNAME:America/Tijuana PST
END:STANDARD
BEGIN:STANDARD
DTSTART:20271107T010000
RDATE:20280312T030000
TZOFFSETFROM:-0700
TZOFFSETTO:-0800
TZNAME:America/Tijuana PST
END:STANDARD
BEGIN:DAYLIGHT
DTSTART:20240526T000000
RDATE:20241103T010000
TZOFFSETFROM:-0800
TZOFFSETTO:-0700
TZNAME:America/Tijuana PDT
END:DAYLIGHT
BEGIN:DAYLIGHT
DTSTART:20250309T030000
RDATE:20251102T010000
TZOFFSETFROM:-0800
TZOFFSETTO:-0700
TZNAME:America/Tijuana PDT
END:DAYLIGHT
BEGIN:DAYLIGHT
DTSTART:20260308T030000
RDATE:20261101T010000
TZOFFSETFROM:-0800
TZOFFSETTO:-0700
TZNAME:America/Tijuana PDT
END:DAYLIGHT
BEGIN:DAYLIGHT
DTSTART:20270314T030000
RDATE:20271107T010000
TZOFFSETFROM:-0800
TZOFFSETTO:-0700
TZNAME:America/Tijuana PDT
END:DAYLIGHT
END:VTIMEZONE
BEGIN:VEVENT
UID:406d38ed141d8973fe4e504dd58eb2e8
CATEGORIES:Nursery
CREATED:20250419T035329
SUMMARY:Online Native Plant Sale
LOCATION:CNPS SCV Nursery or Peninsula Conservation Center\, 3921 E. Bayshore Road i
 n Palo Alto
DESCRIPTION:<p class="p1">Our CNPS SCV nursery is having an online plant sale at&nbsp;<
 a href="https://california-native-plant-society-santa-clara-valley-chapter.
 square.site">california-native-plant-society-santa-clara-valley-chapter.squ
 are.site</a>, <b>starting Tuesday, May 27.</b> The store&nbsp;will close wh
 en we reach our pickup capacity or at the <b>end&nbsp;</b><b>of the day on 
 Wednesday, May 28</b> – whichever comes&nbsp;first.</p><p class="p1">In add
 ition to plants, the nursery’s online store includes&nbsp;books, labels and
  plant signs. <b>There is a minimum order&nbsp;</b><b>of $40</b>.</p><p cla
 ss="p1">Pick your plants up with a <i>scheduled</i> pickup at the CNPS&nbsp
 ;SCV Nursery on <b>Friday, May 30 </b>or the Exchange at the&nbsp;Peninsula
  Conservation Center on <b>Saturday, May 31</b>. No&nbsp;drop-in pickups or
  sales.</p><p class="p1">The CNPS SCV Nursery is located at&nbsp;26870 Mood
 y Road in Los Altos Hills. The Peninsula Conservation Center is located at 
 <span class="s1">3921 E.&nbsp;</span><span class="s1">Bayshore Road in Palo
  Alto</span>. The meeting rooms are on the first floor.&nbsp;</p>
DTSTAMP:20260424T041941
DTSTART;TZID=America/Tijuana;VALUE=DATE:20250527
DTEND;TZID=America/Tijuana;VALUE=DATE:20250529
SEQUENCE:0
TRANSP:OPAQUE
END:VEVENT
END:VCALENDAR