BEGIN:VCALENDAR
VERSION:2.0
PRODID:-//jEvents 2.0 for Joomla//EN
CALSCALE:GREGORIAN
METHOD:PUBLISH
BEGIN:VTIMEZONE
TZID:America/Tijuana
BEGIN:STANDARD
DTSTART:20241103T010000
RDATE:20250309T030000
TZOFFSETFROM:-0700
TZOFFSETTO:-0800
TZNAME:America/Tijuana PST
END:STANDARD
BEGIN:STANDARD
DTSTART:20251102T010000
RDATE:20260308T030000
TZOFFSETFROM:-0700
TZOFFSETTO:-0800
TZNAME:America/Tijuana PST
END:STANDARD
BEGIN:STANDARD
DTSTART:20261101T010000
RDATE:20270314T030000
TZOFFSETFROM:-0700
TZOFFSETTO:-0800
TZNAME:America/Tijuana PST
END:STANDARD
BEGIN:STANDARD
DTSTART:20271107T010000
RDATE:20280312T030000
TZOFFSETFROM:-0700
TZOFFSETTO:-0800
TZNAME:America/Tijuana PST
END:STANDARD
BEGIN:DAYLIGHT
DTSTART:20240723T190000
RDATE:20241103T010000
TZOFFSETFROM:-0800
TZOFFSETTO:-0700
TZNAME:America/Tijuana PDT
END:DAYLIGHT
BEGIN:DAYLIGHT
DTSTART:20250309T030000
RDATE:20251102T010000
TZOFFSETFROM:-0800
TZOFFSETTO:-0700
TZNAME:America/Tijuana PDT
END:DAYLIGHT
BEGIN:DAYLIGHT
DTSTART:20260308T030000
RDATE:20261101T010000
TZOFFSETFROM:-0800
TZOFFSETTO:-0700
TZNAME:America/Tijuana PDT
END:DAYLIGHT
BEGIN:DAYLIGHT
DTSTART:20270314T030000
RDATE:20271107T010000
TZOFFSETFROM:-0800
TZOFFSETTO:-0700
TZNAME:America/Tijuana PDT
END:DAYLIGHT
END:VTIMEZONE
BEGIN:VEVENT
UID:88d11779e4463817363acaeba1ec0457
CATEGORIES:Native Plant Talks
CREATED:20250627T212755
SUMMARY:Get Inspired! Maintain a Native Plant Garden, A Talk by Stephanie Morris
LOCATION:Cupertino Library Community Room (Second Floor)\, 10800 Torre Ave.\, Cupert
 ino
DESCRIPTION:<p class="p1">If you’ve wanted to learn how to maintain native plants,&nbsp
 ;this talk is for you! Come get inspired and learn how to do&nbsp;it yourse
 lf. The talk will include pruning guidelines for&nbsp;native plants, inform
 ation on the time of year to prune,&nbsp;strategies for weed control, an ov
 erview of basic irrigation&nbsp;scheduling and a few favorite tools used in
  maintenance.</p><p class="p1">This is the third talk in a three-part serie
 s. The previous&nbsp;two talks are available on the Chapter’s YouTube chann
 el.&nbsp;The first was in March and covered design basics and the&nbsp;seco
 nd was in May and covered installation basics.</p><p class="p1"><b>Stephani
 e Morris </b>has been designing California native&nbsp;plant gardens since 
 1999 in the Bay Area. Her goal is to&nbsp;design creative, beautiful landsc
 apes that are ecologically&nbsp;oriented and practical. Areas of particular
  focus include&nbsp;suggesting plants for pollinators, converting lawns to&
 nbsp;drought tolerant plants, incorporating California native&nbsp;plants w
 ithin existing gardens and combining edible plants&nbsp;with native plant g
 ardens.</p>
DTSTAMP:20260419T183319
DTSTART;TZID=America/Tijuana:20250724T190000
DTEND;TZID=America/Tijuana:20250724T203000
SEQUENCE:0
TRANSP:OPAQUE
END:VEVENT
END:VCALENDAR