BEGIN:VCALENDAR
VERSION:2.0
PRODID:-//jEvents 2.0 for Joomla//EN
CALSCALE:GREGORIAN
METHOD:PUBLISH
BEGIN:VTIMEZONE
TZID:America/Tijuana
BEGIN:STANDARD
DTSTART:20241103T010000
RDATE:20250309T030000
TZOFFSETFROM:-0700
TZOFFSETTO:-0800
TZNAME:America/Tijuana PST
END:STANDARD
BEGIN:STANDARD
DTSTART:20251102T010000
RDATE:20260308T030000
TZOFFSETFROM:-0700
TZOFFSETTO:-0800
TZNAME:America/Tijuana PST
END:STANDARD
BEGIN:STANDARD
DTSTART:20261101T010000
RDATE:20270314T030000
TZOFFSETFROM:-0700
TZOFFSETTO:-0800
TZNAME:America/Tijuana PST
END:STANDARD
BEGIN:STANDARD
DTSTART:20271107T010000
RDATE:20280312T030000
TZOFFSETFROM:-0700
TZOFFSETTO:-0800
TZNAME:America/Tijuana PST
END:STANDARD
BEGIN:DAYLIGHT
DTSTART:20241017T100000
RDATE:20241103T010000
TZOFFSETFROM:-0800
TZOFFSETTO:-0700
TZNAME:America/Tijuana PDT
END:DAYLIGHT
BEGIN:DAYLIGHT
DTSTART:20250309T030000
RDATE:20251102T010000
TZOFFSETFROM:-0800
TZOFFSETTO:-0700
TZNAME:America/Tijuana PDT
END:DAYLIGHT
BEGIN:DAYLIGHT
DTSTART:20260308T030000
RDATE:20261101T010000
TZOFFSETFROM:-0800
TZOFFSETTO:-0700
TZNAME:America/Tijuana PDT
END:DAYLIGHT
BEGIN:DAYLIGHT
DTSTART:20270314T030000
RDATE:20271107T010000
TZOFFSETFROM:-0800
TZOFFSETTO:-0700
TZNAME:America/Tijuana PDT
END:DAYLIGHT
END:VTIMEZONE
BEGIN:VEVENT
UID:e148ff2d21a04179b850a5de743a674b
CATEGORIES:Native Plant Sale
CREATED:20250831T125249
SUMMARY:Fall Plant Sale
LOCATION:Hidden Villa in Los Altos Hills
DESCRIPTION:<p class="p1">Join us in person for a lively day on <b>Saturday, October 18
 ,&nbsp;</b><b>from 10:00am – 3:00pm</b> at <b>Hidden Villa</b> in Los Altos
 &nbsp;Hills, where you can collect your online orders and explore&nbsp;a di
 verse selection of plants from both the CNPS SCV&nbsp;Nursery and the Grass
 roots Ecology Nursery. Be sure to&nbsp;bring a box if you plan to buy plant
 s while at Hidden Villa.&nbsp;</p><p class="p1">Beyond plant sales, we will
  host a gardening talk, a&nbsp;planting demonstration and a seed exchange. 
 If you have&nbsp;native plant seeds to share at the exchange, please bring&
 nbsp;them, but it is not necessary to bring anything if you do not&nbsp;hav
 e them. There should be plenty for all.&nbsp;</p><p class="p1">Our Chapter 
 store will offer books, posters and T-shirts,&nbsp;while Coyote Brush Studi
 o will showcase a variety of&nbsp;wildflower and nature-themed products. Th
 is is also a great&nbsp;chance to engage with other local environmental&nbs
 p;organizations.</p><p class="p1">Knowledgeable native plant gardeners will
  be on hand to&nbsp;address your questions about native plants and gardenin
 g.&nbsp;Please note that this service is intended for brief inquiries&nbsp;
 and not for comprehensive garden design requests. We&nbsp;provide numerous 
 native plant resources on our website, at&nbsp;<a href="https://www.cnps-sc
 v.org/gardening-resources">www.cnps-scv.org/gardening-resources</a><span cl
 ass="s1">, including a&nbsp;</span>directory of native plant professionals 
 who focus on native&nbsp;plant designs. Don’t forget to check out Calscape&
 nbsp;(<a href="https://www.calscape.org"><span class="s2">www.calscape.org<
 /span></a>), CNPS’ searchable guide to California&nbsp;native plants and bu
 tterflies, which is the premier online&nbsp;tool for planning your native p
 lant garden.&nbsp;We are offering a special discount for new members who&nb
 sp;join in September or October: just $30 (40% off our&nbsp;suggested membe
 rship fee of $50). You can sign up at the&nbsp;sale or in advance at <a hre
 f="bit.ly/NPLOVER"><span class="s2">bit.ly/NPLOVER</span></a>. If you join 
 in&nbsp;advance, please bring a printed copy of your receipt to the&nbsp;me
 mbership table to receive our Chapter’s 50th&nbsp;Anniversary pin and a Cha
 pter water bottle (while supplies&nbsp;last).</p><p class="p1">For more det
 ails about the sale, visit our website at&nbsp;<a href="https://www.cnps-sc
 v.org/fall-plant-sale-2025">www.cnps-scv.org/fall-plant-sale-2025</a><span 
 class="s1">.</span></p><p class="p3"><b>Volunteer at the Sale!</b></p><p cl
 ass="p1">We’re reaching out to everyone who can, to lend a hand&nbsp;with t
 he sale. There are numerous tasks to tackle: assisting&nbsp;with setup befo
 re the sale begins, parking, counting&nbsp;attendees, box check, answering 
 customer questions,&nbsp;writing sales slips, helping customers carry out t
 heir&nbsp;purchases and tidying up after the sale. Most of these tasks&nbsp
 ;don’t require specialized knowledge of plants, and you can&nbsp;opt to vol
 unteer for just one or two hours, or the entire day.</p><p class="p1">To vo
 lunteer, please visit our Chapter website’s Plant Sale&nbsp;<span class="s1
 ">page (</span><a href="https://www.cnps-scv.org/fall-plant-sale-2025">www.
 cnps-scv.org/fall-plant-sale-2025</a><span class="s1">) for a <b>link to&nb
 sp;</b></span><b>our Plant Sale Volunteer Signup</b>. The plant sales are&n
 bsp;always a blast to be a part of and we provide lunch for our&nbsp;volunt
 eers. If you have any questions, please contact&nbsp;Radhika Thekkath at <a
  href="mailto:cnpsradhika@gmail.com."><span id="cloak5435d89c7b6e2c8b53e07a
 b8a8c99ba6">This email address is being protected from spambots. You need J
 avaScript enabled to view it.</span><script type='text/javascript'>
				doc
 ument.getElementById('cloak5435d89c7b6e2c8b53e07ab8a8c99ba6').innerHTML = '
 ';
				var prefix = '&#109;a' + 'i&#108;' + '&#116;o';
				var path = 'hr' 
 + 'ef' + '=';
				var addy5435d89c7b6e2c8b53e07ab8a8c99ba6 = 'cnpsr&#97;dh&
 #105;k&#97;' + '&#64;';
				addy5435d89c7b6e2c8b53e07ab8a8c99ba6 = addy5435
 d89c7b6e2c8b53e07ab8a8c99ba6 + 'gm&#97;&#105;l' + '&#46;' + 'c&#111;m';
			
 	var addy_text5435d89c7b6e2c8b53e07ab8a8c99ba6 = 'cnpsr&#97;dh&#105;k&#97;'
  + '&#64;' + 'gm&#97;&#105;l' + '&#46;' + 'c&#111;m';document.getElementByI
 d('cloak5435d89c7b6e2c8b53e07ab8a8c99ba6').innerHTML += '<a ' + path + '\''
  + prefix + ':' + addy5435d89c7b6e2c8b53e07ab8a8c99ba6 + '\'>'+addy_text543
 5d89c7b6e2c8b53e07ab8a8c99ba6+'<\/a>';
		</script>.</a>&nbsp;</p><p class="
 p1"><b>Directions:</b> Hidden Villa is located at 26870 Moody Rd.,&nbsp;jus
 t west of Foothill College. From I-280 in Los Altos&nbsp;Hills, take the Mo
 ody Rd. exit and head west. About two&nbsp;miles west of Foothill College, 
 keep an eye out for the&nbsp;Hidden Villa sign and driveway on your left. T
 here will be&nbsp;volunteers to help you find a parking spot. A short walk&
 nbsp;from the Hidden Villa driveway entrance will take you to&nbsp;the sale
 , which is happening in the Dana Center&nbsp;surrounding lawn. Parking is f
 ree while you attend or&nbsp;volunteer at the event.</p>
X-ALT-DESC;FMTTYPE=text/html:<p class="p1">Join us in person for a lively day on <b>Saturday, October 18
 ,&nbsp;</b><b>from 10:00am – 3:00pm</b> at <b>Hidden Villa</b> in Los Altos
 &nbsp;Hills, where you can collect your online orders and explore&nbsp;a di
 verse selection of plants from both the CNPS SCV&nbsp;Nursery and the Grass
 roots Ecology Nursery. Be sure to&nbsp;bring a box if you plan to buy plant
 s while at Hidden Villa.&nbsp;</p><p class="p1">Beyond plant sales, we will
  host a gardening talk, a&nbsp;planting demonstration and a seed exchange. 
 If you have&nbsp;native plant seeds to share at the exchange, please bring&
 nbsp;them, but it is not necessary to bring anything if you do not&nbsp;hav
 e them. There should be plenty for all.&nbsp;</p><p class="p1">Our Chapter 
 store will offer books, posters and T-shirts,&nbsp;while Coyote Brush Studi
 o will showcase a variety of&nbsp;wildflower and nature-themed products. Th
 is is also a great&nbsp;chance to engage with other local environmental&nbs
 p;organizations.</p><p class="p1">Knowledgeable native plant gardeners will
  be on hand to&nbsp;address your questions about native plants and gardenin
 g.&nbsp;Please note that this service is intended for brief inquiries&nbsp;
 and not for comprehensive garden design requests. We&nbsp;provide numerous 
 native plant resources on our website, at&nbsp;<a href="https://www.cnps-sc
 v.org/gardening-resources">www.cnps-scv.org/gardening-resources</a><span cl
 ass="s1">, including a&nbsp;</span>directory of native plant professionals 
 who focus on native&nbsp;plant designs. Don’t forget to check out Calscape&
 nbsp;(<a href="https://www.calscape.org"><span class="s2">www.calscape.org<
 /span></a>), CNPS’ searchable guide to California&nbsp;native plants and bu
 tterflies, which is the premier online&nbsp;tool for planning your native p
 lant garden.&nbsp;We are offering a special discount for new members who&nb
 sp;join in September or October: just $30 (40% off our&nbsp;suggested membe
 rship fee of $50). You can sign up at the&nbsp;sale or in advance at <a hre
 f="https://cnps-scv.org/bit.ly/NPLOVER"><span class="s2">bit.ly/NPLOVER</sp
 an></a>. If you join in&nbsp;advance, please bring a printed copy of your r
 eceipt to the&nbsp;membership table to receive our Chapter’s 50th&nbsp;Anni
 versary pin and a Chapter water bottle (while supplies&nbsp;last).</p><p cl
 ass="p1">For more details about the sale, visit our website at&nbsp;<a href
 ="https://www.cnps-scv.org/fall-plant-sale-2025">www.cnps-scv.org/fall-plan
 t-sale-2025</a><span class="s1">.</span></p><p class="p3"><b>Volunteer at t
 he Sale!</b></p><p class="p1">We’re reaching out to everyone who can, to le
 nd a hand&nbsp;with the sale. There are numerous tasks to tackle: assisting
 &nbsp;with setup before the sale begins, parking, counting&nbsp;attendees, 
 box check, answering customer questions,&nbsp;writing sales slips, helping 
 customers carry out their&nbsp;purchases and tidying up after the sale. Mos
 t of these tasks&nbsp;don’t require specialized knowledge of plants, and yo
 u can&nbsp;opt to volunteer for just one or two hours, or the entire day.</
 p><p class="p1">To volunteer, please visit our Chapter website’s Plant Sale
 &nbsp;<span class="s1">page (</span><a href="https://www.cnps-scv.org/fall-
 plant-sale-2025">www.cnps-scv.org/fall-plant-sale-2025</a><span class="s1">
 ) for a <b>link to&nbsp;</b></span><b>our Plant Sale Volunteer Signup</b>. 
 The plant sales are&nbsp;always a blast to be a part of and we provide lunc
 h for our&nbsp;volunteers. If you have any questions, please contact&nbsp;R
 adhika Thekkath at <a href="mailto:cnpsradhika@gmail.com."><span id="cloak5
 435d89c7b6e2c8b53e07ab8a8c99ba6">This email address is being protected from
  spambots. You need JavaScript enabled to view it.</span><script type='text
 /javascript'>
				document.getElementById('cloak5435d89c7b6e2c8b53e07ab8a8c
 99ba6').innerHTML = '';
				var prefix = '&#109;a' + 'i&#108;' + '&#116;o';
 
				var path = 'hr' + 'ef' + '=';
				var addy5435d89c7b6e2c8b53e07ab8a8c9
 9ba6 = 'cnpsr&#97;dh&#105;k&#97;' + '&#64;';
				addy5435d89c7b6e2c8b53e07a
 b8a8c99ba6 = addy5435d89c7b6e2c8b53e07ab8a8c99ba6 + 'gm&#97;&#105;l' + '&#4
 6;' + 'c&#111;m';
				var addy_text5435d89c7b6e2c8b53e07ab8a8c99ba6 = 'cnps
 r&#97;dh&#105;k&#97;' + '&#64;' + 'gm&#97;&#105;l' + '&#46;' + 'c&#111;m';d
 ocument.getElementById('cloak5435d89c7b6e2c8b53e07ab8a8c99ba6').innerHTML +
 = '<a ' + path + '\'' + prefix + ':' + addy5435d89c7b6e2c8b53e07ab8a8c99ba6
  + '\'>'+addy_text5435d89c7b6e2c8b53e07ab8a8c99ba6+'<\/a>';
		</script>.</a
 >&nbsp;</p><p class="p1"><b>Directions:</b> Hidden Villa is located at 2687
 0 Moody Rd.,&nbsp;just west of Foothill College. From I-280 in Los Altos&nb
 sp;Hills, take the Moody Rd. exit and head west. About two&nbsp;miles west 
 of Foothill College, keep an eye out for the&nbsp;Hidden Villa sign and dri
 veway on your left. There will be&nbsp;volunteers to help you find a parkin
 g spot. A short walk&nbsp;from the Hidden Villa driveway entrance will take
  you to&nbsp;the sale, which is happening in the Dana Center&nbsp;surroundi
 ng lawn. Parking is free while you attend or&nbsp;volunteer at the event.</
 p>
DTSTAMP:20260420T010034
DTSTART;TZID=America/Tijuana:20251018T100000
DTEND;TZID=America/Tijuana:20251018T150000
SEQUENCE:0
TRANSP:OPAQUE
END:VEVENT
END:VCALENDAR