BEGIN:VCALENDAR
VERSION:2.0
PRODID:-//jEvents 2.0 for Joomla//EN
CALSCALE:GREGORIAN
METHOD:PUBLISH
BEGIN:VTIMEZONE
TZID:America/Tijuana
BEGIN:STANDARD
DTSTART:20241103T010000
RDATE:20250309T030000
TZOFFSETFROM:-0700
TZOFFSETTO:-0800
TZNAME:America/Tijuana PST
END:STANDARD
BEGIN:STANDARD
DTSTART:20251102T010000
RDATE:20260308T030000
TZOFFSETFROM:-0700
TZOFFSETTO:-0800
TZNAME:America/Tijuana PST
END:STANDARD
BEGIN:STANDARD
DTSTART:20261101T010000
RDATE:20270314T030000
TZOFFSETFROM:-0700
TZOFFSETTO:-0800
TZNAME:America/Tijuana PST
END:STANDARD
BEGIN:STANDARD
DTSTART:20271107T010000
RDATE:20280312T030000
TZOFFSETFROM:-0700
TZOFFSETTO:-0800
TZNAME:America/Tijuana PST
END:STANDARD
BEGIN:DAYLIGHT
DTSTART:20240910T000000
RDATE:20241103T010000
TZOFFSETFROM:-0800
TZOFFSETTO:-0700
TZNAME:America/Tijuana PDT
END:DAYLIGHT
BEGIN:DAYLIGHT
DTSTART:20250309T030000
RDATE:20251102T010000
TZOFFSETFROM:-0800
TZOFFSETTO:-0700
TZNAME:America/Tijuana PDT
END:DAYLIGHT
BEGIN:DAYLIGHT
DTSTART:20260308T030000
RDATE:20261101T010000
TZOFFSETFROM:-0800
TZOFFSETTO:-0700
TZNAME:America/Tijuana PDT
END:DAYLIGHT
BEGIN:DAYLIGHT
DTSTART:20270314T030000
RDATE:20271107T010000
TZOFFSETFROM:-0800
TZOFFSETTO:-0700
TZNAME:America/Tijuana PDT
END:DAYLIGHT
END:VTIMEZONE
BEGIN:VEVENT
UID:e4f231691b2bdb1d041e2d1bbc5c7ac9
CATEGORIES:Native Plant Sale
CREATED:20250908T150550
SUMMARY:Online Plant Sale
LOCATION:online
DESCRIPTION:<p class="p1">The CNPS SCV Nursery will conduct an online plant sale&nbsp;<
 span class="s1">(</span><a href="california-native-plant-society-santa-clar
 a-valley-chapter.square.site">california-native-plant-society-santa-clara-v
 alley-chapter.square.site</a>) starting on<b>&nbsp;September 11</b>. The st
 ore will close when&nbsp;either the pickup capacity is reached or at the en
 d of the day&nbsp;on September 12 - whichever occurs first.&nbsp;<b>&nbsp;<
 /b>You can&nbsp;shop from the comfort of your home and then <strong>schedul
 e a pickup at the nursery on September 17.</strong></p><p class="p1">The <b
 >mud planting technique</b> (<span class="s2">www.cnps-scv.org/mud-</span><
 span class="s2">planting</span>) outlined by Krzysztof Kozminski is a metho
 d that&nbsp;is effective throughout the year, but it is particularly&nbsp;b
 eneficial for ensuring successful planting during the&nbsp;summer season.</
 p>
X-ALT-DESC;FMTTYPE=text/html:<p class="p1">The CNPS SCV Nursery will conduct an online plant sale&nbsp;<
 span class="s1">(</span><a href="https://cnps-scv.org/california-native-pla
 nt-society-santa-clara-valley-chapter.square.site">california-native-plant-
 society-santa-clara-valley-chapter.square.site</a>) starting on<b>&nbsp;Sep
 tember 11</b>. The store will close when&nbsp;either the pickup capacity is
  reached or at the end of the day&nbsp;on September 12 - whichever occurs f
 irst.&nbsp;<b>&nbsp;</b>You can&nbsp;shop from the comfort of your home and
  then <strong>schedule a pickup at the nursery on September 17.</strong></p
 ><p class="p1">The <b>mud planting technique</b> (<span class="s2">www.cnps
 -scv.org/mud-</span><span class="s2">planting</span>) outlined by Krzysztof
  Kozminski is a method that&nbsp;is effective throughout the year, but it i
 s particularly&nbsp;beneficial for ensuring successful planting during the&
 nbsp;summer season.</p>
DTSTAMP:20260420T032103
DTSTART;TZID=America/Tijuana;VALUE=DATE:20250911
DTEND;TZID=America/Tijuana;VALUE=DATE:20250913
SEQUENCE:0
TRANSP:OPAQUE
END:VEVENT
END:VCALENDAR