BEGIN:VCALENDAR
VERSION:2.0
PRODID:-//jEvents 2.0 for Joomla//EN
CALSCALE:GREGORIAN
METHOD:PUBLISH
BEGIN:VTIMEZONE
TZID:America/Tijuana
BEGIN:STANDARD
DTSTART:20241128T100000
RDATE:20250309T030000
TZOFFSETFROM:-0700
TZOFFSETTO:-0800
TZNAME:America/Tijuana PST
END:STANDARD
BEGIN:STANDARD
DTSTART:20251102T010000
RDATE:20260308T030000
TZOFFSETFROM:-0700
TZOFFSETTO:-0800
TZNAME:America/Tijuana PST
END:STANDARD
BEGIN:STANDARD
DTSTART:20261101T010000
RDATE:20270314T030000
TZOFFSETFROM:-0700
TZOFFSETTO:-0800
TZNAME:America/Tijuana PST
END:STANDARD
BEGIN:STANDARD
DTSTART:20271107T010000
RDATE:20280312T030000
TZOFFSETFROM:-0700
TZOFFSETTO:-0800
TZNAME:America/Tijuana PST
END:STANDARD
BEGIN:DAYLIGHT
DTSTART:20250309T030000
RDATE:20251102T010000
TZOFFSETFROM:-0800
TZOFFSETTO:-0700
TZNAME:America/Tijuana PDT
END:DAYLIGHT
BEGIN:DAYLIGHT
DTSTART:20260308T030000
RDATE:20261101T010000
TZOFFSETFROM:-0800
TZOFFSETTO:-0700
TZNAME:America/Tijuana PDT
END:DAYLIGHT
BEGIN:DAYLIGHT
DTSTART:20270314T030000
RDATE:20271107T010000
TZOFFSETFROM:-0800
TZOFFSETTO:-0700
TZNAME:America/Tijuana PDT
END:DAYLIGHT
END:VTIMEZONE
BEGIN:VEVENT
UID:e5bf8bb8c66b2448f1d49d8babb0aeb2
CATEGORIES:Habitat
CREATED:20251029T115255
SUMMARY:Fountain Thistle Work Party
LOCATION:the end of Lessingia Court in San Mateo
DESCRIPTION:<p class="p1">Join Don Thomas and members of the Santa Clara Valley&nbsp;an
 d Yerba Buena CNPS Chapters for our fall fountain&nbsp;thistle habitat rest
 oration work party <b>near the intersection&nbsp;</b><b>of I-280 and Hwy. 9
 2</b>. We’ll meet on <b>Saturday,&nbsp;</b><b>November 29 and work from 10:
 00am to noon.&nbsp;</b>Fountain thistle (<i>Cirsium fontinale </i>var<i>. f
 ontinale)</i> is a&nbsp;federally endangered plant species that grows in an
  unusual&nbsp;and specialized habitat – serpentine seeps – and is only&nbsp
 ;found at our work location and in a few other nearby&nbsp;locations on the
  Peninsula.</p><p class="p1">Fountain thistle’s recovery here is a restorat
 ion success&nbsp;story. Once almost completely displaced by jubatagrass&nbs
 p;(Andean pampas grass), it has largely recovered here, as a&nbsp;result of
  the work done by CNPS volunteers. The CNPS&nbsp;project is a cooperative o
 f our Santa Clara Valley and&nbsp;Yerba Buena Chapters. However, fountain t
 histle is still&nbsp;under threat from invasion by non-native plants and by
 &nbsp;woody plants threatening to convert the area to shrubland&nbsp;or woo
 dland. In addition, the bordering dry serpentine&nbsp;zone is habitat to an
 other rare plant, Crystal Springs&nbsp;lessingia (<i>Lessingia arachnoidea<
 /i>), which is threatened by&nbsp;invasion of yellow star-thistle, fennel, 
 tufted wallaby grass&nbsp;(<i>Rytidosperma caespitosum</i>) and other non-n
 ative plants.</p><p class="p1">Sturdy gloves are recommended; you might als
 o want to&nbsp;wear long sleeves/pants and bring sunscreen, water, a hat&nb
 sp;and layered clothing. If you have them, bring tools, such as&nbsp;trowel
 s, spades and shovels. Some tools will also be&nbsp;provided.</p><p class="
 p1">Sign up on the Chapter’s <b>Meetup page</b>, here:&nbsp;<a href="https:
 //www.meetup.com/California-Native-Plant-Society-Santa-Clara-Valley-Chapter
 /">www.meetup.com/California-Native-Plant-Society-Santa-Clara-Valley-Chapte
 r/</a><span class="s1"><a href="https://www.meetup.com/California-Native-Pl
 ant-Society-Santa-Clara-Valley-Chapter/">www.meetup.com/California-Native-P
 lant-Society-Santa-Clara-Valley-Chapter/</a>.</span></p><p class="p1">We’ll
  meet at the end of Lessingia Court in San Mateo. For&nbsp;more info., cont
 act Don at <a href="mailto:donethomasd@gmail.com."><span id="cloak156ec828a
 a48a6aa9f20606dccfc9bae">This email address is being protected from spambot
 s. You need JavaScript enabled to view it.</span><script type='text/javascr
 ipt'>
				document.getElementById('cloak156ec828aa48a6aa9f20606dccfc9bae').
 innerHTML = '';
				var prefix = '&#109;a' + 'i&#108;' + '&#116;o';
				var
  path = 'hr' + 'ef' + '=';
				var addy156ec828aa48a6aa9f20606dccfc9bae = '
 d&#111;n&#101;th&#111;m&#97;sd' + '&#64;';
				addy156ec828aa48a6aa9f20606d
 ccfc9bae = addy156ec828aa48a6aa9f20606dccfc9bae + 'gm&#97;&#105;l' + '&#46;
 ' + 'c&#111;m';
				var addy_text156ec828aa48a6aa9f20606dccfc9bae = 'd&#111
 ;n&#101;th&#111;m&#97;sd' + '&#64;' + 'gm&#97;&#105;l' + '&#46;' + 'c&#111;
 m';document.getElementById('cloak156ec828aa48a6aa9f20606dccfc9bae').innerHT
 ML += '<a ' + path + '\'' + prefix + ':' + addy156ec828aa48a6aa9f20606dccfc
 9bae + '\'>'+addy_text156ec828aa48a6aa9f20606dccfc9bae+'<\/a>';
		</script>
 .</a></p>
CONTACT:Don at This email address is being protected from spambots. You need JavaScript enabled to view it.
				document.getElementById('cloakaec58b23111a92dae4eaa33bdde61d7e').innerHTML = '';
				var prefix = '&#109;a' + 'i&#108;' + '&#116;o';
				var path = 'hr' + 'ef' + '=';
				var addyaec58b23111a92dae4eaa33bdde61d7e = 'd&#111;n&#101;th&#111;m&#97;sd' + '&#64;';
				addyaec58b23111a92dae4eaa33bdde61d7e = addyaec58b23111a92dae4eaa33bdde61d7e + 'gm&#97;&#105;l' + '&#46;' + 'c&#111;m';
				var addy_textaec58b23111a92dae4eaa33bdde61d7e = 'd&#111;n&#101;th&#111;m&#97;sd' + '&#64;' + 'gm&#97;&#105;l' + '&#46;' + 'c&#111;m';document.getElementById('cloakaec58b23111a92dae4eaa33bdde61d7e').innerHTML += '<a ' + path + '\'' + prefix + ':' + addyaec58b23111a92dae4eaa33bdde61d7e + '\'>'+addy_textaec58b23111a92dae4eaa33bdde61d7e+'';
		
DTSTAMP:20260426T030239
DTSTART;TZID=America/Tijuana:20251129T100000
DTEND;TZID=America/Tijuana:20251129T120000
SEQUENCE:0
TRANSP:OPAQUE
END:VEVENT
END:VCALENDAR