BEGIN:VCALENDAR
VERSION:2.0
PRODID:-//jEvents 2.0 for Joomla//EN
CALSCALE:GREGORIAN
METHOD:PUBLISH
BEGIN:VTIMEZONE
TZID:America/Tijuana
BEGIN:STANDARD
DTSTART:20251102T010000
RDATE:20260308T030000
TZOFFSETFROM:-0700
TZOFFSETTO:-0800
TZNAME:America/Tijuana PST
END:STANDARD
BEGIN:STANDARD
DTSTART:20261101T010000
RDATE:20270314T030000
TZOFFSETFROM:-0700
TZOFFSETTO:-0800
TZNAME:America/Tijuana PST
END:STANDARD
BEGIN:STANDARD
DTSTART:20271107T010000
RDATE:20280312T030000
TZOFFSETFROM:-0700
TZOFFSETTO:-0800
TZNAME:America/Tijuana PST
END:STANDARD
BEGIN:DAYLIGHT
DTSTART:20250424T093000
RDATE:20251102T010000
TZOFFSETFROM:-0800
TZOFFSETTO:-0700
TZNAME:America/Tijuana PDT
END:DAYLIGHT
BEGIN:DAYLIGHT
DTSTART:20260308T030000
RDATE:20261101T010000
TZOFFSETFROM:-0800
TZOFFSETTO:-0700
TZNAME:America/Tijuana PDT
END:DAYLIGHT
BEGIN:DAYLIGHT
DTSTART:20270314T030000
RDATE:20271107T010000
TZOFFSETFROM:-0800
TZOFFSETTO:-0700
TZNAME:America/Tijuana PDT
END:DAYLIGHT
END:VTIMEZONE
BEGIN:VEVENT
UID:c703a747da8e6de5ed3149ef75a4ad8a
CATEGORIES:Special Events
CREATED:20260225T113945
SUMMARY:Fiftieth Annual Wildflower Show
LOCATION:West Valley College is located at 14000 Fruitvale Ave. in Saratoga
DESCRIPTION:Join us for our Chapter’s annual Wildflower Show on Saturday, April 25 from
  9:30am – 4:00pm at West Valley College in Saratoga. This family-friendly e
 vent features hundreds of native wildflowers and plants on display as well 
 as a variety of activities for all ages. The event and parking are all free
  to the public.\nOur keynote speaker this year will be Kat Anderson, author
  of Tending the Wild. Other talks and workshops will offer the opportunity 
 to learn about bioblitzes, wildflower arrangements, macrophotography and mo
 re.\nAttendees will also be able to take tours of the Vasona Creek Restorat
 ion Project and the Biology Department’s Moon Garden. A selection of native
  plants and native plant art, T-shirts, books and other related goods will 
 be available for purchase.\nWest Valley College is located at 14000 Fruitva
 le Ave. in Saratoga. For more information see the schedule at www.cnps-scv.
 org/wfs in April.\n
X-ALT-DESC;FMTTYPE=text/html:<p class="p1">Join us for our Chapter’s annual Wildflower Show on&nbsp;<b>S
 aturday, April 25 from 9:30am – 4:00pm</b> at West&nbsp;Valley College in S
 aratoga. This family-friendly event&nbsp;features hundreds of native wildfl
 owers and plants on&nbsp;display as well as a variety of activities for all
  ages. The&nbsp;event and parking are all free to the public.</p><p class="
 p1">Our keynote speaker this year will be <b>Kat Anderson</b>,&nbsp;author 
 of <i>Tending the Wild</i>.<i> </i>Other talks and workshops will&nbsp;offe
 r the opportunity to learn about bioblitzes, wildflower&nbsp;arrangements, 
 macrophotography and more.</p><p class="p1">Attendees will also be able to 
 take tours of the Vasona&nbsp;Creek Restoration Project and the Biology Dep
 artment’s&nbsp;Moon Garden. A selection of native plants and native plant&n
 bsp;art, T-shirts, books and other related goods will be available&nbsp;for
  purchase.</p><p class="p1">West Valley College is located at 14000 Fruitva
 le Ave. in&nbsp;Saratoga. For more information see the schedule at&nbsp;www
 .cnps-scv.org/wfs<span class="s1"> in April.</span></p>
DTSTAMP:20260419T211423
DTSTART;TZID=America/Tijuana:20260425T093000
DTEND;TZID=America/Tijuana:20260425T160000
SEQUENCE:0
TRANSP:OPAQUE
END:VEVENT
END:VCALENDAR