BEGIN:VCALENDAR
VERSION:2.0
PRODID:-//jEvents 2.0 for Joomla//EN
CALSCALE:GREGORIAN
METHOD:PUBLISH
BEGIN:VTIMEZONE
TZID:America/Tijuana
BEGIN:STANDARD
DTSTART:20251102T010000
RDATE:20260308T030000
TZOFFSETFROM:-0700
TZOFFSETTO:-0800
TZNAME:America/Tijuana PST
END:STANDARD
BEGIN:STANDARD
DTSTART:20261101T010000
RDATE:20270314T030000
TZOFFSETFROM:-0700
TZOFFSETTO:-0800
TZNAME:America/Tijuana PST
END:STANDARD
BEGIN:STANDARD
DTSTART:20271107T010000
RDATE:20280312T030000
TZOFFSETFROM:-0700
TZOFFSETTO:-0800
TZNAME:America/Tijuana PST
END:STANDARD
BEGIN:DAYLIGHT
DTSTART:20250328T100000
RDATE:20251102T010000
TZOFFSETFROM:-0800
TZOFFSETTO:-0700
TZNAME:America/Tijuana PDT
END:DAYLIGHT
BEGIN:DAYLIGHT
DTSTART:20260308T030000
RDATE:20261101T010000
TZOFFSETFROM:-0800
TZOFFSETTO:-0700
TZNAME:America/Tijuana PDT
END:DAYLIGHT
BEGIN:DAYLIGHT
DTSTART:20270314T030000
RDATE:20271107T010000
TZOFFSETFROM:-0800
TZOFFSETTO:-0700
TZNAME:America/Tijuana PDT
END:DAYLIGHT
END:VTIMEZONE
BEGIN:VEVENT
UID:d99914be2a90449dae58365248fad81b
CATEGORIES:Field Trips
CREATED:20260225T140349
SUMMARY:Tour Roberto Adobe & Sunol House Ethnobotanic Garden (San Jose)
LOCATION:Roberto Adobe &amp; Sunol House Ethnobotanic Garden (San Jose)
DESCRIPTION:<p class="p1">Join co-leaders Julisa Soto and Vicki Silvas-Young for a&nbsp
 ;walking tour of the newly installed ethnobotanic garden at&nbsp;this histo
 ric site. Over 100 locally native plant species are&nbsp;growing in the gar
 den. Each plant represents its use during&nbsp;one of four major eras of re
 gional transformation:&nbsp;Indigenous ancestral homelands, the Spanish col
 onial&nbsp;period, the Mexican rancho era and early American&nbsp;statehood
 .</p><p class="p1">Julisa Soto organized community members to create the&nb
 sp;garden. Each plant tells a story of cultural use, ecological&nbsp;functi
 on and the deep relationships Indigenous&nbsp;communities have maintained f
 or thousands of years. As&nbsp;we tour the garden, we’ll learn how traditio
 nal ecological&nbsp;knowledge continues to influence biodiversity and land&
 nbsp;stewardship.</p><p class="p1">The garden’s plant list includes mainten
 ance tips for each&nbsp;plant. Visit it here: <span class="s1">bit.ly/RASH-
 garden</span>. The garden is&nbsp;wheelchair accessible on level, decompose
 d granite or brick&nbsp;paths. Light refreshments will be served.&nbsp;</p>
 <p class="p1">RSVP is required to join the walk. No drop-ins please and&nbs
 p;space is limited.&nbsp;To&nbsp;<b>RSVP on Meetup,&nbsp;</b>please visit o
 ur Chapter’s&nbsp;<b>Meetup group</b>, here:&nbsp;<a href="https://www.meet
 up.com/California-Native-Plant-Society-Santa-Clara-Valley-Chapter/">www.mee
 tup.com/California-Native-Plant-Society-Santa-Clara-Valley-Chapter/</a><spa
 n class="s1">.&nbsp;<b>We&nbsp;</b></span><b>open the RSVPs one week before
  the&nbsp;</b><b>event</b>. Find your event within the group&nbsp;and tap/c
 lick the “Attend” button to reserve&nbsp;your spot.</p><p class="p1"><b>We’
 ll meet at 10:00am</b> at the Roberto Adobe &amp; Sunol&nbsp;House site. Th
 e street address is 770 Lincoln Ave. in San&nbsp;Jose. <b>Driving direction
 s and parking tips</b> are provided&nbsp;on the Meetup page.</p>
DTSTAMP:20260425T214309
DTSTART;TZID=America/Tijuana:20260329T100000
DTEND;TZID=America/Tijuana:20260329T130000
SEQUENCE:0
TRANSP:OPAQUE
END:VEVENT
END:VCALENDAR