BEGIN:VCALENDAR
VERSION:2.0
PRODID:-//jEvents 2.0 for Joomla//EN
CALSCALE:GREGORIAN
METHOD:PUBLISH
BEGIN:VTIMEZONE
TZID:America/Tijuana
BEGIN:STANDARD
DTSTART:20251102T010000
RDATE:20260308T030000
TZOFFSETFROM:-0700
TZOFFSETTO:-0800
TZNAME:America/Tijuana PST
END:STANDARD
BEGIN:STANDARD
DTSTART:20261101T010000
RDATE:20270314T030000
TZOFFSETFROM:-0700
TZOFFSETTO:-0800
TZNAME:America/Tijuana PST
END:STANDARD
BEGIN:STANDARD
DTSTART:20271107T010000
RDATE:20280312T030000
TZOFFSETFROM:-0700
TZOFFSETTO:-0800
TZNAME:America/Tijuana PST
END:STANDARD
BEGIN:DAYLIGHT
DTSTART:20250527T190000
RDATE:20251102T010000
TZOFFSETFROM:-0800
TZOFFSETTO:-0700
TZNAME:America/Tijuana PDT
END:DAYLIGHT
BEGIN:DAYLIGHT
DTSTART:20260308T030000
RDATE:20261101T010000
TZOFFSETFROM:-0800
TZOFFSETTO:-0700
TZNAME:America/Tijuana PDT
END:DAYLIGHT
BEGIN:DAYLIGHT
DTSTART:20270314T030000
RDATE:20271107T010000
TZOFFSETFROM:-0800
TZOFFSETTO:-0700
TZNAME:America/Tijuana PDT
END:DAYLIGHT
END:VTIMEZONE
BEGIN:VEVENT
UID:e5647f91f01ba422bd108714a79b8508
CATEGORIES:Native Plant Talks
CREATED:20260424T173759
SUMMARY:Gardening for Biodiversity A talk by John Kehoe
LOCATION:Los Altos Library Orchard Room\, 13 S. San Antonio Rd.\, Los Altos
DESCRIPTION:<p class="p1">Native plants provide an abundance of resources for&nbsp;inse
 cts, bird and animal life. The beneficial relationship&nbsp;between native 
 plants and the wildlife that relies on them&nbsp;has been well established.
 &nbsp;Come to this talk to learn&nbsp;how selecting even a few&nbsp;Califor
 nia native plants&nbsp;for a garden or&nbsp;restoration plot can make&nbsp;
 a significant difference in&nbsp;the overall populations of&nbsp;beneficial
  insects and&nbsp;animals. Gardeners with&nbsp;little experience can add&nb
 sp;to a local pollinator&nbsp;pathway to support these&nbsp;critters as the
 y browse&nbsp;our neighborhoods. You&nbsp;may even find success in potted p
 lants on patios or&nbsp;balconies. These scattered oases can become pollina
 tor&nbsp;hubs of sorts, further boosting populations of insects,&nbsp;lizar
 ds, birds and other animals.</p><p class="p1">The talk will be accompanied 
 by a slideshow that includes&nbsp;numerous photos revealing the many relati
 onships between&nbsp;California native plants and the insects and animals t
 hat&nbsp;rely on them.&nbsp;</p><p class="p1"><b>John Kehoe</b> is a longti
 me member of CNPS and sees&nbsp;himself as a California Naturalist, a citiz
 en scientist, an&nbsp;occasional docent and an environmental advocate. He&n
 bsp;frequently volunteers at Grassroots Ecology habitat&nbsp;restoration ev
 ents and various CNPS functions. You might&nbsp;see him at BioBlitz events 
 as well. His research interests&nbsp;include studying insects, plants and e
 cosystems with a&nbsp;passion for our native bees. He shares these interest
 s by&nbsp;way of his photography on Flickr and iNaturalist.&nbsp;</p>
DTSTAMP:20260425T140437
DTSTART;TZID=America/Tijuana:20260528T190000
DTEND;TZID=America/Tijuana:20260528T203000
SEQUENCE:0
TRANSP:OPAQUE
END:VEVENT
END:VCALENDAR