BEGIN:VCALENDAR
VERSION:2.0
PRODID:-//jEvents 2.0 for Joomla//EN
CALSCALE:GREGORIAN
METHOD:PUBLISH
BEGIN:VTIMEZONE
TZID:America/Tijuana
BEGIN:STANDARD
DTSTART:20161230T100000
RDATE:20170312T030000
TZOFFSETFROM:-0700
TZOFFSETTO:-0800
TZNAME:America/Tijuana PST
END:STANDARD
BEGIN:STANDARD
DTSTART:20171105T010000
RDATE:20180311T030000
TZOFFSETFROM:-0700
TZOFFSETTO:-0800
TZNAME:America/Tijuana PST
END:STANDARD
BEGIN:STANDARD
DTSTART:20181104T010000
RDATE:20190310T030000
TZOFFSETFROM:-0700
TZOFFSETTO:-0800
TZNAME:America/Tijuana PST
END:STANDARD
BEGIN:STANDARD
DTSTART:20191103T010000
RDATE:20200308T030000
TZOFFSETFROM:-0700
TZOFFSETTO:-0800
TZNAME:America/Tijuana PST
END:STANDARD
BEGIN:STANDARD
DTSTART:20201101T010000
RDATE:20210314T030000
TZOFFSETFROM:-0700
TZOFFSETTO:-0800
TZNAME:America/Tijuana PST
END:STANDARD
BEGIN:STANDARD
DTSTART:20211107T010000
RDATE:20220313T030000
TZOFFSETFROM:-0700
TZOFFSETTO:-0800
TZNAME:America/Tijuana PST
END:STANDARD
BEGIN:STANDARD
DTSTART:20221106T010000
RDATE:20230312T030000
TZOFFSETFROM:-0700
TZOFFSETTO:-0800
TZNAME:America/Tijuana PST
END:STANDARD
BEGIN:STANDARD
DTSTART:20231105T010000
RDATE:20240310T030000
TZOFFSETFROM:-0700
TZOFFSETTO:-0800
TZNAME:America/Tijuana PST
END:STANDARD
BEGIN:STANDARD
DTSTART:20241103T010000
RDATE:20250309T030000
TZOFFSETFROM:-0700
TZOFFSETTO:-0800
TZNAME:America/Tijuana PST
END:STANDARD
BEGIN:STANDARD
DTSTART:20251102T010000
RDATE:20260308T030000
TZOFFSETFROM:-0700
TZOFFSETTO:-0800
TZNAME:America/Tijuana PST
END:STANDARD
BEGIN:STANDARD
DTSTART:20261101T010000
RDATE:20270314T030000
TZOFFSETFROM:-0700
TZOFFSETTO:-0800
TZNAME:America/Tijuana PST
END:STANDARD
BEGIN:STANDARD
DTSTART:20271107T010000
RDATE:20280312T030000
TZOFFSETFROM:-0700
TZOFFSETTO:-0800
TZNAME:America/Tijuana PST
END:STANDARD
BEGIN:DAYLIGHT
DTSTART:20170312T030000
RDATE:20171105T010000
TZOFFSETFROM:-0800
TZOFFSETTO:-0700
TZNAME:America/Tijuana PDT
END:DAYLIGHT
BEGIN:DAYLIGHT
DTSTART:20180311T030000
RDATE:20181104T010000
TZOFFSETFROM:-0800
TZOFFSETTO:-0700
TZNAME:America/Tijuana PDT
END:DAYLIGHT
BEGIN:DAYLIGHT
DTSTART:20190310T030000
RDATE:20191103T010000
TZOFFSETFROM:-0800
TZOFFSETTO:-0700
TZNAME:America/Tijuana PDT
END:DAYLIGHT
BEGIN:DAYLIGHT
DTSTART:20200308T030000
RDATE:20201101T010000
TZOFFSETFROM:-0800
TZOFFSETTO:-0700
TZNAME:America/Tijuana PDT
END:DAYLIGHT
BEGIN:DAYLIGHT
DTSTART:20210314T030000
RDATE:20211107T010000
TZOFFSETFROM:-0800
TZOFFSETTO:-0700
TZNAME:America/Tijuana PDT
END:DAYLIGHT
BEGIN:DAYLIGHT
DTSTART:20220313T030000
RDATE:20221106T010000
TZOFFSETFROM:-0800
TZOFFSETTO:-0700
TZNAME:America/Tijuana PDT
END:DAYLIGHT
BEGIN:DAYLIGHT
DTSTART:20230312T030000
RDATE:20231105T010000
TZOFFSETFROM:-0800
TZOFFSETTO:-0700
TZNAME:America/Tijuana PDT
END:DAYLIGHT
BEGIN:DAYLIGHT
DTSTART:20240310T030000
RDATE:20241103T010000
TZOFFSETFROM:-0800
TZOFFSETTO:-0700
TZNAME:America/Tijuana PDT
END:DAYLIGHT
BEGIN:DAYLIGHT
DTSTART:20250309T030000
RDATE:20251102T010000
TZOFFSETFROM:-0800
TZOFFSETTO:-0700
TZNAME:America/Tijuana PDT
END:DAYLIGHT
BEGIN:DAYLIGHT
DTSTART:20260308T030000
RDATE:20261101T010000
TZOFFSETFROM:-0800
TZOFFSETTO:-0700
TZNAME:America/Tijuana PDT
END:DAYLIGHT
BEGIN:DAYLIGHT
DTSTART:20270314T030000
RDATE:20271107T010000
TZOFFSETFROM:-0800
TZOFFSETTO:-0700
TZNAME:America/Tijuana PDT
END:DAYLIGHT
END:VTIMEZONE
BEGIN:VEVENT
UID:ebfbc7be905da0d64fcf12e8a44d5a0c
CATEGORIES:Field Trips
CREATED:20171022T111930
SUMMARY:Butano State Park Pescadero (San Mateo County)
LOCATION:Butano State Park Pescadero (San Mateo County)
DESCRIPTION:Join Ken Himes and Sheila Colby as they lead a hike along trails through re
 dwood forests and their understory, marveling at their diversity. The speci
 fic trail will be determined on the day of the hike, depending upon weather
  and trail conditions.\nMeet at 10am at the parking lot at the park entranc
 e kiosk. The park entrance fee is $10. Dress in layers according to the wea
 ther. Bring snacks, lunch and liquids; and hiking sticks if you need them o
 n potentially slippery trails.\nDirections: Butano State Park is about 5 mi
 les south of the town of Pescadero. Take Cloverdale Rd. to Butano State Par
 k. For more information contact Ken at (650) 591-8560 or Sheila at This ema
 il address is being protected from spambots. You need JavaScript enabled to
  view it.
				document.getElementById('cloakbea5c8a758937c8c0d3af36b4805c7c
 7').innerHTML = '';
				var prefix = '&amp;#109;a' + 'i&amp;#108;' + '&amp;
 #116;o';
				var path = 'hr' + 'ef' + '=';
				var addybea5c8a758937c8c0d3a
 f36b4805c7c7 = 'sh&amp;#101;&amp;#105;l&amp;#97;mc&amp;#111;lby' + '&amp;#6
 4;';
				addybea5c8a758937c8c0d3af36b4805c7c7 = addybea5c8a758937c8c0d3af36
 b4805c7c7 + 'gm&amp;#97;&amp;#105;l' + '&amp;#46;' + 'c&amp;#111;m';
				va
 r addy_textbea5c8a758937c8c0d3af36b4805c7c7 = 'sh&amp;#101;&amp;#105;l&amp;
 #97;mc&amp;#111;lby' + '&amp;#64;' + 'gm&amp;#97;&amp;#105;l' + '&amp;#46;'
  + 'c&amp;#111;m';document.getElementById('cloakbea5c8a758937c8c0d3af36b480
 5c7c7').innerHTML += '&lt;a ' + path + '\'' + prefix + ':' + addybea5c8a758
 937c8c0d3af36b4805c7c7 + '\'&gt;'+addy_textbea5c8a758937c8c0d3af36b4805c7c7
 +'&lt;\/a&gt;';
		. (mailto:sheilamcolby@gmail.com.)\n
X-ALT-DESC;FMTTYPE=text/html:<div class="page" title="Page 8"><div class="layoutArea"><div class="column
 "><p>Join Ken Himes and Sheila Colby as they lead a hike along trails throu
 gh redwood forests and their understory,&nbsp;marveling at their diversity.
  The specific trail will be determined on the day of the hike, depending up
 on weather and trail conditions.</p><div class="page" title="Page 8"><div c
 lass="layoutArea"><div class="column"><p>Meet at 10am at the parking lot at
  the park entrance kiosk. The park entrance fee is $10. Dress in layers acc
 ording to the weather. Bring snacks, lunch and liquids; and hiking sticks i
 f you need them on potentially slippery trails.</p><p>Directions: Butano St
 ate Park is about 5 miles south of the town of Pescadero. Take Cloverdale R
 d. to Butano State Park. For more information contact Ken at (650) 591-8560
  or Sheila at <a href="mailto:sheilamcolby@gmail.com."><span id="cloakbea5c
 8a758937c8c0d3af36b4805c7c7">This email address is being protected from spa
 mbots. You need JavaScript enabled to view it.</span><script type='text/jav
 ascript'>
				document.getElementById('cloakbea5c8a758937c8c0d3af36b4805c7c
 7').innerHTML = '';
				var prefix = '&#109;a' + 'i&#108;' + '&#116;o';
			
 	var path = 'hr' + 'ef' + '=';
				var addybea5c8a758937c8c0d3af36b4805c7c7
  = 'sh&#101;&#105;l&#97;mc&#111;lby' + '&#64;';
				addybea5c8a758937c8c0d3
 af36b4805c7c7 = addybea5c8a758937c8c0d3af36b4805c7c7 + 'gm&#97;&#105;l' + '
 &#46;' + 'c&#111;m';
				var addy_textbea5c8a758937c8c0d3af36b4805c7c7 = 's
 h&#101;&#105;l&#97;mc&#111;lby' + '&#64;' + 'gm&#97;&#105;l' + '&#46;' + 'c
 &#111;m';document.getElementById('cloakbea5c8a758937c8c0d3af36b4805c7c7').i
 nnerHTML += '<a ' + path + '\'' + prefix + ':' + addybea5c8a758937c8c0d3af3
 6b4805c7c7 + '\'>'+addy_textbea5c8a758937c8c0d3af36b4805c7c7+'<\/a>';
		</s
 cript>.</a></p></div></div></div></div></div></div>
CONTACT:Ken at (650) 591-8560 or Sheila at This email address is being protected from spambots. You need JavaScript enabled to view it.
				document.getElementById('cloak0388999724a541fd93dd60e60765e483').innerHTML = '';
				var prefix = '&#109;a' + 'i&#108;' + '&#116;o';
				var path = 'hr' + 'ef' + '=';
				var addy0388999724a541fd93dd60e60765e483 = 'sh&#101;&#105;l&#97;mc&#111;lby' + '&#64;';
				addy0388999724a541fd93dd60e60765e483 = addy0388999724a541fd93dd60e60765e483 + 'gm&#97;&#105;l' + '&#46;' + 'c&#111;m';
				var addy_text0388999724a541fd93dd60e60765e483 = 'sh&#101;&#105;l&#97;mc&#111;lby' + '&#64;' + 'gm&#97;&#105;l' + '&#46;' + 'c&#111;m';document.getElementById('cloak0388999724a541fd93dd60e60765e483').innerHTML += '<a ' + path + '\'' + prefix + ':' + addy0388999724a541fd93dd60e60765e483 + '\'>'+addy_text0388999724a541fd93dd60e60765e483+'';
		.
DTSTAMP:20260421T145348
DTSTART;TZID=America/Tijuana:20171231T100000
DTEND;TZID=America/Tijuana:20171231T160000
SEQUENCE:0
TRANSP:OPAQUE
END:VEVENT
END:VCALENDAR