BEGIN:VCALENDAR
VERSION:2.0
PRODID:-//jEvents 2.0 for Joomla//EN
CALSCALE:GREGORIAN
METHOD:PUBLISH
BEGIN:VTIMEZONE
TZID:America/Tijuana
BEGIN:STANDARD
DTSTART:20161231T100000
RDATE:20170312T030000
TZOFFSETFROM:-0700
TZOFFSETTO:-0800
TZNAME:America/Tijuana PST
END:STANDARD
BEGIN:STANDARD
DTSTART:20171105T010000
RDATE:20180311T030000
TZOFFSETFROM:-0700
TZOFFSETTO:-0800
TZNAME:America/Tijuana PST
END:STANDARD
BEGIN:STANDARD
DTSTART:20181104T010000
RDATE:20190310T030000
TZOFFSETFROM:-0700
TZOFFSETTO:-0800
TZNAME:America/Tijuana PST
END:STANDARD
BEGIN:STANDARD
DTSTART:20191103T010000
RDATE:20200308T030000
TZOFFSETFROM:-0700
TZOFFSETTO:-0800
TZNAME:America/Tijuana PST
END:STANDARD
BEGIN:STANDARD
DTSTART:20201101T010000
RDATE:20210314T030000
TZOFFSETFROM:-0700
TZOFFSETTO:-0800
TZNAME:America/Tijuana PST
END:STANDARD
BEGIN:STANDARD
DTSTART:20211107T010000
RDATE:20220313T030000
TZOFFSETFROM:-0700
TZOFFSETTO:-0800
TZNAME:America/Tijuana PST
END:STANDARD
BEGIN:STANDARD
DTSTART:20221106T010000
RDATE:20230312T030000
TZOFFSETFROM:-0700
TZOFFSETTO:-0800
TZNAME:America/Tijuana PST
END:STANDARD
BEGIN:STANDARD
DTSTART:20231105T010000
RDATE:20240310T030000
TZOFFSETFROM:-0700
TZOFFSETTO:-0800
TZNAME:America/Tijuana PST
END:STANDARD
BEGIN:STANDARD
DTSTART:20241103T010000
RDATE:20250309T030000
TZOFFSETFROM:-0700
TZOFFSETTO:-0800
TZNAME:America/Tijuana PST
END:STANDARD
BEGIN:STANDARD
DTSTART:20251102T010000
RDATE:20260308T030000
TZOFFSETFROM:-0700
TZOFFSETTO:-0800
TZNAME:America/Tijuana PST
END:STANDARD
BEGIN:STANDARD
DTSTART:20261101T010000
RDATE:20270314T030000
TZOFFSETFROM:-0700
TZOFFSETTO:-0800
TZNAME:America/Tijuana PST
END:STANDARD
BEGIN:STANDARD
DTSTART:20271107T010000
RDATE:20280312T030000
TZOFFSETFROM:-0700
TZOFFSETTO:-0800
TZNAME:America/Tijuana PST
END:STANDARD
BEGIN:DAYLIGHT
DTSTART:20170312T030000
RDATE:20171105T010000
TZOFFSETFROM:-0800
TZOFFSETTO:-0700
TZNAME:America/Tijuana PDT
END:DAYLIGHT
BEGIN:DAYLIGHT
DTSTART:20180311T030000
RDATE:20181104T010000
TZOFFSETFROM:-0800
TZOFFSETTO:-0700
TZNAME:America/Tijuana PDT
END:DAYLIGHT
BEGIN:DAYLIGHT
DTSTART:20190310T030000
RDATE:20191103T010000
TZOFFSETFROM:-0800
TZOFFSETTO:-0700
TZNAME:America/Tijuana PDT
END:DAYLIGHT
BEGIN:DAYLIGHT
DTSTART:20200308T030000
RDATE:20201101T010000
TZOFFSETFROM:-0800
TZOFFSETTO:-0700
TZNAME:America/Tijuana PDT
END:DAYLIGHT
BEGIN:DAYLIGHT
DTSTART:20210314T030000
RDATE:20211107T010000
TZOFFSETFROM:-0800
TZOFFSETTO:-0700
TZNAME:America/Tijuana PDT
END:DAYLIGHT
BEGIN:DAYLIGHT
DTSTART:20220313T030000
RDATE:20221106T010000
TZOFFSETFROM:-0800
TZOFFSETTO:-0700
TZNAME:America/Tijuana PDT
END:DAYLIGHT
BEGIN:DAYLIGHT
DTSTART:20230312T030000
RDATE:20231105T010000
TZOFFSETFROM:-0800
TZOFFSETTO:-0700
TZNAME:America/Tijuana PDT
END:DAYLIGHT
BEGIN:DAYLIGHT
DTSTART:20240310T030000
RDATE:20241103T010000
TZOFFSETFROM:-0800
TZOFFSETTO:-0700
TZNAME:America/Tijuana PDT
END:DAYLIGHT
BEGIN:DAYLIGHT
DTSTART:20250309T030000
RDATE:20251102T010000
TZOFFSETFROM:-0800
TZOFFSETTO:-0700
TZNAME:America/Tijuana PDT
END:DAYLIGHT
BEGIN:DAYLIGHT
DTSTART:20260308T030000
RDATE:20261101T010000
TZOFFSETFROM:-0800
TZOFFSETTO:-0700
TZNAME:America/Tijuana PDT
END:DAYLIGHT
BEGIN:DAYLIGHT
DTSTART:20270314T030000
RDATE:20271107T010000
TZOFFSETFROM:-0800
TZOFFSETTO:-0700
TZNAME:America/Tijuana PDT
END:DAYLIGHT
END:VTIMEZONE
BEGIN:VEVENT
UID:329a2104d989a64eaa825a888241228e
CATEGORIES:Field Trips
CREATED:20171022T112141
SUMMARY:Año Nuevo State Preserve New Year Hike (San Mateo County)
LOCATION:Año Nuevo State Preserve New Year Hike (San Mateo County)
DESCRIPTION:Join us as we celebrate a Chapter tradition of welcoming the New Year with 
 a walk and picnic at Año Nuevo State Preserve on the San Mateo County coas
 t. Trevlyn Williams, Chapter member and a docent at this preserve, will lea
 d the hike, highlighting its marine ecology and history. The preserve is lo
 cated south of Pescadero on Highway 1, just north of the Santa Cruz County 
 line.\nWe’ll meet in the parking lot ($10 day use fee) at 10am. Latecomers 
 will find us on the trail in the coastal prairie. We’ll enjoy ocean views, 
 sea cliff vegetation, raptors, songbirds and maybe marine mammals.\nWe will
  face an outgoing tide that morning and will see whether we can picnic on t
 he beach (in the area in which seal tour reservations are not required).\nA
 s this is a day to have fun at the beach with fellow Chapter members, the e
 nding time and depth of botanical discussion may be extended depending on p
 articipants. We will finish at the visitor center. Bring binoculars and lay
 ers of clothing for variable conditions including wind, sun and fog. Extrem
 e weather cancels. For more info., contact Dee Himes at This email address 
 is being protected from spambots. You need JavaScript enabled to view it.
	
 			document.getElementById('cloak244ac03ce72cae97e9a77f202e3c3912').innerHT
 ML = '';
				var prefix = '&#109;a' + 'i&#108;' + '&#116;o';
				var path =
  'hr' + 'ef' + '=';
				var addy244ac03ce72cae97e9a77f202e3c3912 = 'd&#101;
 &#101;4cnps' + '&#64;';
				addy244ac03ce72cae97e9a77f202e3c3912 = addy244a
 c03ce72cae97e9a77f202e3c3912 + 'gm&#97;&#105;l' + '&#46;' + 'c&#111;m';
			
 	var addy_text244ac03ce72cae97e9a77f202e3c3912 = 'd&#101;&#101;4cnps' + '&#
 64;' + 'gm&#97;&#105;l' + '&#46;' + 'c&#111;m';document.getElementById('clo
 ak244ac03ce72cae97e9a77f202e3c3912').innerHTML += '<a ' + path + '\'' + pre
 fix + ':' + addy244ac03ce72cae97e9a77f202e3c3912 + '\'>'+addy_text244ac03ce
 72cae97e9a77f202e3c3912+'';
		 or call 650-951-8560.\n
X-ALT-DESC;FMTTYPE=text/html:<div class="page" title="Page 8"><div class="layoutArea"><div class="column
 "><p>Join us as we celebrate a Chapter tradition of welcoming the New Year 
 with a walk and picnic at Año Nuevo State Preserve on the San Mateo County
  coast. Trevlyn Williams, Chapter member and a docent at this preserve, wil
 l lead the hike, highlighting its marine ecology and history. The preserve 
 is located south of Pescadero on Highway 1, just north of the Santa Cruz Co
 unty line.</p><p>We’ll meet in the parking lot ($10 day use fee) at 10am. L
 atecomers will find us on the trail in the coastal prairie. We’ll enjoy oce
 an views, sea cliff vegetation, raptors, songbirds and maybe marine mammals
 .</p><p>We will face an outgoing tide that morning and will see whether we 
 can picnic on the beach&nbsp;(in the area in which seal tour reservations a
 re not required).</p><p>As this is a day to have fun at the beach with fell
 ow Chapter members, the ending time and depth of botanical discussion may b
 e extended depending on participants. We will finish at the visitor center.
  Bring binoculars and layers of clothing for variable conditions including 
 wind, sun and fog. Extreme weather cancels. For more info., contact Dee Him
 es at <span id="cloak244ac03ce72cae97e9a77f202e3c3912">This email address i
 s being protected from spambots. You need JavaScript enabled to view it.</s
 pan><script type='text/javascript'>
				document.getElementById('cloak244ac
 03ce72cae97e9a77f202e3c3912').innerHTML = '';
				var prefix = '&#109;a' + 
 'i&#108;' + '&#116;o';
				var path = 'hr' + 'ef' + '=';
				var addy244ac0
 3ce72cae97e9a77f202e3c3912 = 'd&#101;&#101;4cnps' + '&#64;';
				addy244ac0
 3ce72cae97e9a77f202e3c3912 = addy244ac03ce72cae97e9a77f202e3c3912 + 'gm&#97
 ;&#105;l' + '&#46;' + 'c&#111;m';
				var addy_text244ac03ce72cae97e9a77f20
 2e3c3912 = 'd&#101;&#101;4cnps' + '&#64;' + 'gm&#97;&#105;l' + '&#46;' + 'c
 &#111;m';document.getElementById('cloak244ac03ce72cae97e9a77f202e3c3912').i
 nnerHTML += '<a ' + path + '\'' + prefix + ':' + addy244ac03ce72cae97e9a77f
 202e3c3912 + '\'>'+addy_text244ac03ce72cae97e9a77f202e3c3912+'<\/a>';
		</s
 cript> or call 650-951-8560.</p></div></div></div>
CONTACT:Dee Himes at This email address is being protected from spambots. You need JavaScript enabled to view it.
				document.getElementById('cloak5925309251c2a10885dc4ffeb12f8238').innerHTML = '';
				var prefix = '&#109;a' + 'i&#108;' + '&#116;o';
				var path = 'hr' + 'ef' + '=';
				var addy5925309251c2a10885dc4ffeb12f8238 = 'd&#101;&#101;4cnps' + '&#64;';
				addy5925309251c2a10885dc4ffeb12f8238 = addy5925309251c2a10885dc4ffeb12f8238 + 'gm&#97;&#105;l' + '&#46;' + 'c&#111;m';
				var addy_text5925309251c2a10885dc4ffeb12f8238 = 'd&#101;&#101;4cnps' + '&#64;' + 'gm&#97;&#105;l' + '&#46;' + 'c&#111;m';document.getElementById('cloak5925309251c2a10885dc4ffeb12f8238').innerHTML += '<a ' + path + '\'' + prefix + ':' + addy5925309251c2a10885dc4ffeb12f8238 + '\'>'+addy_text5925309251c2a10885dc4ffeb12f8238+'';
		 or call 650-951-8560
DTSTAMP:20260422T100356
DTSTART;TZID=America/Tijuana:20180101T100000
DTEND;TZID=America/Tijuana:20180101T130000
SEQUENCE:0
TRANSP:OPAQUE
END:VEVENT
END:VCALENDAR