BEGIN:VCALENDAR
VERSION:2.0
PRODID:-//jEvents 2.0 for Joomla//EN
CALSCALE:GREGORIAN
METHOD:PUBLISH
BEGIN:VTIMEZONE
TZID:America/Tijuana
BEGIN:STANDARD
DTSTART:20171105T010000
RDATE:20180311T030000
TZOFFSETFROM:-0700
TZOFFSETTO:-0800
TZNAME:America/Tijuana PST
END:STANDARD
BEGIN:STANDARD
DTSTART:20181104T010000
RDATE:20190310T030000
TZOFFSETFROM:-0700
TZOFFSETTO:-0800
TZNAME:America/Tijuana PST
END:STANDARD
BEGIN:STANDARD
DTSTART:20191103T010000
RDATE:20200308T030000
TZOFFSETFROM:-0700
TZOFFSETTO:-0800
TZNAME:America/Tijuana PST
END:STANDARD
BEGIN:STANDARD
DTSTART:20201101T010000
RDATE:20210314T030000
TZOFFSETFROM:-0700
TZOFFSETTO:-0800
TZNAME:America/Tijuana PST
END:STANDARD
BEGIN:STANDARD
DTSTART:20211107T010000
RDATE:20220313T030000
TZOFFSETFROM:-0700
TZOFFSETTO:-0800
TZNAME:America/Tijuana PST
END:STANDARD
BEGIN:STANDARD
DTSTART:20221106T010000
RDATE:20230312T030000
TZOFFSETFROM:-0700
TZOFFSETTO:-0800
TZNAME:America/Tijuana PST
END:STANDARD
BEGIN:STANDARD
DTSTART:20231105T010000
RDATE:20240310T030000
TZOFFSETFROM:-0700
TZOFFSETTO:-0800
TZNAME:America/Tijuana PST
END:STANDARD
BEGIN:STANDARD
DTSTART:20241103T010000
RDATE:20250309T030000
TZOFFSETFROM:-0700
TZOFFSETTO:-0800
TZNAME:America/Tijuana PST
END:STANDARD
BEGIN:STANDARD
DTSTART:20251102T010000
RDATE:20260308T030000
TZOFFSETFROM:-0700
TZOFFSETTO:-0800
TZNAME:America/Tijuana PST
END:STANDARD
BEGIN:STANDARD
DTSTART:20261101T010000
RDATE:20270314T030000
TZOFFSETFROM:-0700
TZOFFSETTO:-0800
TZNAME:America/Tijuana PST
END:STANDARD
BEGIN:STANDARD
DTSTART:20271107T010000
RDATE:20280312T030000
TZOFFSETFROM:-0700
TZOFFSETTO:-0800
TZNAME:America/Tijuana PST
END:STANDARD
BEGIN:DAYLIGHT
DTSTART:20170315T193000
RDATE:20171105T010000
TZOFFSETFROM:-0800
TZOFFSETTO:-0700
TZNAME:America/Tijuana PDT
END:DAYLIGHT
BEGIN:DAYLIGHT
DTSTART:20180311T030000
RDATE:20181104T010000
TZOFFSETFROM:-0800
TZOFFSETTO:-0700
TZNAME:America/Tijuana PDT
END:DAYLIGHT
BEGIN:DAYLIGHT
DTSTART:20190310T030000
RDATE:20191103T010000
TZOFFSETFROM:-0800
TZOFFSETTO:-0700
TZNAME:America/Tijuana PDT
END:DAYLIGHT
BEGIN:DAYLIGHT
DTSTART:20200308T030000
RDATE:20201101T010000
TZOFFSETFROM:-0800
TZOFFSETTO:-0700
TZNAME:America/Tijuana PDT
END:DAYLIGHT
BEGIN:DAYLIGHT
DTSTART:20210314T030000
RDATE:20211107T010000
TZOFFSETFROM:-0800
TZOFFSETTO:-0700
TZNAME:America/Tijuana PDT
END:DAYLIGHT
BEGIN:DAYLIGHT
DTSTART:20220313T030000
RDATE:20221106T010000
TZOFFSETFROM:-0800
TZOFFSETTO:-0700
TZNAME:America/Tijuana PDT
END:DAYLIGHT
BEGIN:DAYLIGHT
DTSTART:20230312T030000
RDATE:20231105T010000
TZOFFSETFROM:-0800
TZOFFSETTO:-0700
TZNAME:America/Tijuana PDT
END:DAYLIGHT
BEGIN:DAYLIGHT
DTSTART:20240310T030000
RDATE:20241103T010000
TZOFFSETFROM:-0800
TZOFFSETTO:-0700
TZNAME:America/Tijuana PDT
END:DAYLIGHT
BEGIN:DAYLIGHT
DTSTART:20250309T030000
RDATE:20251102T010000
TZOFFSETFROM:-0800
TZOFFSETTO:-0700
TZNAME:America/Tijuana PDT
END:DAYLIGHT
BEGIN:DAYLIGHT
DTSTART:20260308T030000
RDATE:20261101T010000
TZOFFSETFROM:-0800
TZOFFSETTO:-0700
TZNAME:America/Tijuana PDT
END:DAYLIGHT
BEGIN:DAYLIGHT
DTSTART:20270314T030000
RDATE:20271107T010000
TZOFFSETFROM:-0800
TZOFFSETTO:-0700
TZNAME:America/Tijuana PDT
END:DAYLIGHT
END:VTIMEZONE
BEGIN:VEVENT
UID:fa9eea5142c442eae97b36d40e3c938e
CATEGORIES:Meetings
CREATED:20180215T102736
SUMMARY:Loma Fire Recovery and Coyote Valley Conservation
LOCATION:Los Altos Library Program Room 13 So. San Antonio Road\, Los Altos
DESCRIPTION:<div class="page" title="Page 1"><div class="layoutArea"><div class="column
 "><p>Learn about three projects that the Santa Clara Valley Open Space Auth
 ority (OSA) is currently working on. The Loma Fire burned more than 4,500 a
 cres in the Santa Cruz Mountains in September 2016, and half of the fire wa
 s on OSA lands. In 2017, Vollmar Natural Lands Consulting completed the fir
 st year of a three-year study of habitat and vegetation on the burn site, a
 nd Galli Besson will share the goals of the study and the results so far.</
 p><div class="page" title="Page 2"><div class="layoutArea"><div class="colu
 mn"><p>Coyote Valley is an important wildlife linkage between the Santa Cru
 z Mountains and the Diablo Range. Learn about the work that the OSA is doin
 g with partners to conserve this landscape. And finally, Galli will give an
  update on the resource surveys and management of the Coyote Ridge Open Spa
 ce Preserve.</p><p>Galli Basson is a Resource Management Specialist with th
 e Santa Clara Valley Open Space Authority where she works on advancing the 
 OSA’s natural resource program. She holds a Master’s in Environmental Studi
 es from San Jose State University and a Bachelor’s in Wildlife Conservation
  Biology from UC Davis.</p></div></div></div></div></div></div>
CONTACT:Chapter President Madeline Morrow at This email address is being protected from spambots. You need JavaScript enabled to view it.
				document.getElementById('cloak0e969fe068f19827cfb2d8292291965e').innerHTML = '';
				var prefix = '&#109;a' + 'i&#108;' + '&#116;o';
				var path = 'hr' + 'ef' + '=';
				var addy0e969fe068f19827cfb2d8292291965e = 'm&#97;d&#101;l&#105;n&#101;m&#111;rr&#111;w' + '&#64;';
				addy0e969fe068f19827cfb2d8292291965e = addy0e969fe068f19827cfb2d8292291965e + '&#101;&#97;rthl&#105;nk' + '&#46;' + 'n&#101;t';
				var addy_text0e969fe068f19827cfb2d8292291965e = 'm&#97;d&#101;l&#105;n&#101;m&#111;rr&#111;w' + '&#64;' + '&#101;&#97;rthl&#105;nk' + '&#46;' + 'n&#101;t';document.getElementById('cloak0e969fe068f19827cfb2d8292291965e').innerHTML += '<a ' + path + '\'' + prefix + ':' + addy0e969fe068f19827cfb2d8292291965e + '\'>'+addy_text0e969fe068f19827cfb2d8292291965e+'';
		 or the Chapter phone (650) 260-3450
DTSTAMP:20260426T043917
DTSTART;TZID=America/Tijuana:20180316T193000
DTEND;TZID=America/Tijuana:20180316T210000
SEQUENCE:0
TRANSP:OPAQUE
END:VEVENT
END:VCALENDAR