BEGIN:VCALENDAR
VERSION:2.0
PRODID:-//jEvents 2.0 for Joomla//EN
CALSCALE:GREGORIAN
METHOD:PUBLISH
BEGIN:VTIMEZONE
TZID:America/Tijuana
BEGIN:STANDARD
DTSTART:20170302T090000
RDATE:20170312T030000
TZOFFSETFROM:-0700
TZOFFSETTO:-0800
TZNAME:America/Tijuana PST
END:STANDARD
BEGIN:STANDARD
DTSTART:20171105T010000
RDATE:20180311T030000
TZOFFSETFROM:-0700
TZOFFSETTO:-0800
TZNAME:America/Tijuana PST
END:STANDARD
BEGIN:STANDARD
DTSTART:20181104T010000
RDATE:20190310T030000
TZOFFSETFROM:-0700
TZOFFSETTO:-0800
TZNAME:America/Tijuana PST
END:STANDARD
BEGIN:STANDARD
DTSTART:20191103T010000
RDATE:20200308T030000
TZOFFSETFROM:-0700
TZOFFSETTO:-0800
TZNAME:America/Tijuana PST
END:STANDARD
BEGIN:STANDARD
DTSTART:20201101T010000
RDATE:20210314T030000
TZOFFSETFROM:-0700
TZOFFSETTO:-0800
TZNAME:America/Tijuana PST
END:STANDARD
BEGIN:STANDARD
DTSTART:20211107T010000
RDATE:20220313T030000
TZOFFSETFROM:-0700
TZOFFSETTO:-0800
TZNAME:America/Tijuana PST
END:STANDARD
BEGIN:STANDARD
DTSTART:20221106T010000
RDATE:20230312T030000
TZOFFSETFROM:-0700
TZOFFSETTO:-0800
TZNAME:America/Tijuana PST
END:STANDARD
BEGIN:STANDARD
DTSTART:20231105T010000
RDATE:20240310T030000
TZOFFSETFROM:-0700
TZOFFSETTO:-0800
TZNAME:America/Tijuana PST
END:STANDARD
BEGIN:STANDARD
DTSTART:20241103T010000
RDATE:20250309T030000
TZOFFSETFROM:-0700
TZOFFSETTO:-0800
TZNAME:America/Tijuana PST
END:STANDARD
BEGIN:STANDARD
DTSTART:20251102T010000
RDATE:20260308T030000
TZOFFSETFROM:-0700
TZOFFSETTO:-0800
TZNAME:America/Tijuana PST
END:STANDARD
BEGIN:STANDARD
DTSTART:20261101T010000
RDATE:20270314T030000
TZOFFSETFROM:-0700
TZOFFSETTO:-0800
TZNAME:America/Tijuana PST
END:STANDARD
BEGIN:STANDARD
DTSTART:20271107T010000
RDATE:20280312T030000
TZOFFSETFROM:-0700
TZOFFSETTO:-0800
TZNAME:America/Tijuana PST
END:STANDARD
BEGIN:DAYLIGHT
DTSTART:20170312T030000
RDATE:20171105T010000
TZOFFSETFROM:-0800
TZOFFSETTO:-0700
TZNAME:America/Tijuana PDT
END:DAYLIGHT
BEGIN:DAYLIGHT
DTSTART:20180311T030000
RDATE:20181104T010000
TZOFFSETFROM:-0800
TZOFFSETTO:-0700
TZNAME:America/Tijuana PDT
END:DAYLIGHT
BEGIN:DAYLIGHT
DTSTART:20190310T030000
RDATE:20191103T010000
TZOFFSETFROM:-0800
TZOFFSETTO:-0700
TZNAME:America/Tijuana PDT
END:DAYLIGHT
BEGIN:DAYLIGHT
DTSTART:20200308T030000
RDATE:20201101T010000
TZOFFSETFROM:-0800
TZOFFSETTO:-0700
TZNAME:America/Tijuana PDT
END:DAYLIGHT
BEGIN:DAYLIGHT
DTSTART:20210314T030000
RDATE:20211107T010000
TZOFFSETFROM:-0800
TZOFFSETTO:-0700
TZNAME:America/Tijuana PDT
END:DAYLIGHT
BEGIN:DAYLIGHT
DTSTART:20220313T030000
RDATE:20221106T010000
TZOFFSETFROM:-0800
TZOFFSETTO:-0700
TZNAME:America/Tijuana PDT
END:DAYLIGHT
BEGIN:DAYLIGHT
DTSTART:20230312T030000
RDATE:20231105T010000
TZOFFSETFROM:-0800
TZOFFSETTO:-0700
TZNAME:America/Tijuana PDT
END:DAYLIGHT
BEGIN:DAYLIGHT
DTSTART:20240310T030000
RDATE:20241103T010000
TZOFFSETFROM:-0800
TZOFFSETTO:-0700
TZNAME:America/Tijuana PDT
END:DAYLIGHT
BEGIN:DAYLIGHT
DTSTART:20250309T030000
RDATE:20251102T010000
TZOFFSETFROM:-0800
TZOFFSETTO:-0700
TZNAME:America/Tijuana PDT
END:DAYLIGHT
BEGIN:DAYLIGHT
DTSTART:20260308T030000
RDATE:20261101T010000
TZOFFSETFROM:-0800
TZOFFSETTO:-0700
TZNAME:America/Tijuana PDT
END:DAYLIGHT
BEGIN:DAYLIGHT
DTSTART:20270314T030000
RDATE:20271107T010000
TZOFFSETFROM:-0800
TZOFFSETTO:-0700
TZNAME:America/Tijuana PDT
END:DAYLIGHT
END:VTIMEZONE
BEGIN:VEVENT
UID:aa675ae30951d51775f4557667274592
CATEGORIES:Field Trips
CREATED:20180215T113238
SUMMARY:Lichen Walk at Pedro Point Headlands (Pacifica)
LOCATION:Pedro Point Headlands (Pacifica)
DESCRIPTION:Join Alf Fengler for a leisurely walk through this coastal gem, looking mos
 tly for lichens, these fascinating composite organisms comprising members o
 f two or even three biological kingdoms. Pack water, lunch, sunscreen and s
 turdy hiking shoes. Be prepared for windy and cool conditions near the ocea
 n. Also, bring a hand lens if you have one available, since many important 
 lichen features are quite small.\nThe hike distance will be 2-3 miles with 
 about 400 feet elevation change.\nThis trip will be limited to 12 people, a
 s parking is extremely limited at the trail head. We probably will meet in 
 Pacifica and carpool from there. For more information and to reserve your s
 pot, contact Alf Fengler at This email address is being protected from spam
 bots. You need JavaScript enabled to view it.
				document.getElementById('
 cloak0caf6fcce2dc2c88538d8fb17564315b').innerHTML = '';
				var prefix = '&
 #109;a' + 'i&#108;' + '&#116;o';
				var path = 'hr' + 'ef' + '=';
				var 
 addy0caf6fcce2dc2c88538d8fb17564315b = '&#97;f&#101;ngl&#101;r' + '&#64;';

 				addy0caf6fcce2dc2c88538d8fb17564315b = addy0caf6fcce2dc2c88538d8fb17564
 315b + '&#97;cm' + '&#46;' + '&#111;rg';
				var addy_text0caf6fcce2dc2c885
 38d8fb17564315b = '&#97;f&#101;ngl&#101;r' + '&#64;' + '&#97;cm' + '&#46;' 
 + '&#111;rg';document.getElementById('cloak0caf6fcce2dc2c88538d8fb17564315b
 ').innerHTML += '<a ' + path + '\'' + prefix + ':' + addy0caf6fcce2dc2c8853
 8d8fb17564315b + '\'>'+addy_text0caf6fcce2dc2c88538d8fb17564315b+'';
		 or 
 (650) 345-7045.\n
X-ALT-DESC;FMTTYPE=text/html:<div class="page" title="Page 7"><div class="layoutArea"><div class="column
 "><p>Join Alf Fengler for a leisurely walk through this coastal gem, lookin
 g mostly for lichens, these fascinating composite organisms comprising memb
 ers of two or even three biological kingdoms. Pack water, lunch, sunscreen 
 and sturdy hiking shoes. Be prepared for windy and cool conditions near the
  ocean. Also, bring a hand lens if you have one available, since many impor
 tant lichen features are quite small.</p><p>The hike distance will be 2-3 m
 iles with about 400 feet elevation change.</p><p>This trip will be limited 
 to 12 people, as parking is extremely limited at the trail head.&nbsp;We pr
 obably will meet in Pacifica and carpool from there. For more information a
 nd to reserve your spot, contact Alf Fengler at <span id="cloak0caf6fcce2dc
 2c88538d8fb17564315b">This email address is being protected from spambots. 
 You need JavaScript enabled to view it.</span><script type='text/javascript
 '>
				document.getElementById('cloak0caf6fcce2dc2c88538d8fb17564315b').inn
 erHTML = '';
				var prefix = '&#109;a' + 'i&#108;' + '&#116;o';
				var pa
 th = 'hr' + 'ef' + '=';
				var addy0caf6fcce2dc2c88538d8fb17564315b = '&#9
 7;f&#101;ngl&#101;r' + '&#64;';
				addy0caf6fcce2dc2c88538d8fb17564315b = 
 addy0caf6fcce2dc2c88538d8fb17564315b + '&#97;cm' + '&#46;' + '&#111;rg';
		
 		var addy_text0caf6fcce2dc2c88538d8fb17564315b = '&#97;f&#101;ngl&#101;r' 
 + '&#64;' + '&#97;cm' + '&#46;' + '&#111;rg';document.getElementById('cloak
 0caf6fcce2dc2c88538d8fb17564315b').innerHTML += '<a ' + path + '\'' + prefi
 x + ':' + addy0caf6fcce2dc2c88538d8fb17564315b + '\'>'+addy_text0caf6fcce2d
 c2c88538d8fb17564315b+'<\/a>';
		</script> or (650) 345-7045.</p></div></di
 v></div>
CONTACT:Alf Fengler at This email address is being protected from spambots. You need JavaScript enabled to view it.
				document.getElementById('cloak635908479c90c6350ee0c1dbe9657fa5').innerHTML = '';
				var prefix = '&#109;a' + 'i&#108;' + '&#116;o';
				var path = 'hr' + 'ef' + '=';
				var addy635908479c90c6350ee0c1dbe9657fa5 = '&#97;f&#101;ngl&#101;r' + '&#64;';
				addy635908479c90c6350ee0c1dbe9657fa5 = addy635908479c90c6350ee0c1dbe9657fa5 + '&#97;cm' + '&#46;' + '&#111;rg';
				var addy_text635908479c90c6350ee0c1dbe9657fa5 = '&#97;f&#101;ngl&#101;r' + '&#64;' + '&#97;cm' + '&#46;' + '&#111;rg';document.getElementById('cloak635908479c90c6350ee0c1dbe9657fa5').innerHTML += '<a ' + path + '\'' + prefix + ':' + addy635908479c90c6350ee0c1dbe9657fa5 + '\'>'+addy_text635908479c90c6350ee0c1dbe9657fa5+'';
		 or (650) 345-7045
DTSTAMP:20260422T131605
DTSTART;TZID=America/Tijuana:20180303T090000
DTEND;TZID=America/Tijuana:20180303T130000
SEQUENCE:0
TRANSP:OPAQUE
END:VEVENT
END:VCALENDAR