BEGIN:VCALENDAR
VERSION:2.0
PRODID:-//jEvents 2.0 for Joomla//EN
CALSCALE:GREGORIAN
METHOD:PUBLISH
BEGIN:VTIMEZONE
TZID:America/Tijuana
BEGIN:STANDARD
DTSTART:20171105T010000
RDATE:20180311T030000
TZOFFSETFROM:-0700
TZOFFSETTO:-0800
TZNAME:America/Tijuana PST
END:STANDARD
BEGIN:STANDARD
DTSTART:20181104T010000
RDATE:20190310T030000
TZOFFSETFROM:-0700
TZOFFSETTO:-0800
TZNAME:America/Tijuana PST
END:STANDARD
BEGIN:STANDARD
DTSTART:20191103T010000
RDATE:20200308T030000
TZOFFSETFROM:-0700
TZOFFSETTO:-0800
TZNAME:America/Tijuana PST
END:STANDARD
BEGIN:STANDARD
DTSTART:20201101T010000
RDATE:20210314T030000
TZOFFSETFROM:-0700
TZOFFSETTO:-0800
TZNAME:America/Tijuana PST
END:STANDARD
BEGIN:STANDARD
DTSTART:20211107T010000
RDATE:20220313T030000
TZOFFSETFROM:-0700
TZOFFSETTO:-0800
TZNAME:America/Tijuana PST
END:STANDARD
BEGIN:STANDARD
DTSTART:20221106T010000
RDATE:20230312T030000
TZOFFSETFROM:-0700
TZOFFSETTO:-0800
TZNAME:America/Tijuana PST
END:STANDARD
BEGIN:STANDARD
DTSTART:20231105T010000
RDATE:20240310T030000
TZOFFSETFROM:-0700
TZOFFSETTO:-0800
TZNAME:America/Tijuana PST
END:STANDARD
BEGIN:STANDARD
DTSTART:20241103T010000
RDATE:20250309T030000
TZOFFSETFROM:-0700
TZOFFSETTO:-0800
TZNAME:America/Tijuana PST
END:STANDARD
BEGIN:STANDARD
DTSTART:20251102T010000
RDATE:20260308T030000
TZOFFSETFROM:-0700
TZOFFSETTO:-0800
TZNAME:America/Tijuana PST
END:STANDARD
BEGIN:STANDARD
DTSTART:20261101T010000
RDATE:20270314T030000
TZOFFSETFROM:-0700
TZOFFSETTO:-0800
TZNAME:America/Tijuana PST
END:STANDARD
BEGIN:STANDARD
DTSTART:20271107T010000
RDATE:20280312T030000
TZOFFSETFROM:-0700
TZOFFSETTO:-0800
TZNAME:America/Tijuana PST
END:STANDARD
BEGIN:DAYLIGHT
DTSTART:20170523T080000
RDATE:20171105T010000
TZOFFSETFROM:-0800
TZOFFSETTO:-0700
TZNAME:America/Tijuana PDT
END:DAYLIGHT
BEGIN:DAYLIGHT
DTSTART:20180311T030000
RDATE:20181104T010000
TZOFFSETFROM:-0800
TZOFFSETTO:-0700
TZNAME:America/Tijuana PDT
END:DAYLIGHT
BEGIN:DAYLIGHT
DTSTART:20190310T030000
RDATE:20191103T010000
TZOFFSETFROM:-0800
TZOFFSETTO:-0700
TZNAME:America/Tijuana PDT
END:DAYLIGHT
BEGIN:DAYLIGHT
DTSTART:20200308T030000
RDATE:20201101T010000
TZOFFSETFROM:-0800
TZOFFSETTO:-0700
TZNAME:America/Tijuana PDT
END:DAYLIGHT
BEGIN:DAYLIGHT
DTSTART:20210314T030000
RDATE:20211107T010000
TZOFFSETFROM:-0800
TZOFFSETTO:-0700
TZNAME:America/Tijuana PDT
END:DAYLIGHT
BEGIN:DAYLIGHT
DTSTART:20220313T030000
RDATE:20221106T010000
TZOFFSETFROM:-0800
TZOFFSETTO:-0700
TZNAME:America/Tijuana PDT
END:DAYLIGHT
BEGIN:DAYLIGHT
DTSTART:20230312T030000
RDATE:20231105T010000
TZOFFSETFROM:-0800
TZOFFSETTO:-0700
TZNAME:America/Tijuana PDT
END:DAYLIGHT
BEGIN:DAYLIGHT
DTSTART:20240310T030000
RDATE:20241103T010000
TZOFFSETFROM:-0800
TZOFFSETTO:-0700
TZNAME:America/Tijuana PDT
END:DAYLIGHT
BEGIN:DAYLIGHT
DTSTART:20250309T030000
RDATE:20251102T010000
TZOFFSETFROM:-0800
TZOFFSETTO:-0700
TZNAME:America/Tijuana PDT
END:DAYLIGHT
BEGIN:DAYLIGHT
DTSTART:20260308T030000
RDATE:20261101T010000
TZOFFSETFROM:-0800
TZOFFSETTO:-0700
TZNAME:America/Tijuana PDT
END:DAYLIGHT
BEGIN:DAYLIGHT
DTSTART:20270314T030000
RDATE:20271107T010000
TZOFFSETFROM:-0800
TZOFFSETTO:-0700
TZNAME:America/Tijuana PDT
END:DAYLIGHT
END:VTIMEZONE
BEGIN:VEVENT
UID:a88fe7a8a37bb2a18f1126e72b59b4dc
CATEGORIES:Field Trips
CREATED:20180420T140125
SUMMARY:Lava Beds National Monument and McArthur- Burney Falls Memorial State Park (NE CA)
LOCATION:Lava Beds National Monument and McArthur- Burney Falls Memorial State Park 
 (NE CA)
DESCRIPTION:Join Ken and Dee Himes on a camping trip to a high desert location that is 
 amazing both ecologically and historically. We will explore this fascinatin
 g landscape and interesting flora of Lava Beds National Monument and explor
 e the transitional areas of cismontane/transmontane flora of Burney Falls b
 efore heading home. \nThere are caves to explore and a great view of Mt. Sh
 asta; a WW II internment camp and petroglyphs are nearby. It is also the si
 te of the Modoc wars. There is a native American trail and the fascinating 
 Tule Lake-Butte Valley museum nearby. \nWe will drive up to Lava Beds on Th
 ursday and spend three nights there, then move to Burney Falls for two nigh
 ts and return home on Tuesday. Those wanting to see more of the historical 
 attractions at Lava Beds might go a day or two earlier. \nFor reservations 
 (CNPS members only), contact Patricia Evans at This email address is being 
 protected from spambots. You need JavaScript enabled to view it.
				docume
 nt.getElementById('cloak5bbfbfe3cd49c14d7a3ee2305f7bf66f').innerHTML = '';

 				var prefix = '&#109;a' + 'i&#108;' + '&#116;o';
				var path = 'hr' + '
 ef' + '=';
				var addy5bbfbfe3cd49c14d7a3ee2305f7bf66f = 'p&#97;&#101;v&#9
 7;ns' + '&#64;';
				addy5bbfbfe3cd49c14d7a3ee2305f7bf66f = addy5bbfbfe3cd4
 9c14d7a3ee2305f7bf66f + 'st&#97;nf&#111;rd&#97;l&#117;mn&#105;' + '&#46;' +
  '&#111;rg';
				var addy_text5bbfbfe3cd49c14d7a3ee2305f7bf66f = 'p&#97;&#1
 01;v&#97;ns' + '&#64;' + 'st&#97;nf&#111;rd&#97;l&#117;mn&#105;' + '&#46;' 
 + '&#111;rg';document.getElementById('cloak5bbfbfe3cd49c14d7a3ee2305f7bf66f
 ').innerHTML += '<a ' + path + '\'' + prefix + ':' + addy5bbfbfe3cd49c14d7a
 3ee2305f7bf66f + '\'>'+addy_text5bbfbfe3cd49c14d7a3ee2305f7bf66f+'';
		 or 
 (650) 949-2801. \n
X-ALT-DESC;FMTTYPE=text/html:<div class="page" title="Page 7"><div class="layoutArea"><div class="column
 "><p><span style="font-size: 11pt; font-family: TimesNewRoman;">Join Ken an
 d Dee Himes on a camping trip to a high desert location that is amazing bot
 h ecologically and historically. We will explore this fascinating landscape
  and interesting flora of Lava Beds National Monument and explore the trans
 itional areas of cismontane/transmontane flora of Burney Falls before headi
 ng home. </span></p><p><span style="font-size: 11pt; font-family: TimesNewR
 oman;">There are caves to explore and a great view of Mt. Shasta; a WW II i
 nternment camp and petroglyphs are nearby. It is also the site of the Modoc
  wars. There is a native American trail and the fascinating Tule Lake-Butte
  Valley museum nearby. </span></p><p><span style="font-size: 11pt; font-fam
 ily: TimesNewRoman;">We will drive up to Lava Beds on Thursday and spend th
 ree nights there, then move to Burney Falls for two nights and return home 
 on Tuesday. Those wanting to see more of the historical attractions at Lava
  Beds might go a day or two earlier. </span></p><p><span style="font-size: 
 11pt; font-family: TimesNewRoman;">For </span><span style="font-size: 11pt;
  font-family: 'TimesNewRoman,Bold';">reservations (CNPS members only)</span
 ><span style="font-size: 11pt; font-family: TimesNewRoman;">, contact Patri
 cia Evans at <span id="cloak5bbfbfe3cd49c14d7a3ee2305f7bf66f">This email ad
 dress is being protected from spambots. You need JavaScript enabled to view
  it.</span><script type='text/javascript'>
				document.getElementById('clo
 ak5bbfbfe3cd49c14d7a3ee2305f7bf66f').innerHTML = '';
				var prefix = '&#10
 9;a' + 'i&#108;' + '&#116;o';
				var path = 'hr' + 'ef' + '=';
				var add
 y5bbfbfe3cd49c14d7a3ee2305f7bf66f = 'p&#97;&#101;v&#97;ns' + '&#64;';
				a
 ddy5bbfbfe3cd49c14d7a3ee2305f7bf66f = addy5bbfbfe3cd49c14d7a3ee2305f7bf66f 
 + 'st&#97;nf&#111;rd&#97;l&#117;mn&#105;' + '&#46;' + '&#111;rg';
				var a
 ddy_text5bbfbfe3cd49c14d7a3ee2305f7bf66f = 'p&#97;&#101;v&#97;ns' + '&#64;'
  + 'st&#97;nf&#111;rd&#97;l&#117;mn&#105;' + '&#46;' + '&#111;rg';document.
 getElementById('cloak5bbfbfe3cd49c14d7a3ee2305f7bf66f').innerHTML += '<a ' 
 + path + '\'' + prefix + ':' + addy5bbfbfe3cd49c14d7a3ee2305f7bf66f + '\'>'
 +addy_text5bbfbfe3cd49c14d7a3ee2305f7bf66f+'<\/a>';
		</script> or (650) 94
 9-2801. </span></p></div></div></div>
CONTACT:Patricia Evans at This email address is being protected from spambots. You need JavaScript enabled to view it.
				document.getElementById('cloakc94161c7424ea5aa1d42f266527743a2').innerHTML = '';
				var prefix = '&#109;a' + 'i&#108;' + '&#116;o';
				var path = 'hr' + 'ef' + '=';
				var addyc94161c7424ea5aa1d42f266527743a2 = 'p&#97;&#101;v&#97;ns' + '&#64;';
				addyc94161c7424ea5aa1d42f266527743a2 = addyc94161c7424ea5aa1d42f266527743a2 + 'st&#97;nf&#111;rd&#97;l&#117;mn&#105;' + '&#46;' + '&#111;rg';
				var addy_textc94161c7424ea5aa1d42f266527743a2 = 'p&#97;&#101;v&#97;ns' + '&#64;' + 'st&#97;nf&#111;rd&#97;l&#117;mn&#105;' + '&#46;' + '&#111;rg';document.getElementById('cloakc94161c7424ea5aa1d42f266527743a2').innerHTML += '<a ' + path + '\'' + prefix + ':' + addyc94161c7424ea5aa1d42f266527743a2 + '\'>'+addy_textc94161c7424ea5aa1d42f266527743a2+'';
		 or (650) 949-2801
DTSTAMP:20260422T223717
DTSTART;TZID=America/Tijuana:20180524T080000
DTEND;TZID=America/Tijuana:20180529T170000
SEQUENCE:0
TRANSP:OPAQUE
END:VEVENT
END:VCALENDAR