BEGIN:VCALENDAR
VERSION:2.0
PRODID:-//jEvents 2.0 for Joomla//EN
CALSCALE:GREGORIAN
METHOD:PUBLISH
BEGIN:VTIMEZONE
TZID:America/Tijuana
BEGIN:STANDARD
DTSTART:20171105T010000
RDATE:20180311T030000
TZOFFSETFROM:-0700
TZOFFSETTO:-0800
TZNAME:America/Tijuana PST
END:STANDARD
BEGIN:STANDARD
DTSTART:20181104T010000
RDATE:20190310T030000
TZOFFSETFROM:-0700
TZOFFSETTO:-0800
TZNAME:America/Tijuana PST
END:STANDARD
BEGIN:STANDARD
DTSTART:20191103T010000
RDATE:20200308T030000
TZOFFSETFROM:-0700
TZOFFSETTO:-0800
TZNAME:America/Tijuana PST
END:STANDARD
BEGIN:STANDARD
DTSTART:20201101T010000
RDATE:20210314T030000
TZOFFSETFROM:-0700
TZOFFSETTO:-0800
TZNAME:America/Tijuana PST
END:STANDARD
BEGIN:STANDARD
DTSTART:20211107T010000
RDATE:20220313T030000
TZOFFSETFROM:-0700
TZOFFSETTO:-0800
TZNAME:America/Tijuana PST
END:STANDARD
BEGIN:STANDARD
DTSTART:20221106T010000
RDATE:20230312T030000
TZOFFSETFROM:-0700
TZOFFSETTO:-0800
TZNAME:America/Tijuana PST
END:STANDARD
BEGIN:STANDARD
DTSTART:20231105T010000
RDATE:20240310T030000
TZOFFSETFROM:-0700
TZOFFSETTO:-0800
TZNAME:America/Tijuana PST
END:STANDARD
BEGIN:STANDARD
DTSTART:20241103T010000
RDATE:20250309T030000
TZOFFSETFROM:-0700
TZOFFSETTO:-0800
TZNAME:America/Tijuana PST
END:STANDARD
BEGIN:STANDARD
DTSTART:20251102T010000
RDATE:20260308T030000
TZOFFSETFROM:-0700
TZOFFSETTO:-0800
TZNAME:America/Tijuana PST
END:STANDARD
BEGIN:STANDARD
DTSTART:20261101T010000
RDATE:20270314T030000
TZOFFSETFROM:-0700
TZOFFSETTO:-0800
TZNAME:America/Tijuana PST
END:STANDARD
BEGIN:STANDARD
DTSTART:20271107T010000
RDATE:20280312T030000
TZOFFSETFROM:-0700
TZOFFSETTO:-0800
TZNAME:America/Tijuana PST
END:STANDARD
BEGIN:DAYLIGHT
DTSTART:20170630T080000
RDATE:20171105T010000
TZOFFSETFROM:-0800
TZOFFSETTO:-0700
TZNAME:America/Tijuana PDT
END:DAYLIGHT
BEGIN:DAYLIGHT
DTSTART:20180311T030000
RDATE:20181104T010000
TZOFFSETFROM:-0800
TZOFFSETTO:-0700
TZNAME:America/Tijuana PDT
END:DAYLIGHT
BEGIN:DAYLIGHT
DTSTART:20190310T030000
RDATE:20191103T010000
TZOFFSETFROM:-0800
TZOFFSETTO:-0700
TZNAME:America/Tijuana PDT
END:DAYLIGHT
BEGIN:DAYLIGHT
DTSTART:20200308T030000
RDATE:20201101T010000
TZOFFSETFROM:-0800
TZOFFSETTO:-0700
TZNAME:America/Tijuana PDT
END:DAYLIGHT
BEGIN:DAYLIGHT
DTSTART:20210314T030000
RDATE:20211107T010000
TZOFFSETFROM:-0800
TZOFFSETTO:-0700
TZNAME:America/Tijuana PDT
END:DAYLIGHT
BEGIN:DAYLIGHT
DTSTART:20220313T030000
RDATE:20221106T010000
TZOFFSETFROM:-0800
TZOFFSETTO:-0700
TZNAME:America/Tijuana PDT
END:DAYLIGHT
BEGIN:DAYLIGHT
DTSTART:20230312T030000
RDATE:20231105T010000
TZOFFSETFROM:-0800
TZOFFSETTO:-0700
TZNAME:America/Tijuana PDT
END:DAYLIGHT
BEGIN:DAYLIGHT
DTSTART:20240310T030000
RDATE:20241103T010000
TZOFFSETFROM:-0800
TZOFFSETTO:-0700
TZNAME:America/Tijuana PDT
END:DAYLIGHT
BEGIN:DAYLIGHT
DTSTART:20250309T030000
RDATE:20251102T010000
TZOFFSETFROM:-0800
TZOFFSETTO:-0700
TZNAME:America/Tijuana PDT
END:DAYLIGHT
BEGIN:DAYLIGHT
DTSTART:20260308T030000
RDATE:20261101T010000
TZOFFSETFROM:-0800
TZOFFSETTO:-0700
TZNAME:America/Tijuana PDT
END:DAYLIGHT
BEGIN:DAYLIGHT
DTSTART:20270314T030000
RDATE:20271107T010000
TZOFFSETFROM:-0800
TZOFFSETTO:-0700
TZNAME:America/Tijuana PDT
END:DAYLIGHT
END:VTIMEZONE
BEGIN:VEVENT
UID:321d2e6fdd4737e710a8935c591c8077
CATEGORIES:Field Trips
CREATED:20180420T141751
SUMMARY:Mount Eddy and Russian Wilderness: Two Backpacking Trips in the Klamath Range
LOCATION:Klamath Range
DESCRIPTION:Join leaders Ken Himes and Joe Cernac backpacking 3 miles into Dead Fall La
 ke to set up camp. Over the next few days we’ll explore and botanize meadow
 s and the summit of Mt. Eddy (9,026 ft.) with various elevation changes. \n
 These trips are for CNPS members only, limited to 15 people each. Please no
 te the elevation on both trips are well above 8,000 feet. These backpack tr
 ips are not suitable for anyone with any health and/or altitude issues. \nT
 o reserve your spot, contact Dee Himes at This email address is being prote
 cted from spambots. You need JavaScript enabled to view it.
				document.ge
 tElementById('cloakcf24255efa14d46a32d3519087167fee').innerHTML = '';
				v
 ar prefix = '&#109;a' + 'i&#108;' + '&#116;o';
				var path = 'hr' + 'ef' +
  '=';
				var addycf24255efa14d46a32d3519087167fee = 'd&#101;&#101;4cnps' +
  '&#64;';
				addycf24255efa14d46a32d3519087167fee = addycf24255efa14d46a32
 d3519087167fee + 'gm&#97;&#105;l' + '&#46;' + 'c&#111;m';
				var addy_text
 cf24255efa14d46a32d3519087167fee = 'd&#101;&#101;4cnps' + '&#64;' + 'gm&#97
 ;&#105;l' + '&#46;' + 'c&#111;m';document.getElementById('cloakcf24255efa14
 d46a32d3519087167fee').innerHTML += '<a ' + path + '\'' + prefix + ':' + ad
 dycf24255efa14d46a32d3519087167fee + '\'>'+addy_textcf24255efa14d46a32d3519
 087167fee+'';
		 or call Ken Himes (650) 591-8560 or Joe Cernac (408) 292-5
 465 for more information. \nTrip #1, July 1-8: \nJoin us for the first of t
 wo backpacking trips to Mt. Eddy and nearby Russian Wilderness, known for i
 ts conifer diversity. We expect to see rare Drabas such as Howell’s draba a
 nd Mt. Eddy draba, both endemic to the Klamath Ranges. Endemic to the Klama
 th Ranges and 1B.2 CNPS listed, Mt. Eddy sky pilot (Polemonium eddyense) sh
 ould be in good flower. \n
X-ALT-DESC;FMTTYPE=text/html:<div class="page" title="Page 9"><div class="layoutArea"><div class="column
 "><p><span style="font-size: 11pt; font-family: TimesNewRoman;">Join leader
 s Ken Himes and Joe Cernac backpacking&nbsp;3 miles into Dead Fall Lake to 
 set up camp. Over the next few days we’ll explore and botanize meadows and 
 the summit of Mt. Eddy (9,026 ft.) with various elevation changes. </span><
 /p><p><span style="font-size: 11pt; font-family: TimesNewRoman;">These trip
 s are for </span><span style="font-size: 11pt; font-family: 'TimesNewRoman,
 Bold';">CNPS members only</span><span style="font-size: 11pt; font-family: 
 TimesNewRoman;">, limited to 15 people each. Please note the elevation on b
 oth trips are well above 8,000 feet. These backpack trips are not suitable 
 for anyone with any health and/or altitude issues. </span></p><p><span styl
 e="font-size: 11pt; font-family: TimesNewRoman;">To </span><span style="fon
 t-size: 11pt; font-family: 'TimesNewRoman,Bold';">reserve your spot</span><
 span style="font-size: 11pt; font-family: TimesNewRoman;">, contact Dee Him
 es at <span id="cloakcf24255efa14d46a32d3519087167fee">This email address i
 s being protected from spambots. You need JavaScript enabled to view it.</s
 pan><script type='text/javascript'>
				document.getElementById('cloakcf242
 55efa14d46a32d3519087167fee').innerHTML = '';
				var prefix = '&#109;a' + 
 'i&#108;' + '&#116;o';
				var path = 'hr' + 'ef' + '=';
				var addycf2425
 5efa14d46a32d3519087167fee = 'd&#101;&#101;4cnps' + '&#64;';
				addycf2425
 5efa14d46a32d3519087167fee = addycf24255efa14d46a32d3519087167fee + 'gm&#97
 ;&#105;l' + '&#46;' + 'c&#111;m';
				var addy_textcf24255efa14d46a32d35190
 87167fee = 'd&#101;&#101;4cnps' + '&#64;' + 'gm&#97;&#105;l' + '&#46;' + 'c
 &#111;m';document.getElementById('cloakcf24255efa14d46a32d3519087167fee').i
 nnerHTML += '<a ' + path + '\'' + prefix + ':' + addycf24255efa14d46a32d351
 9087167fee + '\'>'+addy_textcf24255efa14d46a32d3519087167fee+'<\/a>';
		</s
 cript> or call Ken Himes (650) 591-8560 or Joe Cernac (408) 292-5465 for mo
 re information. </span></p><p><span style="font-size: 12pt; font-family: 'T
 imesNewRoman,Bold';">Trip #1, July 1-8: </span></p><p><span style="font-siz
 e: 11pt; font-family: TimesNewRoman;">Join us for the first of two backpack
 ing trips to Mt. Eddy and nearby Russian Wilderness, known for its conifer 
 diversity. We expect to see rare Drabas such as Howell’s draba and Mt. Eddy
  draba, both endemic to the Klamath Ranges. Endemic to the Klamath Ranges a
 nd 1B.2 CNPS listed, Mt. Eddy sky pilot (</span><span style="font-size: 11p
 t; font-family: 'TimesNewRoman,Italic';">Polemonium eddyense</span><span st
 yle="font-size: 11pt; font-family: TimesNewRoman;">) should be in good flow
 er. </span></p></div></div></div>
DTSTAMP:20260424T000248
DTSTART;TZID=America/Tijuana:20180701T080000
DTEND;TZID=America/Tijuana:20180708T170000
SEQUENCE:0
TRANSP:OPAQUE
END:VEVENT
END:VCALENDAR