BEGIN:VCALENDAR
VERSION:2.0
PRODID:-//jEvents 2.0 for Joomla//EN
CALSCALE:GREGORIAN
METHOD:PUBLISH
BEGIN:VTIMEZONE
TZID:America/Tijuana
BEGIN:STANDARD
DTSTART:20171109T180000
RDATE:20180311T030000
TZOFFSETFROM:-0700
TZOFFSETTO:-0800
TZNAME:America/Tijuana PST
END:STANDARD
BEGIN:STANDARD
DTSTART:20181104T010000
RDATE:20190310T030000
TZOFFSETFROM:-0700
TZOFFSETTO:-0800
TZNAME:America/Tijuana PST
END:STANDARD
BEGIN:STANDARD
DTSTART:20191103T010000
RDATE:20200308T030000
TZOFFSETFROM:-0700
TZOFFSETTO:-0800
TZNAME:America/Tijuana PST
END:STANDARD
BEGIN:STANDARD
DTSTART:20201101T010000
RDATE:20210314T030000
TZOFFSETFROM:-0700
TZOFFSETTO:-0800
TZNAME:America/Tijuana PST
END:STANDARD
BEGIN:STANDARD
DTSTART:20211107T010000
RDATE:20220313T030000
TZOFFSETFROM:-0700
TZOFFSETTO:-0800
TZNAME:America/Tijuana PST
END:STANDARD
BEGIN:STANDARD
DTSTART:20221106T010000
RDATE:20230312T030000
TZOFFSETFROM:-0700
TZOFFSETTO:-0800
TZNAME:America/Tijuana PST
END:STANDARD
BEGIN:STANDARD
DTSTART:20231105T010000
RDATE:20240310T030000
TZOFFSETFROM:-0700
TZOFFSETTO:-0800
TZNAME:America/Tijuana PST
END:STANDARD
BEGIN:STANDARD
DTSTART:20241103T010000
RDATE:20250309T030000
TZOFFSETFROM:-0700
TZOFFSETTO:-0800
TZNAME:America/Tijuana PST
END:STANDARD
BEGIN:STANDARD
DTSTART:20251102T010000
RDATE:20260308T030000
TZOFFSETFROM:-0700
TZOFFSETTO:-0800
TZNAME:America/Tijuana PST
END:STANDARD
BEGIN:STANDARD
DTSTART:20261101T010000
RDATE:20270314T030000
TZOFFSETFROM:-0700
TZOFFSETTO:-0800
TZNAME:America/Tijuana PST
END:STANDARD
BEGIN:STANDARD
DTSTART:20271107T010000
RDATE:20280312T030000
TZOFFSETFROM:-0700
TZOFFSETTO:-0800
TZNAME:America/Tijuana PST
END:STANDARD
BEGIN:DAYLIGHT
DTSTART:20180311T030000
RDATE:20181104T010000
TZOFFSETFROM:-0800
TZOFFSETTO:-0700
TZNAME:America/Tijuana PDT
END:DAYLIGHT
BEGIN:DAYLIGHT
DTSTART:20190310T030000
RDATE:20191103T010000
TZOFFSETFROM:-0800
TZOFFSETTO:-0700
TZNAME:America/Tijuana PDT
END:DAYLIGHT
BEGIN:DAYLIGHT
DTSTART:20200308T030000
RDATE:20201101T010000
TZOFFSETFROM:-0800
TZOFFSETTO:-0700
TZNAME:America/Tijuana PDT
END:DAYLIGHT
BEGIN:DAYLIGHT
DTSTART:20210314T030000
RDATE:20211107T010000
TZOFFSETFROM:-0800
TZOFFSETTO:-0700
TZNAME:America/Tijuana PDT
END:DAYLIGHT
BEGIN:DAYLIGHT
DTSTART:20220313T030000
RDATE:20221106T010000
TZOFFSETFROM:-0800
TZOFFSETTO:-0700
TZNAME:America/Tijuana PDT
END:DAYLIGHT
BEGIN:DAYLIGHT
DTSTART:20230312T030000
RDATE:20231105T010000
TZOFFSETFROM:-0800
TZOFFSETTO:-0700
TZNAME:America/Tijuana PDT
END:DAYLIGHT
BEGIN:DAYLIGHT
DTSTART:20240310T030000
RDATE:20241103T010000
TZOFFSETFROM:-0800
TZOFFSETTO:-0700
TZNAME:America/Tijuana PDT
END:DAYLIGHT
BEGIN:DAYLIGHT
DTSTART:20250309T030000
RDATE:20251102T010000
TZOFFSETFROM:-0800
TZOFFSETTO:-0700
TZNAME:America/Tijuana PDT
END:DAYLIGHT
BEGIN:DAYLIGHT
DTSTART:20260308T030000
RDATE:20261101T010000
TZOFFSETFROM:-0800
TZOFFSETTO:-0700
TZNAME:America/Tijuana PDT
END:DAYLIGHT
BEGIN:DAYLIGHT
DTSTART:20270314T030000
RDATE:20271107T010000
TZOFFSETFROM:-0800
TZOFFSETTO:-0700
TZNAME:America/Tijuana PDT
END:DAYLIGHT
END:VTIMEZONE
BEGIN:VEVENT
UID:f512fd676d3c68edf78229b013415a07
CATEGORIES:Meetings
CREATED:20181018T191923
SUMMARY:ANNUAL MEETING AND POTLUCK
LOCATION:Shoup Garden House\, 400 University Avenue\, Los Altos
DESCRIPTION:Mount Umunhum:\n A Botanically Significant Summit\na Photo Tour by Ken Hick
 man\nJoin us for our favorite get-together of the year: the annual potluck 
 dinner and election meeting, followed by our annual Butner Family Memorial 
 Lecture. The evening is devoted to native plant appreciation, Chapter busin
 ess, and delicious food. It’s the party of the year – don’t miss it! \nAt 3
 ,486 feet, Mount Umunhum is one of the highest peaks of the Santa Cruz Moun
 tains, and also one of the most mysterious. Overlooking the Santa Clara Val
 ley, the mountain has views that extend to Monterey Bay and even the Sierra
  Nevada on a clear day. The summit is the former site of the Almaden Air Fo
 rce Station, which was closed and off-limits to the general public and curi
 ous botanists for years. But in September 2017, after 60 years and extensiv
 e restoration by the Midpeninsula Regional Open Space District and U.S. Arm
 y Corps of Engineers, this iconic “hummingbird rest” and its unusual geolog
 y and flora opened to the public and took up the mantle as a must-see desti
 nation. \nKen’s program will showcase the flora and fauna that he and botan
 ist John Rawlings documented on hikes and with camera traps during a survey
  of Mount Umunhum’s summit, canyons and new trails during the 2014-2017 res
 toration. The flora includes 290 native taxa, with eight CNPS Ranked, one S
 tate Rare, and over 20 Locally Rare species. Come learn about Umunhum’s uni
 queness, and see why this “new” summit is a true gem of our Chapter and reg
 ion! \nKen Hickman is a naturalist and wildlife scientist with a specialty 
 in camera trapping, and a Chapter member with a love of botany. He’s been b
 uilding high-quality camera traps and conducting wildlife surveys throughou
 t California for over eight years, working for a number of public agencies.
  \nThe evening begins at 6pm with our annual potluck. Bring your favorite d
 ish, whether it be a salad, main dish, dessert or beverage; it always works
  out that we have just the right amount of everything! A label identifying 
 your dish will be helpful. Be sure to bring a plate, drinking glass, and ea
 ting utensils for yourself, as well as a bag in which to take home unwashed
  dishes. \nIf you can help with setup, please arrive at 5pm to set up chair
 s and tables. The potluck feast will begin at 6pm, followed by the program 
 at 7pm. We appreciate your help with cleanup at the end of the program. \nW
 e will have a LARGE selection of used books for sale which have been donate
 d by our long-time Chapter members, including Sally Casey. We will also hav
 e a silent auction of high-quality books and other items which will help ra
 ise funds for the Chapter. To donate books or other items, drop off boxes l
 abeled “CNPS Auction” at the mailboxes in the PCC at 3921 E. Bayshore Rd. i
 n Palo Alto during business hours on or before Wednesday, November 7, or co
 ntact Judy Fenerty at This email address is being protected from spambots. 
 You need JavaScript enabled to view it.
				document.getElementById('cloak4
 1cb6e9d716b04bdcb1e7d93916ad85a').innerHTML = '';
				var prefix = '&amp;#1
 09;a' + 'i&amp;#108;' + '&amp;#116;o';
				var path = 'hr' + 'ef' + '=';
		
 		var addy41cb6e9d716b04bdcb1e7d93916ad85a = 'j&amp;#117;dy' + '&amp;#64;';
 
				addy41cb6e9d716b04bdcb1e7d93916ad85a = addy41cb6e9d716b04bdcb1e7d93916
 ad85a + 'f&amp;#101;n&amp;#101;rty' + '&amp;#46;' + 'c&amp;#111;m';
				var
  addy_text41cb6e9d716b04bdcb1e7d93916ad85a = 'j&amp;#117;dy' + '&amp;#64;' 
 + 'f&amp;#101;n&amp;#101;rty' + '&amp;#46;' + 'c&amp;#111;m';document.getEl
 ementById('cloak41cb6e9d716b04bdcb1e7d93916ad85a').innerHTML += '&lt;a ' + 
 path + '\'' + prefix + ':' + addy41cb6e9d716b04bdcb1e7d93916ad85a + '\'&gt;
 '+addy_text41cb6e9d716b04bdcb1e7d93916ad85a+'&lt;\/a&gt;';
		. (mailto:judy
 @fenerty.com.)\nCNPS general meetings are free and open to the public. \n\n
X-ALT-DESC;FMTTYPE=text/html:<div class="page" title="Page 1"><div class="layoutArea"><div class="column
 "><p><span style="font-size: 14pt; font-family: 'TimesNewRoman,Bold';">Moun
 t Umunhum:<br /> A Botanically Significant Summit</span></p><p><span style=
 "font-size: 12pt; font-family: TimesNewRoman;">a Photo Tour by </span><span
  style="font-size: 14pt; font-family: 'TimesNewRoman,Bold';">Ken Hickman</s
 pan></p><div class="page" title="Page 1"><div class="layoutArea"><div class
 ="column"><p><span style="font-size: 11pt; font-family: TimesNewRoman;">Joi
 n us for our favorite get-together of the year: the annual potluck dinner a
 nd election meeting, followed by our annual </span><span style="font-size: 
 11pt; font-family: 'TimesNewRoman,Bold';">Butner Family Memorial Lecture</s
 pan><span style="font-size: 11pt; font-family: TimesNewRoman;">. The evenin
 g is devoted to native plant appreciation, Chapter business, and delicious 
 food. It’s the party of the year – don’t miss it! </span></p><p><span style
 ="font-size: 11pt; font-family: TimesNewRoman;">At 3,486 feet, Mount Umunhu
 m is one of the highest peaks of the Santa Cruz Mountains, and also one of 
 the most mysterious. Overlooking the Santa Clara Valley, the mountain has v
 iews that extend to Monterey Bay and even the Sierra Nevada on a clear day.
  The summit is the former site of the Almaden Air Force Station, which was 
 closed and off-limits to the general public and curious botanists for years
 . But in September 2017, after 60 years and extensive restoration by the Mi
 dpeninsula Regional Open Space District and U.S. Army Corps of Engineers, t
 his iconic “hummingbird rest” and its unusual geology and flora opened to t
 he public and took up the mantle as a must-see destination. </span></p><p><
 span style="font-size: 11pt; font-family: TimesNewRoman;">Ken’s program wil
 l showcase the flora and fauna that he and botanist John Rawlings documente
 d on hikes and with camera traps during a survey of Mount Umunhum’s summit,
  canyons and new trails during the 2014-2017 restoration. The flora include
 s 290 native taxa, with eight CNPS Ranked, one State Rare, and over 20 Loca
 lly Rare species. Come learn about Umunhum’s uniqueness, and see why this “
 new” summit is a true gem of our Chapter and region! </span></p><div class=
 "page" title="Page 1"><div class="layoutArea"><div class="column"><p><span 
 style="font-size: 11pt; font-family: 'TimesNewRoman,Bold';">Ken Hickman </s
 pan><span style="font-size: 11pt; font-family: TimesNewRoman;">is a natural
 ist and wildlife scientist with a specialty in camera trapping, and a Chapt
 er member with a love of botany. He’s been building high-quality camera tra
 ps and conducting wildlife surveys throughout California for over eight yea
 rs, working for a number of public agencies. </span></p><div class="page" t
 itle="Page 2"><div class="layoutArea"><div class="column"><p><span style="f
 ont-size: 11pt; font-family: 'TimesNewRoman,Bold';">The evening begins at 6
 pm </span><span style="font-size: 11pt; font-family: TimesNewRoman;">with o
 ur </span><span style="font-size: 11pt; font-family: 'TimesNewRoman,Bold';"
 >annual potluck</span><span style="font-size: 11pt; font-family: TimesNewRo
 man;">. Bring your favorite dish, whether it be a salad, main dish, dessert
  or beverage; it always works out that we have just the right amount of eve
 rything! A label identifying your dish will be helpful. Be sure to bring a 
 plate, drinking glass, and eating utensils for yourself, as well as a bag i
 n which to take home unwashed dishes. </span></p><p><span style="font-size:
  11pt; font-family: TimesNewRoman;">If you can help with setup, please </sp
 an><span style="font-size: 11pt; font-family: 'TimesNewRoman,Bold';">arrive
  at 5pm </span><span style="font-size: 11pt; font-family: TimesNewRoman;">t
 o set up chairs and tables. The potluck feast will begin at </span><span st
 yle="font-size: 11pt; font-family: 'TimesNewRoman,Bold';">6pm</span><span s
 tyle="font-size: 11pt; font-family: TimesNewRoman;">, followed by the </spa
 n><span style="font-size: 11pt; font-family: 'TimesNewRoman,Bold';">program
  at 7pm</span><span style="font-size: 11pt; font-family: TimesNewRoman;">. 
 We appreciate your help with cleanup at the end of the program. </span></p>
 <p><span style="font-size: 11pt; font-family: TimesNewRoman;">We will have 
 a LARGE selection of used books for sale which have been donated by our lon
 g-time Chapter&nbsp;</span><span style="font-size: 11pt; font-family: Times
 NewRoman;">members, including Sally Casey. We will also have a </span><span
  style="font-size: 11pt; font-family: 'TimesNewRoman,Bold';">silent auction
  </span><span style="font-size: 11pt; font-family: TimesNewRoman;">of high-
 quality books and other items which will help raise funds for the Chapter. 
 To donate books or other items, drop off boxes labeled “CNPS Auction” at th
 e mailboxes in the PCC at 3921 E. Bayshore Rd. in Palo Alto during business
  hours on or before </span><span style="font-size: 11pt; font-family: 'Time
 sNewRoman,Bold';">Wednesday, November 7</span><span style="font-size: 11pt;
  font-family: TimesNewRoman;">, or contact Judy Fenerty at <a href="mailto:
 judy@fenerty.com."><span id="cloak41cb6e9d716b04bdcb1e7d93916ad85a">This em
 ail address is being protected from spambots. You need JavaScript enabled t
 o view it.</span><script type='text/javascript'>
				document.getElementByI
 d('cloak41cb6e9d716b04bdcb1e7d93916ad85a').innerHTML = '';
				var prefix =
  '&#109;a' + 'i&#108;' + '&#116;o';
				var path = 'hr' + 'ef' + '=';
				v
 ar addy41cb6e9d716b04bdcb1e7d93916ad85a = 'j&#117;dy' + '&#64;';
				addy41
 cb6e9d716b04bdcb1e7d93916ad85a = addy41cb6e9d716b04bdcb1e7d93916ad85a + 'f&
 #101;n&#101;rty' + '&#46;' + 'c&#111;m';
				var addy_text41cb6e9d716b04bdc
 b1e7d93916ad85a = 'j&#117;dy' + '&#64;' + 'f&#101;n&#101;rty' + '&#46;' + '
 c&#111;m';document.getElementById('cloak41cb6e9d716b04bdcb1e7d93916ad85a').
 innerHTML += '<a ' + path + '\'' + prefix + ':' + addy41cb6e9d716b04bdcb1e7
 d93916ad85a + '\'>'+addy_text41cb6e9d716b04bdcb1e7d93916ad85a+'<\/a>';
		</
 script>.</a></span></p><div class="page" title="Page 2"><div class="layoutA
 rea"><div class="column"><p><span style="font-size: 11pt; font-family: Time
 sNewRoman;">CNPS general meetings are free and open to the public. </span><
 /p></div></div></div></div></div></div></div></div></div></div></div></div>
 <p></p></div></div></div>
CONTACT:Chapter President Madeline Morrow at This email address is being protected from spambots. You need JavaScript enabled to view it.
				document.getElementById('cloakf94fa13a6896718359bd3a96ee414491').innerHTML = '';
				var prefix = '&#109;a' + 'i&#108;' + '&#116;o';
				var path = 'hr' + 'ef' + '=';
				var addyf94fa13a6896718359bd3a96ee414491 = 'm&#97;d&#101;l&#105;n&#101;m&#111;rr&#111;w' + '&#64;';
				addyf94fa13a6896718359bd3a96ee414491 = addyf94fa13a6896718359bd3a96ee414491 + '&#101;&#97;rthl&#105;nk' + '&#46;' + 'n&#101;t';
				var addy_textf94fa13a6896718359bd3a96ee414491 = 'm&#97;d&#101;l&#105;n&#101;m&#111;rr&#111;w' + '&#64;' + '&#101;&#97;rthl&#105;nk' + '&#46;' + 'n&#101;t';document.getElementById('cloakf94fa13a6896718359bd3a96ee414491').innerHTML += '<a ' + path + '\'' + prefix + ':' + addyf94fa13a6896718359bd3a96ee414491 + '\'>'+addy_textf94fa13a6896718359bd3a96ee414491+'';
		 or the Chapter phone at (650) 260-3450
X-EXTRAINFO:Directions: From I-280: take the El Monte exit east. Turn left (north) on U
 niversity Ave., just before Foothill Expy. The Garden House is 0.6 mile ahe
 ad on the left (west) side of the street. From Hwy. 101: take the San Anton
 io exit west/south. Go 3.5 miles. At the 3rd stoplight after crossing El Ca
 mino Real (Edith/Main), bear right on to Main St. (not sharp right into Edi
 th). Continue on Main until it crosses Foothill Expy. and turn left immedia
 tely onto University Ave. Bear right; the Garden House is 300 feet ahead on
  the right.
DTSTAMP:20260420T175207
DTSTART;TZID=America/Tijuana:20181110T180000
DTEND;TZID=America/Tijuana:20181110T210000
SEQUENCE:0
TRANSP:OPAQUE
END:VEVENT
END:VCALENDAR