BEGIN:VCALENDAR
VERSION:2.0
PRODID:-//jEvents 2.0 for Joomla//EN
CALSCALE:GREGORIAN
METHOD:PUBLISH
BEGIN:VTIMEZONE
TZID:America/Tijuana
BEGIN:STANDARD
DTSTART:20171124T100000
RDATE:20180311T030000
TZOFFSETFROM:-0700
TZOFFSETTO:-0800
TZNAME:America/Tijuana PST
END:STANDARD
BEGIN:STANDARD
DTSTART:20181104T010000
RDATE:20190310T030000
TZOFFSETFROM:-0700
TZOFFSETTO:-0800
TZNAME:America/Tijuana PST
END:STANDARD
BEGIN:STANDARD
DTSTART:20191103T010000
RDATE:20200308T030000
TZOFFSETFROM:-0700
TZOFFSETTO:-0800
TZNAME:America/Tijuana PST
END:STANDARD
BEGIN:STANDARD
DTSTART:20201101T010000
RDATE:20210314T030000
TZOFFSETFROM:-0700
TZOFFSETTO:-0800
TZNAME:America/Tijuana PST
END:STANDARD
BEGIN:STANDARD
DTSTART:20211107T010000
RDATE:20220313T030000
TZOFFSETFROM:-0700
TZOFFSETTO:-0800
TZNAME:America/Tijuana PST
END:STANDARD
BEGIN:STANDARD
DTSTART:20221106T010000
RDATE:20230312T030000
TZOFFSETFROM:-0700
TZOFFSETTO:-0800
TZNAME:America/Tijuana PST
END:STANDARD
BEGIN:STANDARD
DTSTART:20231105T010000
RDATE:20240310T030000
TZOFFSETFROM:-0700
TZOFFSETTO:-0800
TZNAME:America/Tijuana PST
END:STANDARD
BEGIN:STANDARD
DTSTART:20241103T010000
RDATE:20250309T030000
TZOFFSETFROM:-0700
TZOFFSETTO:-0800
TZNAME:America/Tijuana PST
END:STANDARD
BEGIN:STANDARD
DTSTART:20251102T010000
RDATE:20260308T030000
TZOFFSETFROM:-0700
TZOFFSETTO:-0800
TZNAME:America/Tijuana PST
END:STANDARD
BEGIN:STANDARD
DTSTART:20261101T010000
RDATE:20270314T030000
TZOFFSETFROM:-0700
TZOFFSETTO:-0800
TZNAME:America/Tijuana PST
END:STANDARD
BEGIN:STANDARD
DTSTART:20271107T010000
RDATE:20280312T030000
TZOFFSETFROM:-0700
TZOFFSETTO:-0800
TZNAME:America/Tijuana PST
END:STANDARD
BEGIN:DAYLIGHT
DTSTART:20180311T030000
RDATE:20181104T010000
TZOFFSETFROM:-0800
TZOFFSETTO:-0700
TZNAME:America/Tijuana PDT
END:DAYLIGHT
BEGIN:DAYLIGHT
DTSTART:20190310T030000
RDATE:20191103T010000
TZOFFSETFROM:-0800
TZOFFSETTO:-0700
TZNAME:America/Tijuana PDT
END:DAYLIGHT
BEGIN:DAYLIGHT
DTSTART:20200308T030000
RDATE:20201101T010000
TZOFFSETFROM:-0800
TZOFFSETTO:-0700
TZNAME:America/Tijuana PDT
END:DAYLIGHT
BEGIN:DAYLIGHT
DTSTART:20210314T030000
RDATE:20211107T010000
TZOFFSETFROM:-0800
TZOFFSETTO:-0700
TZNAME:America/Tijuana PDT
END:DAYLIGHT
BEGIN:DAYLIGHT
DTSTART:20220313T030000
RDATE:20221106T010000
TZOFFSETFROM:-0800
TZOFFSETTO:-0700
TZNAME:America/Tijuana PDT
END:DAYLIGHT
BEGIN:DAYLIGHT
DTSTART:20230312T030000
RDATE:20231105T010000
TZOFFSETFROM:-0800
TZOFFSETTO:-0700
TZNAME:America/Tijuana PDT
END:DAYLIGHT
BEGIN:DAYLIGHT
DTSTART:20240310T030000
RDATE:20241103T010000
TZOFFSETFROM:-0800
TZOFFSETTO:-0700
TZNAME:America/Tijuana PDT
END:DAYLIGHT
BEGIN:DAYLIGHT
DTSTART:20250309T030000
RDATE:20251102T010000
TZOFFSETFROM:-0800
TZOFFSETTO:-0700
TZNAME:America/Tijuana PDT
END:DAYLIGHT
BEGIN:DAYLIGHT
DTSTART:20260308T030000
RDATE:20261101T010000
TZOFFSETFROM:-0800
TZOFFSETTO:-0700
TZNAME:America/Tijuana PDT
END:DAYLIGHT
BEGIN:DAYLIGHT
DTSTART:20270314T030000
RDATE:20271107T010000
TZOFFSETFROM:-0800
TZOFFSETTO:-0700
TZNAME:America/Tijuana PDT
END:DAYLIGHT
END:VTIMEZONE
BEGIN:VEVENT
UID:acdc8c16ff889c93f802400ca7007330
CATEGORIES:Field Trips
CREATED:20181018T194055
SUMMARY:Uvas Canyon County Park (Morgan Hill)
LOCATION:Uvas Canyon County Park (Morgan Hill)
DESCRIPTION:Join Ken and Dee Himes on a 3-4 mile hike in this mostly shady woodland of 
 mixed evergreens including redwoods, madrones, sycamores, alders and big le
 af maples. There are also isolated populations of Oregon grape (Berberis ne
 rvosa) here, which is more commonly found north of the Golden Gate. We expe
 ct to see different types of fruiting bodies and some fall color changes.\n
 We’ll meet in the parking lot. The hike will be moderate in intensity, with
  an elevation gain of about 700 feet. We will walk at a fairly leisurely pa
 ce, stopping for lunch about halfway. Be sure to wear good hiking shoes. A 
 walking stick could be useful. Bring a lunch and plenty of water. There is 
 a $6 fee per car. Heavy rain cancels. For more information contact Ken at (
 650) 591-8560.\nDirections: From Hwy. 101, take the Bailey Ave. exit to hea
 d southwest on Bailey 3.2 mi. to McKean Rd. Turn left onto McKean. (McKean 
 becomes Uvas Rd. 2.2 mi. south of Bailey.) From Bailey travel 6 mi. south o
 n McKean/ Uvas Rd. and turn right onto Croy Rd. Continue 4.4 mi. on Croy, t
 hrough Sveadal (a private resort), to reach the Park entrance. For more abo
 ut the park visit www.sccgov.org/ sites/parks/parkfinder/Pages/UvasCanyon.a
 spx.\n
X-ALT-DESC;FMTTYPE=text/html:<div class="page" title="Page 6"><div class="layoutArea"><div class="column
 "><p><span style="font-size: 11pt; font-family: TimesNewRoman;">Join Ken an
 d Dee Himes on a 3-4 mile hike in this mostly shady woodland of mixed everg
 reens including redwoods, madrones, sycamores, alders and big leaf maples. 
 There&nbsp;</span><span style="font-size: 11pt; font-family: TimesNewRoman;
 ">are also isolated populations of Oregon grape (</span><span style="font-s
 ize: 11pt; font-family: 'TimesNewRoman,Italic';">Berberis nervosa</span><sp
 an style="font-size: 11pt; font-family: TimesNewRoman;">) here, which is mo
 re commonly found north of the Golden Gate. We expect to see different type
 s of fruiting bodies and some fall color changes.</span></p><p><span style=
 "font-size: 11pt; font-family: TimesNewRoman;">We’ll meet in the parking lo
 t. The hike will be moderate in intensity, with an elevation gain of about 
 700 feet. We will walk at a fairly leisurely pace, stopping for lunch about
  halfway. Be sure to wear good hiking shoes. A walking stick could be usefu
 l. Bring a lunch and plenty of water. There is a $6 fee&nbsp;</span><span s
 tyle="font-size: 11pt; font-family: TimesNewRoman;">per car. Heavy rain can
 cels. For more information contact Ken at (650) 591-8560.</span></p><p><spa
 n style="font-size: 11pt; font-family: 'TimesNewRoman,Bold';">Directions</s
 pan><span style="font-size: 11pt; font-family: TimesNewRoman;">: From Hwy. 
 101, take the Bailey Ave. exit to head southwest on Bailey 3.2 mi. to McKea
 n Rd. Turn left onto McKean. (McKean becomes Uvas Rd. 2.2 mi. south&nbsp;</
 span><span style="font-size: 11pt; font-family: TimesNewRoman;">of Bailey.)
  From Bailey travel 6 mi. south on McKean/ Uvas Rd. and turn right onto Cro
 y Rd. Continue 4.4 mi. on Croy, through Sveadal (a private resort), to reac
 h the Park entrance. For more about the park visit </span><span style="font
 -size: 11pt; font-family: 'TimesNewRoman,Bold';">www.sccgov.org/ sites/park
 s/parkfinder/Pages/UvasCanyon.aspx.</span></p></div></div></div>
CONTACT:Ken at (650) 591-8560
DTSTAMP:20260422T113640
DTSTART;TZID=America/Tijuana:20181125T100000
DTEND;TZID=America/Tijuana:20181125T160000
SEQUENCE:0
TRANSP:OPAQUE
END:VEVENT
END:VCALENDAR