BEGIN:VCALENDAR
VERSION:2.0
PRODID:-//jEvents 2.0 for Joomla//EN
CALSCALE:GREGORIAN
METHOD:PUBLISH
BEGIN:VTIMEZONE
TZID:America/Tijuana
BEGIN:STANDARD
DTSTART:20171124T100000
RDATE:20180311T030000
TZOFFSETFROM:-0700
TZOFFSETTO:-0800
TZNAME:America/Tijuana PST
END:STANDARD
BEGIN:STANDARD
DTSTART:20181104T010000
RDATE:20190310T030000
TZOFFSETFROM:-0700
TZOFFSETTO:-0800
TZNAME:America/Tijuana PST
END:STANDARD
BEGIN:STANDARD
DTSTART:20191103T010000
RDATE:20200308T030000
TZOFFSETFROM:-0700
TZOFFSETTO:-0800
TZNAME:America/Tijuana PST
END:STANDARD
BEGIN:STANDARD
DTSTART:20201101T010000
RDATE:20210314T030000
TZOFFSETFROM:-0700
TZOFFSETTO:-0800
TZNAME:America/Tijuana PST
END:STANDARD
BEGIN:STANDARD
DTSTART:20211107T010000
RDATE:20220313T030000
TZOFFSETFROM:-0700
TZOFFSETTO:-0800
TZNAME:America/Tijuana PST
END:STANDARD
BEGIN:STANDARD
DTSTART:20221106T010000
RDATE:20230312T030000
TZOFFSETFROM:-0700
TZOFFSETTO:-0800
TZNAME:America/Tijuana PST
END:STANDARD
BEGIN:STANDARD
DTSTART:20231105T010000
RDATE:20240310T030000
TZOFFSETFROM:-0700
TZOFFSETTO:-0800
TZNAME:America/Tijuana PST
END:STANDARD
BEGIN:STANDARD
DTSTART:20241103T010000
RDATE:20250309T030000
TZOFFSETFROM:-0700
TZOFFSETTO:-0800
TZNAME:America/Tijuana PST
END:STANDARD
BEGIN:STANDARD
DTSTART:20251102T010000
RDATE:20260308T030000
TZOFFSETFROM:-0700
TZOFFSETTO:-0800
TZNAME:America/Tijuana PST
END:STANDARD
BEGIN:STANDARD
DTSTART:20261101T010000
RDATE:20270314T030000
TZOFFSETFROM:-0700
TZOFFSETTO:-0800
TZNAME:America/Tijuana PST
END:STANDARD
BEGIN:STANDARD
DTSTART:20271107T010000
RDATE:20280312T030000
TZOFFSETFROM:-0700
TZOFFSETTO:-0800
TZNAME:America/Tijuana PST
END:STANDARD
BEGIN:DAYLIGHT
DTSTART:20180311T030000
RDATE:20181104T010000
TZOFFSETFROM:-0800
TZOFFSETTO:-0700
TZNAME:America/Tijuana PDT
END:DAYLIGHT
BEGIN:DAYLIGHT
DTSTART:20190310T030000
RDATE:20191103T010000
TZOFFSETFROM:-0800
TZOFFSETTO:-0700
TZNAME:America/Tijuana PDT
END:DAYLIGHT
BEGIN:DAYLIGHT
DTSTART:20200308T030000
RDATE:20201101T010000
TZOFFSETFROM:-0800
TZOFFSETTO:-0700
TZNAME:America/Tijuana PDT
END:DAYLIGHT
BEGIN:DAYLIGHT
DTSTART:20210314T030000
RDATE:20211107T010000
TZOFFSETFROM:-0800
TZOFFSETTO:-0700
TZNAME:America/Tijuana PDT
END:DAYLIGHT
BEGIN:DAYLIGHT
DTSTART:20220313T030000
RDATE:20221106T010000
TZOFFSETFROM:-0800
TZOFFSETTO:-0700
TZNAME:America/Tijuana PDT
END:DAYLIGHT
BEGIN:DAYLIGHT
DTSTART:20230312T030000
RDATE:20231105T010000
TZOFFSETFROM:-0800
TZOFFSETTO:-0700
TZNAME:America/Tijuana PDT
END:DAYLIGHT
BEGIN:DAYLIGHT
DTSTART:20240310T030000
RDATE:20241103T010000
TZOFFSETFROM:-0800
TZOFFSETTO:-0700
TZNAME:America/Tijuana PDT
END:DAYLIGHT
BEGIN:DAYLIGHT
DTSTART:20250309T030000
RDATE:20251102T010000
TZOFFSETFROM:-0800
TZOFFSETTO:-0700
TZNAME:America/Tijuana PDT
END:DAYLIGHT
BEGIN:DAYLIGHT
DTSTART:20260308T030000
RDATE:20261101T010000
TZOFFSETFROM:-0800
TZOFFSETTO:-0700
TZNAME:America/Tijuana PDT
END:DAYLIGHT
BEGIN:DAYLIGHT
DTSTART:20270314T030000
RDATE:20271107T010000
TZOFFSETFROM:-0800
TZOFFSETTO:-0700
TZNAME:America/Tijuana PDT
END:DAYLIGHT
END:VTIMEZONE
BEGIN:VEVENT
UID:35d82ddfaaaf18081e47ff6b13e6d3b2
CATEGORIES:Field Trips
CREATED:20181018T194410
SUMMARY:Trees and Shrubs of Santa Clara Valley: a Plant ID Walk at Rancho Cañada del Oro OSP (Morgan Hill)
LOCATION:Rancho Cañada del Oro OSP (Morgan Hill)
DESCRIPTION:<div class="page" title="Page 7"><div class="layoutArea"><div class="column
 "><p><span style="font-size: 11pt; font-family: TimesNewRoman;">It is said 
 that a place feels like home when you can name the native trees and shrubs 
 around you. Join Arvind Kumar and Stephen Rosenthal to learn about the tree
 s and shrubs native to our area. </span></p><p><span style="font-size: 11pt
 ; font-family: TimesNewRoman;">We will walk through a variety of native hab
 itats: grassland, oak woodland, sage-chaparral scrub and riparian. Expect t
 o see a variety of oaks, bay laurel, madrone, bigberry manzanita, toyon, co
 ffeeberry, buckeye, holly- leaved cherry and snowberry. Trail vista points 
 offer spectacular views of the Diablo Range and Mt. Hamilton. Beginners int
 erested in plant&nbsp;identification are welcome. </span></p><p><span style
 ="font-size: 11pt; font-family: TimesNewRoman;">Bring a hat, water, and a b
 ag lunch. Dress in layers and appropriately for late fall weather. Heavy ra
 in cancels. We’ll cover 4.3 miles with 500’ of elevation gain. </span></p><
 p><span style="font-size: 11pt; font-family: TimesNewRoman;">Space is limit
 ed. Please </span><span style="font-size: 11pt; font-family: 'TimesNewRoman
 ,Bold';">RSVP </span><span style="font-size: 11pt; font-family: TimesNewRom
 an;">through the CNPS SCV Meetup site: </span><span style="font-size: 11pt;
  font-family: 'TimesNewRoman,Bold';">www.meetup.com/California- Native-Plan
 t-Society-Santa- Clara-Valley-Chapter. </span></p><p><span style="font-size
 : 11pt; font-family: 'TimesNewRoman,Bold';">Directions: </span><span style=
 "font-size: 11pt; font-family: TimesNewRoman;">We’ll meet in the&nbsp;prese
 rve parking lot at </span><span style="font-size: 11pt; font-family: 'Times
 NewRoman,Bold';">10am</span><span style="font-size: 11pt; font-family: Time
 sNewRoman;">, at&nbsp;4289 Casa Loma Rd. in Morgan&nbsp;Hill. From Hwy. 101
  South take Bailey Ave. west to McKean Rd. Turn left onto McKean Rd. and he
 ad south, past Calero County Park. Turn right on Casa Loma Rd. and follow i
 t to the park entrance. The parking lot is on the left. For a map and detai
 led directions visit </span><span style="font-size: 11pt; font-family: 'Tim
 esNewRoman,Bold';">goo.gl/maps/paLx2kuHoV82. </span></p></div></div></div>
CONTACT:CNPS SCV Meetup site: www.meetup.com/California- Native-Plant-Society-Santa- Clara-Valley-Chapter
DTSTAMP:20260419T162422
DTSTART;TZID=America/Tijuana:20181125T100000
DTEND;TZID=America/Tijuana:20181125T150000
SEQUENCE:0
TRANSP:OPAQUE
END:VEVENT
END:VCALENDAR