BEGIN:VCALENDAR
VERSION:2.0
PRODID:-//jEvents 2.0 for Joomla//EN
CALSCALE:GREGORIAN
METHOD:PUBLISH
BEGIN:VTIMEZONE
TZID:America/Tijuana
BEGIN:STANDARD
DTSTART:20171231T100000
RDATE:20180311T030000
TZOFFSETFROM:-0700
TZOFFSETTO:-0800
TZNAME:America/Tijuana PST
END:STANDARD
BEGIN:STANDARD
DTSTART:20181104T010000
RDATE:20190310T030000
TZOFFSETFROM:-0700
TZOFFSETTO:-0800
TZNAME:America/Tijuana PST
END:STANDARD
BEGIN:STANDARD
DTSTART:20191103T010000
RDATE:20200308T030000
TZOFFSETFROM:-0700
TZOFFSETTO:-0800
TZNAME:America/Tijuana PST
END:STANDARD
BEGIN:STANDARD
DTSTART:20201101T010000
RDATE:20210314T030000
TZOFFSETFROM:-0700
TZOFFSETTO:-0800
TZNAME:America/Tijuana PST
END:STANDARD
BEGIN:STANDARD
DTSTART:20211107T010000
RDATE:20220313T030000
TZOFFSETFROM:-0700
TZOFFSETTO:-0800
TZNAME:America/Tijuana PST
END:STANDARD
BEGIN:STANDARD
DTSTART:20221106T010000
RDATE:20230312T030000
TZOFFSETFROM:-0700
TZOFFSETTO:-0800
TZNAME:America/Tijuana PST
END:STANDARD
BEGIN:STANDARD
DTSTART:20231105T010000
RDATE:20240310T030000
TZOFFSETFROM:-0700
TZOFFSETTO:-0800
TZNAME:America/Tijuana PST
END:STANDARD
BEGIN:STANDARD
DTSTART:20241103T010000
RDATE:20250309T030000
TZOFFSETFROM:-0700
TZOFFSETTO:-0800
TZNAME:America/Tijuana PST
END:STANDARD
BEGIN:STANDARD
DTSTART:20251102T010000
RDATE:20260308T030000
TZOFFSETFROM:-0700
TZOFFSETTO:-0800
TZNAME:America/Tijuana PST
END:STANDARD
BEGIN:STANDARD
DTSTART:20261101T010000
RDATE:20270314T030000
TZOFFSETFROM:-0700
TZOFFSETTO:-0800
TZNAME:America/Tijuana PST
END:STANDARD
BEGIN:STANDARD
DTSTART:20271107T010000
RDATE:20280312T030000
TZOFFSETFROM:-0700
TZOFFSETTO:-0800
TZNAME:America/Tijuana PST
END:STANDARD
BEGIN:DAYLIGHT
DTSTART:20180311T030000
RDATE:20181104T010000
TZOFFSETFROM:-0800
TZOFFSETTO:-0700
TZNAME:America/Tijuana PDT
END:DAYLIGHT
BEGIN:DAYLIGHT
DTSTART:20190310T030000
RDATE:20191103T010000
TZOFFSETFROM:-0800
TZOFFSETTO:-0700
TZNAME:America/Tijuana PDT
END:DAYLIGHT
BEGIN:DAYLIGHT
DTSTART:20200308T030000
RDATE:20201101T010000
TZOFFSETFROM:-0800
TZOFFSETTO:-0700
TZNAME:America/Tijuana PDT
END:DAYLIGHT
BEGIN:DAYLIGHT
DTSTART:20210314T030000
RDATE:20211107T010000
TZOFFSETFROM:-0800
TZOFFSETTO:-0700
TZNAME:America/Tijuana PDT
END:DAYLIGHT
BEGIN:DAYLIGHT
DTSTART:20220313T030000
RDATE:20221106T010000
TZOFFSETFROM:-0800
TZOFFSETTO:-0700
TZNAME:America/Tijuana PDT
END:DAYLIGHT
BEGIN:DAYLIGHT
DTSTART:20230312T030000
RDATE:20231105T010000
TZOFFSETFROM:-0800
TZOFFSETTO:-0700
TZNAME:America/Tijuana PDT
END:DAYLIGHT
BEGIN:DAYLIGHT
DTSTART:20240310T030000
RDATE:20241103T010000
TZOFFSETFROM:-0800
TZOFFSETTO:-0700
TZNAME:America/Tijuana PDT
END:DAYLIGHT
BEGIN:DAYLIGHT
DTSTART:20250309T030000
RDATE:20251102T010000
TZOFFSETFROM:-0800
TZOFFSETTO:-0700
TZNAME:America/Tijuana PDT
END:DAYLIGHT
BEGIN:DAYLIGHT
DTSTART:20260308T030000
RDATE:20261101T010000
TZOFFSETFROM:-0800
TZOFFSETTO:-0700
TZNAME:America/Tijuana PDT
END:DAYLIGHT
BEGIN:DAYLIGHT
DTSTART:20270314T030000
RDATE:20271107T010000
TZOFFSETFROM:-0800
TZOFFSETTO:-0700
TZNAME:America/Tijuana PDT
END:DAYLIGHT
END:VTIMEZONE
BEGIN:VEVENT
UID:b9568047e4bc8a468ca7fc888a0b8289
CATEGORIES:Field Trips
CREATED:20181025T210315
SUMMARY:Año Nuevo State Preserve New Year Hike (San Mateo County)
LOCATION:Año Nuevo State Preserve New Year Hike (San Mateo County)
DESCRIPTION:<div class="page" title="Page 9"><div class="layoutArea"><div class="column
 "><p><span style="font-size: 11pt; font-family: TimesNewRoman;">Join us as 
 we celebrate a Chapter tradition of welcoming the New Year with a walk and 
 picnic at Año Nuevo State Preserve on the San Mateo County coast.&nbsp;</s
 pan></p><p><span style="font-size: 11pt; font-family: 'TimesNewRoman,Bold';
 ">The preserve is located </span><span style="font-size: 11pt; font-family:
  TimesNewRoman;">south of Pescadero on Highway 1, just north of the Santa C
 ruz County line. We’ll meet in the parking lot ($10 day use fee or valid CA
  State Park Pass) at </span><span style="font-size: 11pt; font-family: 'Tim
 esNewRoman,Bold';">10am</span><span style="font-size: 11pt; font-family: Ti
 mesNewRoman;">. Latecomers will find us on the trail in the coastal prairie
 . We’ll enjoy ocean views, sea cliff vegetation, raptors, songbirds and may
 be marine mammals. </span></p><p><span style="font-size: 11pt; font-family:
  TimesNewRoman;">We will see whether we can picnic on the beach (in the are
 a in which seal tour reservations are not required). As this is a day to ha
 ve fun at the beach with fellow Chapter members, the ending time and depth 
 of botanical discussion may be extended depending on participants. </span><
 /p><p><span style="font-size: 11pt; font-family: TimesNewRoman;">We will fi
 nish at the visitor center. Bring binoculars and layers of clothing for var
 iable conditions including wind, sun and fog. Extreme weather cancels. For 
 more information, contact Field Trip Chair Joerg Lohse at <a href="mailto:j
 oerg4cnps@gmail.com."><span id="cloakafce33aaf9b2174f3351c886dc8f0cd0">This
  email address is being protected from spambots. You need JavaScript enable
 d to view it.</span><script type='text/javascript'>
				document.getElement
 ById('cloakafce33aaf9b2174f3351c886dc8f0cd0').innerHTML = '';
				var prefi
 x = '&#109;a' + 'i&#108;' + '&#116;o';
				var path = 'hr' + 'ef' + '=';
		
 		var addyafce33aaf9b2174f3351c886dc8f0cd0 = 'j&#111;&#101;rg4cnps' + '&#64
 ;';
				addyafce33aaf9b2174f3351c886dc8f0cd0 = addyafce33aaf9b2174f3351c886
 dc8f0cd0 + 'gm&#97;&#105;l' + '&#46;' + 'c&#111;m';
				var addy_textafce33
 aaf9b2174f3351c886dc8f0cd0 = 'j&#111;&#101;rg4cnps' + '&#64;' + 'gm&#97;&#1
 05;l' + '&#46;' + 'c&#111;m';document.getElementById('cloakafce33aaf9b2174f
 3351c886dc8f0cd0').innerHTML += '<a ' + path + '\'' + prefix + ':' + addyaf
 ce33aaf9b2174f3351c886dc8f0cd0 + '\'>'+addy_textafce33aaf9b2174f3351c886dc8
 f0cd0+'<\/a>';
		</script>.</a> </span></p></div></div></div>
CONTACT:Field Trip Chair Joerg Lohse at This email address is being protected from spambots. You need JavaScript enabled to view it.
				document.getElementById('cloakd4c573f86302248a415f80f1c578cc7e').innerHTML = '';
				var prefix = '&#109;a' + 'i&#108;' + '&#116;o';
				var path = 'hr' + 'ef' + '=';
				var addyd4c573f86302248a415f80f1c578cc7e = 'j&#111;&#101;rg4cnps' + '&#64;';
				addyd4c573f86302248a415f80f1c578cc7e = addyd4c573f86302248a415f80f1c578cc7e + 'gm&#97;&#105;l' + '&#46;' + 'c&#111;m';
				var addy_textd4c573f86302248a415f80f1c578cc7e = 'j&#111;&#101;rg4cnps' + '&#64;' + 'gm&#97;&#105;l' + '&#46;' + 'c&#111;m';document.getElementById('cloakd4c573f86302248a415f80f1c578cc7e').innerHTML += '<a ' + path + '\'' + prefix + ':' + addyd4c573f86302248a415f80f1c578cc7e + '\'>'+addy_textd4c573f86302248a415f80f1c578cc7e+'';
		
DTSTAMP:20260422T190023
DTSTART;TZID=America/Tijuana:20190101T100000
DTEND;TZID=America/Tijuana:20190101T130000
SEQUENCE:0
TRANSP:OPAQUE
END:VEVENT
END:VCALENDAR