BEGIN:VCALENDAR
VERSION:2.0
PRODID:-//jEvents 2.0 for Joomla//EN
CALSCALE:GREGORIAN
METHOD:PUBLISH
BEGIN:VTIMEZONE
TZID:America/Tijuana
BEGIN:STANDARD
DTSTART:20180114T190000
RDATE:20180311T030000
TZOFFSETFROM:-0700
TZOFFSETTO:-0800
TZNAME:America/Tijuana PST
END:STANDARD
BEGIN:STANDARD
DTSTART:20181104T010000
RDATE:20190310T030000
TZOFFSETFROM:-0700
TZOFFSETTO:-0800
TZNAME:America/Tijuana PST
END:STANDARD
BEGIN:STANDARD
DTSTART:20191103T010000
RDATE:20200308T030000
TZOFFSETFROM:-0700
TZOFFSETTO:-0800
TZNAME:America/Tijuana PST
END:STANDARD
BEGIN:STANDARD
DTSTART:20201101T010000
RDATE:20210314T030000
TZOFFSETFROM:-0700
TZOFFSETTO:-0800
TZNAME:America/Tijuana PST
END:STANDARD
BEGIN:STANDARD
DTSTART:20211107T010000
RDATE:20220313T030000
TZOFFSETFROM:-0700
TZOFFSETTO:-0800
TZNAME:America/Tijuana PST
END:STANDARD
BEGIN:STANDARD
DTSTART:20221106T010000
RDATE:20230312T030000
TZOFFSETFROM:-0700
TZOFFSETTO:-0800
TZNAME:America/Tijuana PST
END:STANDARD
BEGIN:STANDARD
DTSTART:20231105T010000
RDATE:20240310T030000
TZOFFSETFROM:-0700
TZOFFSETTO:-0800
TZNAME:America/Tijuana PST
END:STANDARD
BEGIN:STANDARD
DTSTART:20241103T010000
RDATE:20250309T030000
TZOFFSETFROM:-0700
TZOFFSETTO:-0800
TZNAME:America/Tijuana PST
END:STANDARD
BEGIN:STANDARD
DTSTART:20251102T010000
RDATE:20260308T030000
TZOFFSETFROM:-0700
TZOFFSETTO:-0800
TZNAME:America/Tijuana PST
END:STANDARD
BEGIN:STANDARD
DTSTART:20261101T010000
RDATE:20270314T030000
TZOFFSETFROM:-0700
TZOFFSETTO:-0800
TZNAME:America/Tijuana PST
END:STANDARD
BEGIN:STANDARD
DTSTART:20271107T010000
RDATE:20280312T030000
TZOFFSETFROM:-0700
TZOFFSETTO:-0800
TZNAME:America/Tijuana PST
END:STANDARD
BEGIN:DAYLIGHT
DTSTART:20180311T030000
RDATE:20181104T010000
TZOFFSETFROM:-0800
TZOFFSETTO:-0700
TZNAME:America/Tijuana PDT
END:DAYLIGHT
BEGIN:DAYLIGHT
DTSTART:20190310T030000
RDATE:20191103T010000
TZOFFSETFROM:-0800
TZOFFSETTO:-0700
TZNAME:America/Tijuana PDT
END:DAYLIGHT
BEGIN:DAYLIGHT
DTSTART:20200308T030000
RDATE:20201101T010000
TZOFFSETFROM:-0800
TZOFFSETTO:-0700
TZNAME:America/Tijuana PDT
END:DAYLIGHT
BEGIN:DAYLIGHT
DTSTART:20210314T030000
RDATE:20211107T010000
TZOFFSETFROM:-0800
TZOFFSETTO:-0700
TZNAME:America/Tijuana PDT
END:DAYLIGHT
BEGIN:DAYLIGHT
DTSTART:20220313T030000
RDATE:20221106T010000
TZOFFSETFROM:-0800
TZOFFSETTO:-0700
TZNAME:America/Tijuana PDT
END:DAYLIGHT
BEGIN:DAYLIGHT
DTSTART:20230312T030000
RDATE:20231105T010000
TZOFFSETFROM:-0800
TZOFFSETTO:-0700
TZNAME:America/Tijuana PDT
END:DAYLIGHT
BEGIN:DAYLIGHT
DTSTART:20240310T030000
RDATE:20241103T010000
TZOFFSETFROM:-0800
TZOFFSETTO:-0700
TZNAME:America/Tijuana PDT
END:DAYLIGHT
BEGIN:DAYLIGHT
DTSTART:20250309T030000
RDATE:20251102T010000
TZOFFSETFROM:-0800
TZOFFSETTO:-0700
TZNAME:America/Tijuana PDT
END:DAYLIGHT
BEGIN:DAYLIGHT
DTSTART:20260308T030000
RDATE:20261101T010000
TZOFFSETFROM:-0800
TZOFFSETTO:-0700
TZNAME:America/Tijuana PDT
END:DAYLIGHT
BEGIN:DAYLIGHT
DTSTART:20270314T030000
RDATE:20271107T010000
TZOFFSETFROM:-0800
TZOFFSETTO:-0700
TZNAME:America/Tijuana PDT
END:DAYLIGHT
END:VTIMEZONE
BEGIN:VEVENT
UID:bf534a8db0bbe41f314a7a2d898883f2
CATEGORIES:Photography Group
CREATED:20181211T062114
SUMMARY:Capturing the Beauty of Native Plants Through Photographs
LOCATION:Peninsula Conservation Center
DESCRIPTION:Has this ever happened to you: it was a beautiful day, the plants were stun
 ning, but your photos didn’t live up to expectations? Want to know how to b
 etter capture the beauty of native plants around you, on the trails or even
  in your garden? \nIn this presentation, Atul will go through outstanding p
 hotos of California native plants and landscapes and share tips on composit
 ion, lighting and postprocessing that make images pop. Pose your questions/
 comments during the Q&amp;A session. \nBeautiful images of nature are more 
 than just eye candy: they help us share the beauty of natural systems with 
 others and build awareness about the urgent need to conserve natural habita
 ts. Join us and become a better photographer and a better communicator. \nT
 he program is free and open to all. Please RSVP through meetup.com (“Califo
 rnia Native Plant Society – Santa Clara Valley Chapter”).\n
X-ALT-DESC;FMTTYPE=text/html:<div class="page" title="Page 5"><div class="layoutArea"><div class="column
 "><p><span style="font-size: 11pt; font-family: TimesNewRoman;">Has this ev
 er happened to you: it was a beautiful day, the plants were stunning, but y
 our photos didn’t live up to expectations? Want to know how to better captu
 re the beauty of native plants around you, on the trails or even in your ga
 rden? </span></p><p><span style="font-size: 11pt; font-family: TimesNewRoma
 n;">In this presentation, Atul will go through outstanding photos of Califo
 rnia native plants and landscapes and share tips on composition, lighting a
 nd postprocessing that make images pop. Pose your questions/comments during
  the Q&amp;A session. </span></p><p><span style="font-size: 11pt; font-fami
 ly: TimesNewRoman;">Beautiful images of nature are more than just eye candy
 : they help us share the beauty of natural systems with others and build aw
 areness about the urgent need to conserve natural habitats. Join us and bec
 ome a better photographer and a better communicator. </span></p><p><span st
 yle="font-size: 11pt; font-family: TimesNewRoman;">The program is free and 
 open to all.&nbsp;</span><span style="font-size: 11pt; font-family: 'TimesN
 ewRoman,Bold';">Please RSVP through meetup.com&nbsp;</span><span style="fon
 t-size: 11pt; font-family: TimesNewRoman;">(“California Native Plant Societ
 y – Santa Clara Valley Chapter”).</span></p></div></div></div>
DTSTAMP:20260421T113008
DTSTART;TZID=America/Tijuana:20190115T190000
DTEND;TZID=America/Tijuana:20190115T210000
SEQUENCE:0
TRANSP:OPAQUE
END:VEVENT
END:VCALENDAR