BEGIN:VCALENDAR
VERSION:2.0
PRODID:-//jEvents 2.0 for Joomla//EN
CALSCALE:GREGORIAN
METHOD:PUBLISH
BEGIN:VTIMEZONE
TZID:America/Tijuana
BEGIN:STANDARD
DTSTART:20181104T010000
RDATE:20190310T030000
TZOFFSETFROM:-0700
TZOFFSETTO:-0800
TZNAME:America/Tijuana PST
END:STANDARD
BEGIN:STANDARD
DTSTART:20191103T010000
RDATE:20200308T030000
TZOFFSETFROM:-0700
TZOFFSETTO:-0800
TZNAME:America/Tijuana PST
END:STANDARD
BEGIN:STANDARD
DTSTART:20201101T010000
RDATE:20210314T030000
TZOFFSETFROM:-0700
TZOFFSETTO:-0800
TZNAME:America/Tijuana PST
END:STANDARD
BEGIN:STANDARD
DTSTART:20211107T010000
RDATE:20220313T030000
TZOFFSETFROM:-0700
TZOFFSETTO:-0800
TZNAME:America/Tijuana PST
END:STANDARD
BEGIN:STANDARD
DTSTART:20221106T010000
RDATE:20230312T030000
TZOFFSETFROM:-0700
TZOFFSETTO:-0800
TZNAME:America/Tijuana PST
END:STANDARD
BEGIN:STANDARD
DTSTART:20231105T010000
RDATE:20240310T030000
TZOFFSETFROM:-0700
TZOFFSETTO:-0800
TZNAME:America/Tijuana PST
END:STANDARD
BEGIN:STANDARD
DTSTART:20241103T010000
RDATE:20250309T030000
TZOFFSETFROM:-0700
TZOFFSETTO:-0800
TZNAME:America/Tijuana PST
END:STANDARD
BEGIN:STANDARD
DTSTART:20251102T010000
RDATE:20260308T030000
TZOFFSETFROM:-0700
TZOFFSETTO:-0800
TZNAME:America/Tijuana PST
END:STANDARD
BEGIN:STANDARD
DTSTART:20261101T010000
RDATE:20270314T030000
TZOFFSETFROM:-0700
TZOFFSETTO:-0800
TZNAME:America/Tijuana PST
END:STANDARD
BEGIN:STANDARD
DTSTART:20271107T010000
RDATE:20280312T030000
TZOFFSETFROM:-0700
TZOFFSETTO:-0800
TZNAME:America/Tijuana PST
END:STANDARD
BEGIN:DAYLIGHT
DTSTART:20180413T100000
RDATE:20181104T010000
TZOFFSETFROM:-0800
TZOFFSETTO:-0700
TZNAME:America/Tijuana PDT
END:DAYLIGHT
BEGIN:DAYLIGHT
DTSTART:20190310T030000
RDATE:20191103T010000
TZOFFSETFROM:-0800
TZOFFSETTO:-0700
TZNAME:America/Tijuana PDT
END:DAYLIGHT
BEGIN:DAYLIGHT
DTSTART:20200308T030000
RDATE:20201101T010000
TZOFFSETFROM:-0800
TZOFFSETTO:-0700
TZNAME:America/Tijuana PDT
END:DAYLIGHT
BEGIN:DAYLIGHT
DTSTART:20210314T030000
RDATE:20211107T010000
TZOFFSETFROM:-0800
TZOFFSETTO:-0700
TZNAME:America/Tijuana PDT
END:DAYLIGHT
BEGIN:DAYLIGHT
DTSTART:20220313T030000
RDATE:20221106T010000
TZOFFSETFROM:-0800
TZOFFSETTO:-0700
TZNAME:America/Tijuana PDT
END:DAYLIGHT
BEGIN:DAYLIGHT
DTSTART:20230312T030000
RDATE:20231105T010000
TZOFFSETFROM:-0800
TZOFFSETTO:-0700
TZNAME:America/Tijuana PDT
END:DAYLIGHT
BEGIN:DAYLIGHT
DTSTART:20240310T030000
RDATE:20241103T010000
TZOFFSETFROM:-0800
TZOFFSETTO:-0700
TZNAME:America/Tijuana PDT
END:DAYLIGHT
BEGIN:DAYLIGHT
DTSTART:20250309T030000
RDATE:20251102T010000
TZOFFSETFROM:-0800
TZOFFSETTO:-0700
TZNAME:America/Tijuana PDT
END:DAYLIGHT
BEGIN:DAYLIGHT
DTSTART:20260308T030000
RDATE:20261101T010000
TZOFFSETFROM:-0800
TZOFFSETTO:-0700
TZNAME:America/Tijuana PDT
END:DAYLIGHT
BEGIN:DAYLIGHT
DTSTART:20270314T030000
RDATE:20271107T010000
TZOFFSETFROM:-0800
TZOFFSETTO:-0700
TZNAME:America/Tijuana PDT
END:DAYLIGHT
END:VTIMEZONE
BEGIN:VEVENT
UID:2eadf61fd10198af0347def1647f2e5e
CATEGORIES:Field Trips
CREATED:20190218T082207
SUMMARY:Beginners’ Wildflower ID Walk at Stile Ranch (Santa Teresa CP, San Jose)
LOCATION:Stile Ranch (Santa Teresa CP\, San Jose)
DESCRIPTION:<div class="page" title="Page 9"><div class="layoutArea"><div class="column
 "><p><span style="font-size: 11pt; font-family: TimesNewRoman;">The serpent
 ine hills of Stile Ranch are home to a rich diversity of native annual and 
 perennial wildflowers and the display this year is expected to be particula
 rly exuberant. Join Arvind Kumar and Ashok Jethanandani on this walk to lea
 rn to identify the common wildflowers of our area. We will also examine the
  foliage and fruit of each species, to get a leg up on recognizing them out
  of bloom. </span></p><p><span style="font-size: 11pt; font-family: TimesNe
 wRoman;">On this loop hike, we will go up the Stile Ranch Trail and return 
 via the Fortini Trail. The distance covered will be 2.6 miles with 450’ of 
 elevation gain/loss. Bring a hat, water, lunch, and your favorite trail acc
 essories (camera/ smartphone/hand lens/binoculars/field guide/none). Dress 
 in layers and appropriately for the weather. </span></p><p><span style="fon
 t-size: 11pt; font-family: 'TimesNewRoman,Bold';">RSVP </span><span style="
 font-size: 11pt; font-family: TimesNewRoman;">via </span><span style="font-
 size: 11pt; font-family: 'TimesNewRoman,Bold';">meetup.com </span><span sty
 le="font-size: 11pt; font-family: TimesNewRoman;">(search for “California N
 ative Plant Society - Santa Clara Valley Chapter”) to </span><span style="f
 ont-size: 11pt; font-family: 'TimesNewRoman,Bold';">reserve a spot</span><s
 pan style="font-size: 11pt; font-family: TimesNewRoman;">. </span></p><p><s
 pan style="font-size: 11pt; font-family: 'TimesNewRoman,Bold';">Directions:
  </span><span style="font-size: 11pt; font-family: TimesNewRoman;">Meet at 
 the Stile Ranch TH parking lot on </span><span style="font-size: 11pt; font
 -family: 'TimesNewRoman,Bold';">San Vicente Ave</span><span style="font-siz
 e: 11pt; font-family: TimesNewRoman;">. just west of the T-junction with Fo
 rtini Rd. (In Google Maps, search for “Stile Ranch Trailhead.”) Parking is 
 limited so carpooling is recommended. </span></p></div></div></div>
CONTACT:RSVP via meetup.com (search for “California Native Plant Society - Santa Clara Valley Chapter”) to reserve a spot.
DTSTAMP:20260421T084509
DTSTART;TZID=America/Tijuana:20190414T100000
DTEND;TZID=America/Tijuana:20190414T140000
SEQUENCE:0
TRANSP:OPAQUE
END:VEVENT
END:VCALENDAR