BEGIN:VCALENDAR
VERSION:2.0
PRODID:-//jEvents 2.0 for Joomla//EN
CALSCALE:GREGORIAN
METHOD:PUBLISH
BEGIN:VTIMEZONE
TZID:America/Tijuana
BEGIN:STANDARD
DTSTART:20181104T010000
RDATE:20190310T030000
TZOFFSETFROM:-0700
TZOFFSETTO:-0800
TZNAME:America/Tijuana PST
END:STANDARD
BEGIN:STANDARD
DTSTART:20191103T010000
RDATE:20200308T030000
TZOFFSETFROM:-0700
TZOFFSETTO:-0800
TZNAME:America/Tijuana PST
END:STANDARD
BEGIN:STANDARD
DTSTART:20201101T010000
RDATE:20210314T030000
TZOFFSETFROM:-0700
TZOFFSETTO:-0800
TZNAME:America/Tijuana PST
END:STANDARD
BEGIN:STANDARD
DTSTART:20211107T010000
RDATE:20220313T030000
TZOFFSETFROM:-0700
TZOFFSETTO:-0800
TZNAME:America/Tijuana PST
END:STANDARD
BEGIN:STANDARD
DTSTART:20221106T010000
RDATE:20230312T030000
TZOFFSETFROM:-0700
TZOFFSETTO:-0800
TZNAME:America/Tijuana PST
END:STANDARD
BEGIN:STANDARD
DTSTART:20231105T010000
RDATE:20240310T030000
TZOFFSETFROM:-0700
TZOFFSETTO:-0800
TZNAME:America/Tijuana PST
END:STANDARD
BEGIN:STANDARD
DTSTART:20241103T010000
RDATE:20250309T030000
TZOFFSETFROM:-0700
TZOFFSETTO:-0800
TZNAME:America/Tijuana PST
END:STANDARD
BEGIN:STANDARD
DTSTART:20251102T010000
RDATE:20260308T030000
TZOFFSETFROM:-0700
TZOFFSETTO:-0800
TZNAME:America/Tijuana PST
END:STANDARD
BEGIN:STANDARD
DTSTART:20261101T010000
RDATE:20270314T030000
TZOFFSETFROM:-0700
TZOFFSETTO:-0800
TZNAME:America/Tijuana PST
END:STANDARD
BEGIN:STANDARD
DTSTART:20271107T010000
RDATE:20280312T030000
TZOFFSETFROM:-0700
TZOFFSETTO:-0800
TZNAME:America/Tijuana PST
END:STANDARD
BEGIN:DAYLIGHT
DTSTART:20180921T100000
RDATE:20181104T010000
TZOFFSETFROM:-0800
TZOFFSETTO:-0700
TZNAME:America/Tijuana PDT
END:DAYLIGHT
BEGIN:DAYLIGHT
DTSTART:20190310T030000
RDATE:20191103T010000
TZOFFSETFROM:-0800
TZOFFSETTO:-0700
TZNAME:America/Tijuana PDT
END:DAYLIGHT
BEGIN:DAYLIGHT
DTSTART:20200308T030000
RDATE:20201101T010000
TZOFFSETFROM:-0800
TZOFFSETTO:-0700
TZNAME:America/Tijuana PDT
END:DAYLIGHT
BEGIN:DAYLIGHT
DTSTART:20210314T030000
RDATE:20211107T010000
TZOFFSETFROM:-0800
TZOFFSETTO:-0700
TZNAME:America/Tijuana PDT
END:DAYLIGHT
BEGIN:DAYLIGHT
DTSTART:20220313T030000
RDATE:20221106T010000
TZOFFSETFROM:-0800
TZOFFSETTO:-0700
TZNAME:America/Tijuana PDT
END:DAYLIGHT
BEGIN:DAYLIGHT
DTSTART:20230312T030000
RDATE:20231105T010000
TZOFFSETFROM:-0800
TZOFFSETTO:-0700
TZNAME:America/Tijuana PDT
END:DAYLIGHT
BEGIN:DAYLIGHT
DTSTART:20240310T030000
RDATE:20241103T010000
TZOFFSETFROM:-0800
TZOFFSETTO:-0700
TZNAME:America/Tijuana PDT
END:DAYLIGHT
BEGIN:DAYLIGHT
DTSTART:20250309T030000
RDATE:20251102T010000
TZOFFSETFROM:-0800
TZOFFSETTO:-0700
TZNAME:America/Tijuana PDT
END:DAYLIGHT
BEGIN:DAYLIGHT
DTSTART:20260308T030000
RDATE:20261101T010000
TZOFFSETFROM:-0800
TZOFFSETTO:-0700
TZNAME:America/Tijuana PDT
END:DAYLIGHT
BEGIN:DAYLIGHT
DTSTART:20270314T030000
RDATE:20271107T010000
TZOFFSETFROM:-0800
TZOFFSETTO:-0700
TZNAME:America/Tijuana PDT
END:DAYLIGHT
END:VTIMEZONE
BEGIN:VEVENT
UID:05117f6d401b315ac7632fb4e622d206
CATEGORIES:Field Trips
CREATED:20190812T071319
SUMMARY:Data Collection with Calflora at Edgewood (Redwood City)
LOCATION:Edgewood (Redwood City)
DESCRIPTION:Join Calflora's Cynthia Powell and our field trip chair Joerg Lohse for a r
 igorous and hands-on data collection hike, following up on Cynthia's Septem
 ber 20 program.\nInstall the Calflora Observer Pro app on your smartphone b
 efore the field trip to be ready to record info. Bring lunch and water for 
 the day. For more information, contact Joerg at This email address is being
  protected from spambots. You need JavaScript enabled to view it.
				docum
 ent.getElementById('cloak4b1b05da34bebbd4b31f54f3b7facb14').innerHTML = '';
 
				var prefix = '&amp;#109;a' + 'i&amp;#108;' + '&amp;#116;o';
				var pa
 th = 'hr' + 'ef' + '=';
				var addy4b1b05da34bebbd4b31f54f3b7facb14 = 'j&a
 mp;#111;&amp;#101;rg4cnps' + '&amp;#64;';
				addy4b1b05da34bebbd4b31f54f3b
 7facb14 = addy4b1b05da34bebbd4b31f54f3b7facb14 + 'gm&amp;#97;&amp;#105;l' +
  '&amp;#46;' + 'c&amp;#111;m';
				var addy_text4b1b05da34bebbd4b31f54f3b7f
 acb14 = 'j&amp;#111;&amp;#101;rg4cnps' + '&amp;#64;' + 'gm&amp;#97;&amp;#10
 5;l' + '&amp;#46;' + 'c&amp;#111;m';document.getElementById('cloak4b1b05da3
 4bebbd4b31f54f3b7facb14').innerHTML += '&lt;a ' + path + '\'' + prefix + ':
 ' + addy4b1b05da34bebbd4b31f54f3b7facb14 + '\'&gt;'+addy_text4b1b05da34bebb
 d4b31f54f3b7facb14+'&lt;\/a&gt;';
		. (mailto:joerg4cnps@gmail.com.)\nDirec
 tions: We’ll meet at 10am at the Bill and Jane Lane Education Center in Edg
 ewood Park and Preserve, located at 10 Stage Coach Road in Redwood City, CA
  94062.\n
X-ALT-DESC;FMTTYPE=text/html:<div class="page" title="Page 7"><div class="layoutArea"><div class="column
 "><p>Join Calflora's Cynthia Powell and our field trip chair Joerg Lohse fo
 r a rigorous and hands-on data collection hike, following up on Cynthia's S
 eptember 20 program.</p><p>Install the Calflora Observer Pro app on your sm
 artphone before the field trip to be ready to record info. Bring lunch and 
 water for the day. For more information, contact Joerg at <a href="mailto:j
 oerg4cnps@gmail.com."><span id="cloak4b1b05da34bebbd4b31f54f3b7facb14">This
  email address is being protected from spambots. You need JavaScript enable
 d to view it.</span><script type='text/javascript'>
				document.getElement
 ById('cloak4b1b05da34bebbd4b31f54f3b7facb14').innerHTML = '';
				var prefi
 x = '&#109;a' + 'i&#108;' + '&#116;o';
				var path = 'hr' + 'ef' + '=';
		
 		var addy4b1b05da34bebbd4b31f54f3b7facb14 = 'j&#111;&#101;rg4cnps' + '&#64
 ;';
				addy4b1b05da34bebbd4b31f54f3b7facb14 = addy4b1b05da34bebbd4b31f54f3
 b7facb14 + 'gm&#97;&#105;l' + '&#46;' + 'c&#111;m';
				var addy_text4b1b05
 da34bebbd4b31f54f3b7facb14 = 'j&#111;&#101;rg4cnps' + '&#64;' + 'gm&#97;&#1
 05;l' + '&#46;' + 'c&#111;m';document.getElementById('cloak4b1b05da34bebbd4
 b31f54f3b7facb14').innerHTML += '<a ' + path + '\'' + prefix + ':' + addy4b
 1b05da34bebbd4b31f54f3b7facb14 + '\'>'+addy_text4b1b05da34bebbd4b31f54f3b7f
 acb14+'<\/a>';
		</script>.</a></p><p>Directions: We’ll meet at 10am at the
  Bill and Jane Lane Education Center in Edgewood Park and Preserve, located
  at 10 Stage Coach Road in Redwood City, CA 94062.</p></div></div></div>
CONTACT:Joerg at This email address is being protected from spambots. You need JavaScript enabled to view it.
				document.getElementById('cloak9e529edef990dd2c4b882a365d7518ab').innerHTML = '';
				var prefix = '&#109;a' + 'i&#108;' + '&#116;o';
				var path = 'hr' + 'ef' + '=';
				var addy9e529edef990dd2c4b882a365d7518ab = 'j&#111;&#101;rg4cnps' + '&#64;';
				addy9e529edef990dd2c4b882a365d7518ab = addy9e529edef990dd2c4b882a365d7518ab + 'gm&#97;&#105;l' + '&#46;' + 'c&#111;m';
				var addy_text9e529edef990dd2c4b882a365d7518ab = 'j&#111;&#101;rg4cnps' + '&#64;' + 'gm&#97;&#105;l' + '&#46;' + 'c&#111;m';document.getElementById('cloak9e529edef990dd2c4b882a365d7518ab').innerHTML += '<a ' + path + '\'' + prefix + ':' + addy9e529edef990dd2c4b882a365d7518ab + '\'>'+addy_text9e529edef990dd2c4b882a365d7518ab+'';
		
DTSTAMP:20260424T234501
DTSTART;TZID=America/Tijuana:20190922T100000
DTEND;TZID=America/Tijuana:20190922T140000
SEQUENCE:0
TRANSP:OPAQUE
END:VEVENT
END:VCALENDAR