BEGIN:VCALENDAR
VERSION:2.0
PRODID:-//jEvents 2.0 for Joomla//EN
CALSCALE:GREGORIAN
METHOD:PUBLISH
BEGIN:VTIMEZONE
TZID:America/Tijuana
BEGIN:STANDARD
DTSTART:20181206T100000
RDATE:20190310T030000
TZOFFSETFROM:-0700
TZOFFSETTO:-0800
TZNAME:America/Tijuana PST
END:STANDARD
BEGIN:STANDARD
DTSTART:20191103T010000
RDATE:20200308T030000
TZOFFSETFROM:-0700
TZOFFSETTO:-0800
TZNAME:America/Tijuana PST
END:STANDARD
BEGIN:STANDARD
DTSTART:20201101T010000
RDATE:20210314T030000
TZOFFSETFROM:-0700
TZOFFSETTO:-0800
TZNAME:America/Tijuana PST
END:STANDARD
BEGIN:STANDARD
DTSTART:20211107T010000
RDATE:20220313T030000
TZOFFSETFROM:-0700
TZOFFSETTO:-0800
TZNAME:America/Tijuana PST
END:STANDARD
BEGIN:STANDARD
DTSTART:20221106T010000
RDATE:20230312T030000
TZOFFSETFROM:-0700
TZOFFSETTO:-0800
TZNAME:America/Tijuana PST
END:STANDARD
BEGIN:STANDARD
DTSTART:20231105T010000
RDATE:20240310T030000
TZOFFSETFROM:-0700
TZOFFSETTO:-0800
TZNAME:America/Tijuana PST
END:STANDARD
BEGIN:STANDARD
DTSTART:20241103T010000
RDATE:20250309T030000
TZOFFSETFROM:-0700
TZOFFSETTO:-0800
TZNAME:America/Tijuana PST
END:STANDARD
BEGIN:STANDARD
DTSTART:20251102T010000
RDATE:20260308T030000
TZOFFSETFROM:-0700
TZOFFSETTO:-0800
TZNAME:America/Tijuana PST
END:STANDARD
BEGIN:STANDARD
DTSTART:20261101T010000
RDATE:20270314T030000
TZOFFSETFROM:-0700
TZOFFSETTO:-0800
TZNAME:America/Tijuana PST
END:STANDARD
BEGIN:STANDARD
DTSTART:20271107T010000
RDATE:20280312T030000
TZOFFSETFROM:-0700
TZOFFSETTO:-0800
TZNAME:America/Tijuana PST
END:STANDARD
BEGIN:DAYLIGHT
DTSTART:20190310T030000
RDATE:20191103T010000
TZOFFSETFROM:-0800
TZOFFSETTO:-0700
TZNAME:America/Tijuana PDT
END:DAYLIGHT
BEGIN:DAYLIGHT
DTSTART:20200308T030000
RDATE:20201101T010000
TZOFFSETFROM:-0800
TZOFFSETTO:-0700
TZNAME:America/Tijuana PDT
END:DAYLIGHT
BEGIN:DAYLIGHT
DTSTART:20210314T030000
RDATE:20211107T010000
TZOFFSETFROM:-0800
TZOFFSETTO:-0700
TZNAME:America/Tijuana PDT
END:DAYLIGHT
BEGIN:DAYLIGHT
DTSTART:20220313T030000
RDATE:20221106T010000
TZOFFSETFROM:-0800
TZOFFSETTO:-0700
TZNAME:America/Tijuana PDT
END:DAYLIGHT
BEGIN:DAYLIGHT
DTSTART:20230312T030000
RDATE:20231105T010000
TZOFFSETFROM:-0800
TZOFFSETTO:-0700
TZNAME:America/Tijuana PDT
END:DAYLIGHT
BEGIN:DAYLIGHT
DTSTART:20240310T030000
RDATE:20241103T010000
TZOFFSETFROM:-0800
TZOFFSETTO:-0700
TZNAME:America/Tijuana PDT
END:DAYLIGHT
BEGIN:DAYLIGHT
DTSTART:20250309T030000
RDATE:20251102T010000
TZOFFSETFROM:-0800
TZOFFSETTO:-0700
TZNAME:America/Tijuana PDT
END:DAYLIGHT
BEGIN:DAYLIGHT
DTSTART:20260308T030000
RDATE:20261101T010000
TZOFFSETFROM:-0800
TZOFFSETTO:-0700
TZNAME:America/Tijuana PDT
END:DAYLIGHT
BEGIN:DAYLIGHT
DTSTART:20270314T030000
RDATE:20271107T010000
TZOFFSETFROM:-0800
TZOFFSETTO:-0700
TZNAME:America/Tijuana PDT
END:DAYLIGHT
END:VTIMEZONE
BEGIN:VEVENT
UID:45f52a0def2f4ad5bc99cdad8b3ddb05
CATEGORIES:Field Trips
CREATED:20191014T215132
SUMMARY:Moss Hike in Almaden Quicksilver County Park (San Jose)
LOCATION:Almaden Quicksilver County Park (San Jose)
DESCRIPTION:<div class="page" title="Page 7"><div class="layoutArea"><div class="column
 "><p>Join Ben Carter, botany professor at SJSU, for a 2.5 mile walk to lear
 n about bryophytes (mosses, liverworts and hornworts) of the Bay Area. This
  is an entry-level walk that will emphasize seeing different bryophyte spec
 ies in nature and learning about their morphology, ecology and natural hist
 ory.</p><p>There will be a moderate uphill&nbsp;climb, but the path is well
 -shaded&nbsp;and we’ll be moving very slowly. Bring a hand lens if you have
  one. Bring lunch, snacks and liquids. We’ll head out in any conditions exc
 ept for heavy rain.</p><p>We will meet at the Hacienda Entrance parking lot
 , which is at the southern tip of the park along Almaden Road. For more inf
 ormation, contact Ben Carter at <span id="cloak5caedea0dae9a3def1aebfe4e921
 81c4">This email address is being protected from spambots. You need JavaScr
 ipt enabled to view it.</span><script type='text/javascript'>
				document.
 getElementById('cloak5caedea0dae9a3def1aebfe4e92181c4').innerHTML = '';
			
 	var prefix = '&#109;a' + 'i&#108;' + '&#116;o';
				var path = 'hr' + 'ef'
  + '=';
				var addy5caedea0dae9a3def1aebfe4e92181c4 = 'b&#101;nj&#97;m&#10
 5;n.c&#97;rt&#101;r' + '&#64;';
				addy5caedea0dae9a3def1aebfe4e92181c4 = 
 addy5caedea0dae9a3def1aebfe4e92181c4 + 'sjs&#117;' + '&#46;' + '&#101;d&#11
 7;';
				var addy_text5caedea0dae9a3def1aebfe4e92181c4 = 'b&#101;nj&#97;m&#
 105;n.c&#97;rt&#101;r' + '&#64;' + 'sjs&#117;' + '&#46;' + '&#101;d&#117;';
 document.getElementById('cloak5caedea0dae9a3def1aebfe4e92181c4').innerHTML 
 += '<a ' + path + '\'' + prefix + ':' + addy5caedea0dae9a3def1aebfe4e92181c
 4 + '\'>'+addy_text5caedea0dae9a3def1aebfe4e92181c4+'<\/a>';
		</script> or
  (805) 704-0616.</p></div></div></div>
CONTACT:Ben Carter at This email address is being protected from spambots. You need JavaScript enabled to view it.
				document.getElementById('cloaka142141f3b8e580abcf03bca11ae6b05').innerHTML = '';
				var prefix = '&#109;a' + 'i&#108;' + '&#116;o';
				var path = 'hr' + 'ef' + '=';
				var addya142141f3b8e580abcf03bca11ae6b05 = 'b&#101;nj&#97;m&#105;n.c&#97;rt&#101;r' + '&#64;';
				addya142141f3b8e580abcf03bca11ae6b05 = addya142141f3b8e580abcf03bca11ae6b05 + 'sjs&#117;' + '&#46;' + '&#101;d&#117;';
				var addy_texta142141f3b8e580abcf03bca11ae6b05 = 'b&#101;nj&#97;m&#105;n.c&#97;rt&#101;r' + '&#64;' + 'sjs&#117;' + '&#46;' + '&#101;d&#117;';document.getElementById('cloaka142141f3b8e580abcf03bca11ae6b05').innerHTML += '<a ' + path + '\'' + prefix + ':' + addya142141f3b8e580abcf03bca11ae6b05 + '\'>'+addy_texta142141f3b8e580abcf03bca11ae6b05+'';
		 or (805) 704-0616
DTSTAMP:20260423T054358
DTSTART;TZID=America/Tijuana:20191207T100000
DTEND;TZID=America/Tijuana:20191207T140000
SEQUENCE:0
TRANSP:OPAQUE
END:VEVENT
END:VCALENDAR