BEGIN:VCALENDAR
VERSION:2.0
PRODID:-//jEvents 2.0 for Joomla//EN
CALSCALE:GREGORIAN
METHOD:PUBLISH
BEGIN:VTIMEZONE
TZID:America/Tijuana
BEGIN:STANDARD
DTSTART:20191103T010000
RDATE:20200308T030000
TZOFFSETFROM:-0700
TZOFFSETTO:-0800
TZNAME:America/Tijuana PST
END:STANDARD
BEGIN:STANDARD
DTSTART:20201101T010000
RDATE:20210314T030000
TZOFFSETFROM:-0700
TZOFFSETTO:-0800
TZNAME:America/Tijuana PST
END:STANDARD
BEGIN:STANDARD
DTSTART:20211107T010000
RDATE:20220313T030000
TZOFFSETFROM:-0700
TZOFFSETTO:-0800
TZNAME:America/Tijuana PST
END:STANDARD
BEGIN:STANDARD
DTSTART:20221106T010000
RDATE:20230312T030000
TZOFFSETFROM:-0700
TZOFFSETTO:-0800
TZNAME:America/Tijuana PST
END:STANDARD
BEGIN:STANDARD
DTSTART:20231105T010000
RDATE:20240310T030000
TZOFFSETFROM:-0700
TZOFFSETTO:-0800
TZNAME:America/Tijuana PST
END:STANDARD
BEGIN:STANDARD
DTSTART:20241103T010000
RDATE:20250309T030000
TZOFFSETFROM:-0700
TZOFFSETTO:-0800
TZNAME:America/Tijuana PST
END:STANDARD
BEGIN:STANDARD
DTSTART:20251102T010000
RDATE:20260308T030000
TZOFFSETFROM:-0700
TZOFFSETTO:-0800
TZNAME:America/Tijuana PST
END:STANDARD
BEGIN:STANDARD
DTSTART:20261101T010000
RDATE:20270314T030000
TZOFFSETFROM:-0700
TZOFFSETTO:-0800
TZNAME:America/Tijuana PST
END:STANDARD
BEGIN:STANDARD
DTSTART:20271107T010000
RDATE:20280312T030000
TZOFFSETFROM:-0700
TZOFFSETTO:-0800
TZNAME:America/Tijuana PST
END:STANDARD
BEGIN:DAYLIGHT
DTSTART:20190416T100000
RDATE:20191103T010000
TZOFFSETFROM:-0800
TZOFFSETTO:-0700
TZNAME:America/Tijuana PDT
END:DAYLIGHT
BEGIN:DAYLIGHT
DTSTART:20200308T030000
RDATE:20201101T010000
TZOFFSETFROM:-0800
TZOFFSETTO:-0700
TZNAME:America/Tijuana PDT
END:DAYLIGHT
BEGIN:DAYLIGHT
DTSTART:20210314T030000
RDATE:20211107T010000
TZOFFSETFROM:-0800
TZOFFSETTO:-0700
TZNAME:America/Tijuana PDT
END:DAYLIGHT
BEGIN:DAYLIGHT
DTSTART:20220313T030000
RDATE:20221106T010000
TZOFFSETFROM:-0800
TZOFFSETTO:-0700
TZNAME:America/Tijuana PDT
END:DAYLIGHT
BEGIN:DAYLIGHT
DTSTART:20230312T030000
RDATE:20231105T010000
TZOFFSETFROM:-0800
TZOFFSETTO:-0700
TZNAME:America/Tijuana PDT
END:DAYLIGHT
BEGIN:DAYLIGHT
DTSTART:20240310T030000
RDATE:20241103T010000
TZOFFSETFROM:-0800
TZOFFSETTO:-0700
TZNAME:America/Tijuana PDT
END:DAYLIGHT
BEGIN:DAYLIGHT
DTSTART:20250309T030000
RDATE:20251102T010000
TZOFFSETFROM:-0800
TZOFFSETTO:-0700
TZNAME:America/Tijuana PDT
END:DAYLIGHT
BEGIN:DAYLIGHT
DTSTART:20260308T030000
RDATE:20261101T010000
TZOFFSETFROM:-0800
TZOFFSETTO:-0700
TZNAME:America/Tijuana PDT
END:DAYLIGHT
BEGIN:DAYLIGHT
DTSTART:20270314T030000
RDATE:20271107T010000
TZOFFSETFROM:-0800
TZOFFSETTO:-0700
TZNAME:America/Tijuana PDT
END:DAYLIGHT
END:VTIMEZONE
BEGIN:VEVENT
UID:5552ca0cb0c5c702fea1d1f2e9cd0f1a
CATEGORIES:Field Trips
CREATED:20200218T095855
SUMMARY:CANCELLED: Rancho San Vicente/Calero County Park (San Jose)
LOCATION:Rancho San Vicente/Calero County Park (San Jose)
DESCRIPTION:<div class="page" title="Page 6"><div class="layoutArea"><div class="column
 "><h3><strong>THIS EVENT HAS BEEN CANCELLED DUE TO COVID-19.</strong></h3><
 p>Join Judy Fenerty for a 4- to 6-mile moderately strenuous hike through th
 e Rancho San Vicente addition to Calero County Park. Rancho San Vicente has
  significant serpentine grasslands as well as oak savanna, chaparral and ri
 parian areas and striking views of the Almaden Valley and Calero Reservoir.
 </p><p>As part of this trip, we will search for and record a few targeted r
 are plant species, including woodland monolopia, Monolopia gracilens. No pr
 evious recording experience is necessary: you can also just join us for the
  hike!</p><div class="page" title="Page 7"><div class="layoutArea"><div cla
 ss="column"><p>We will be following ranch roads, some of which are rough, r
 ocky and slippery. We may go off-road to see some species and could have an
  elevation gain of around 1,000 feet. Wear sturdy hiking footwear. Much of 
 the area has little or no shade. Dress in layers and bring plenty of water!
  Be aware that cattle may be present.</p><p>Directions: Meet in the new par
 king lot with restrooms and potable water on McKean Rd. across from Fortini
  Rd. in San Jose. For more information contact Judy Fenerty at <span id="cl
 oakb1e902773455ce52f5c88134cdd28fe0">This email address is being protected 
 from spambots. You need JavaScript enabled to view it.</span><script type='
 text/javascript'>
				document.getElementById('cloakb1e902773455ce52f5c8813
 4cdd28fe0').innerHTML = '';
				var prefix = '&#109;a' + 'i&#108;' + '&#116
 ;o';
				var path = 'hr' + 'ef' + '=';
				var addyb1e902773455ce52f5c88134
 cdd28fe0 = 'j&#117;dy' + '&#64;';
				addyb1e902773455ce52f5c88134cdd28fe0 
 = addyb1e902773455ce52f5c88134cdd28fe0 + 'f&#101;n&#101;rty' + '&#46;' + 'c
 &#111;m';
				var addy_textb1e902773455ce52f5c88134cdd28fe0 = 'j&#117;dy' +
  '&#64;' + 'f&#101;n&#101;rty' + '&#46;' + 'c&#111;m';document.getElementBy
 Id('cloakb1e902773455ce52f5c88134cdd28fe0').innerHTML += '<a ' + path + '\'
 ' + prefix + ':' + addyb1e902773455ce52f5c88134cdd28fe0 + '\'>'+addy_textb1
 e902773455ce52f5c88134cdd28fe0+'<\/a>';
		</script> (preferred), or (408) 6
 55-3493.</p></div></div></div></div></div></div>
CONTACT:Judy Fenerty at This email address is being protected from spambots. You need JavaScript enabled to view it.
				document.getElementById('cloak85ca2f81859497814cff3d29df4ef870').innerHTML = '';
				var prefix = '&#109;a' + 'i&#108;' + '&#116;o';
				var path = 'hr' + 'ef' + '=';
				var addy85ca2f81859497814cff3d29df4ef870 = 'j&#117;dy' + '&#64;';
				addy85ca2f81859497814cff3d29df4ef870 = addy85ca2f81859497814cff3d29df4ef870 + 'f&#101;n&#101;rty' + '&#46;' + 'c&#111;m';
				var addy_text85ca2f81859497814cff3d29df4ef870 = 'j&#117;dy' + '&#64;' + 'f&#101;n&#101;rty' + '&#46;' + 'c&#111;m';document.getElementById('cloak85ca2f81859497814cff3d29df4ef870').innerHTML += '<a ' + path + '\'' + prefix + ':' + addy85ca2f81859497814cff3d29df4ef870 + '\'>'+addy_text85ca2f81859497814cff3d29df4ef870+'';
		 (preferred), or (408) 655-3493
DTSTAMP:20260424T012105
DTSTART;TZID=America/Tijuana:20200416T100000
DTEND;TZID=America/Tijuana:20200416T160000
SEQUENCE:0
TRANSP:OPAQUE
END:VEVENT
END:VCALENDAR