BEGIN:VCALENDAR
VERSION:2.0
PRODID:-//jEvents 2.0 for Joomla//EN
CALSCALE:GREGORIAN
METHOD:PUBLISH
BEGIN:VTIMEZONE
TZID:America/Tijuana
BEGIN:STANDARD
DTSTART:20191103T010000
RDATE:20200308T030000
TZOFFSETFROM:-0700
TZOFFSETTO:-0800
TZNAME:America/Tijuana PST
END:STANDARD
BEGIN:STANDARD
DTSTART:20201101T010000
RDATE:20210314T030000
TZOFFSETFROM:-0700
TZOFFSETTO:-0800
TZNAME:America/Tijuana PST
END:STANDARD
BEGIN:STANDARD
DTSTART:20211107T010000
RDATE:20220313T030000
TZOFFSETFROM:-0700
TZOFFSETTO:-0800
TZNAME:America/Tijuana PST
END:STANDARD
BEGIN:STANDARD
DTSTART:20221106T010000
RDATE:20230312T030000
TZOFFSETFROM:-0700
TZOFFSETTO:-0800
TZNAME:America/Tijuana PST
END:STANDARD
BEGIN:STANDARD
DTSTART:20231105T010000
RDATE:20240310T030000
TZOFFSETFROM:-0700
TZOFFSETTO:-0800
TZNAME:America/Tijuana PST
END:STANDARD
BEGIN:STANDARD
DTSTART:20241103T010000
RDATE:20250309T030000
TZOFFSETFROM:-0700
TZOFFSETTO:-0800
TZNAME:America/Tijuana PST
END:STANDARD
BEGIN:STANDARD
DTSTART:20251102T010000
RDATE:20260308T030000
TZOFFSETFROM:-0700
TZOFFSETTO:-0800
TZNAME:America/Tijuana PST
END:STANDARD
BEGIN:STANDARD
DTSTART:20261101T010000
RDATE:20270314T030000
TZOFFSETFROM:-0700
TZOFFSETTO:-0800
TZNAME:America/Tijuana PST
END:STANDARD
BEGIN:STANDARD
DTSTART:20271107T010000
RDATE:20280312T030000
TZOFFSETFROM:-0700
TZOFFSETTO:-0800
TZNAME:America/Tijuana PST
END:STANDARD
BEGIN:DAYLIGHT
DTSTART:20190722T193000
RDATE:20191103T010000
TZOFFSETFROM:-0800
TZOFFSETTO:-0700
TZNAME:America/Tijuana PDT
END:DAYLIGHT
BEGIN:DAYLIGHT
DTSTART:20200308T030000
RDATE:20201101T010000
TZOFFSETFROM:-0800
TZOFFSETTO:-0700
TZNAME:America/Tijuana PDT
END:DAYLIGHT
BEGIN:DAYLIGHT
DTSTART:20210314T030000
RDATE:20211107T010000
TZOFFSETFROM:-0800
TZOFFSETTO:-0700
TZNAME:America/Tijuana PDT
END:DAYLIGHT
BEGIN:DAYLIGHT
DTSTART:20220313T030000
RDATE:20221106T010000
TZOFFSETFROM:-0800
TZOFFSETTO:-0700
TZNAME:America/Tijuana PDT
END:DAYLIGHT
BEGIN:DAYLIGHT
DTSTART:20230312T030000
RDATE:20231105T010000
TZOFFSETFROM:-0800
TZOFFSETTO:-0700
TZNAME:America/Tijuana PDT
END:DAYLIGHT
BEGIN:DAYLIGHT
DTSTART:20240310T030000
RDATE:20241103T010000
TZOFFSETFROM:-0800
TZOFFSETTO:-0700
TZNAME:America/Tijuana PDT
END:DAYLIGHT
BEGIN:DAYLIGHT
DTSTART:20250309T030000
RDATE:20251102T010000
TZOFFSETFROM:-0800
TZOFFSETTO:-0700
TZNAME:America/Tijuana PDT
END:DAYLIGHT
BEGIN:DAYLIGHT
DTSTART:20260308T030000
RDATE:20261101T010000
TZOFFSETFROM:-0800
TZOFFSETTO:-0700
TZNAME:America/Tijuana PDT
END:DAYLIGHT
BEGIN:DAYLIGHT
DTSTART:20270314T030000
RDATE:20271107T010000
TZOFFSETFROM:-0800
TZOFFSETTO:-0700
TZNAME:America/Tijuana PDT
END:DAYLIGHT
END:VTIMEZONE
BEGIN:VEVENT
UID:c51d18cf2e3ce9a0f9acc068ca2da869
CATEGORIES:Meetings
CREATED:20200719T093221
SUMMARY:Going Native Garden Tour - Live Garden Tours with QA
LOCATION:https://www.youtube.com/c/CNPSSantaClaraValley
DESCRIPTION:View two fabulous native plant gardens with talks and Q&amp;A sessions by t
 heir owners and designers. This is a terrific opportunity to get ideas for 
 your own garden and receive advice from experienced gardeners.\n7:30pm Intr
 oduction\n7:40pm Monika Kress, Santa Teresa Wild, gngt.org/SantaTeresa_GNGT
 \n8:15pm Nancy Neff, Unitarian Universalist Church of Palo Alto Native Demo
 nstration Garden, gngt.org/UUChurchPA_GNGT\nTimes are approximate.\nThis ta
 lk will be live streamed on YouTube and Zoom:\nhttps://www.youtube.com/c/CN
 PSSantaClaraValley (https://www.youtube.com/c/CNPSSantaClaraValley)\nZoom r
 equires advance registration:\nhttps://us02web.zoom.us/meeting/register/tZY
 pdu-grz4jH9HbahZPoWdXmarvhh9nH0h1 (https://us02web.zoom.us/meeting/register
 /tZYpdu-grz4jH9HbahZPoWdXmarvhh9nH0h1)\nThe session will be recorded, so if
  you cannot attend the broadcast, you will be able to view it on Youtube at
  your convenience.\nYou can view these and other gardens on gngt.org at any
  time. The website has hundreds of photographs and dozens of videos. We enc
 ourage you to visit the gardens online at https://gngt.org/GNGT/Gardens.php
 ?year=2020. (https://gngt.org/GNGT/Gardens.php?year=2020.) The gardens with
  videos are all indicated with a camera icon.\n
X-ALT-DESC;FMTTYPE=text/html:<p>View two fabulous native plant gardens with talks and Q&amp;A sessions b
 y their owners and designers. This is a terrific opportunity to get ideas f
 or your own garden and receive advice from experienced gardeners.</p><p>7:3
 0pm Introduction<br />7:40pm Monika Kress, Santa Teresa Wild, gngt.org/Sant
 aTeresa_GNGT<br />8:15pm Nancy Neff, Unitarian Universalist Church of Palo 
 Alto Native Demonstration Garden, gngt.org/UUChurchPA_GNGT</p><p>Times are 
 approximate.</p><p>This talk will be live streamed on YouTube and Zoom:<br 
 /><a href="https://www.youtube.com/c/CNPSSantaClaraValley">https://www.yout
 ube.com/c/CNPSSantaClaraValley</a><br />Zoom requires advance registration:
 <br /><a href="https://us02web.zoom.us/meeting/register/tZYpdu-grz4jH9HbahZ
 PoWdXmarvhh9nH0h1">https://us02web.zoom.us/meeting/register/tZYpdu-grz4jH9H
 bahZPoWdXmarvhh9nH0h1</a><br />The session will be recorded, so if you cann
 ot attend the broadcast, you will be able to view it on Youtube at your con
 venience.</p><p>You can view these and other gardens on gngt.org at any tim
 e. The website has hundreds of photographs and dozens of videos. We encoura
 ge you to visit the gardens online at <a href="https://gngt.org/GNGT/Garden
 s.php?year=2020.">https://gngt.org/GNGT/Gardens.php?year=2020.</a> The gard
 ens with videos are all indicated with a camera icon.</p>
DTSTAMP:20260420T121856
DTSTART;TZID=America/Tijuana:20200722T193000
DTEND;TZID=America/Tijuana:20200722T210000
SEQUENCE:0
TRANSP:OPAQUE
END:VEVENT
END:VCALENDAR