BEGIN:VCALENDAR
VERSION:2.0
PRODID:-//jEvents 2.0 for Joomla//EN
CALSCALE:GREGORIAN
METHOD:PUBLISH
BEGIN:VTIMEZONE
TZID:America/Tijuana
BEGIN:STANDARD
DTSTART:20191103T010000
RDATE:20200308T030000
TZOFFSETFROM:-0700
TZOFFSETTO:-0800
TZNAME:America/Tijuana PST
END:STANDARD
BEGIN:STANDARD
DTSTART:20201101T010000
RDATE:20210314T030000
TZOFFSETFROM:-0700
TZOFFSETTO:-0800
TZNAME:America/Tijuana PST
END:STANDARD
BEGIN:STANDARD
DTSTART:20211107T010000
RDATE:20220313T030000
TZOFFSETFROM:-0700
TZOFFSETTO:-0800
TZNAME:America/Tijuana PST
END:STANDARD
BEGIN:STANDARD
DTSTART:20221106T010000
RDATE:20230312T030000
TZOFFSETFROM:-0700
TZOFFSETTO:-0800
TZNAME:America/Tijuana PST
END:STANDARD
BEGIN:STANDARD
DTSTART:20231105T010000
RDATE:20240310T030000
TZOFFSETFROM:-0700
TZOFFSETTO:-0800
TZNAME:America/Tijuana PST
END:STANDARD
BEGIN:STANDARD
DTSTART:20241103T010000
RDATE:20250309T030000
TZOFFSETFROM:-0700
TZOFFSETTO:-0800
TZNAME:America/Tijuana PST
END:STANDARD
BEGIN:STANDARD
DTSTART:20251102T010000
RDATE:20260308T030000
TZOFFSETFROM:-0700
TZOFFSETTO:-0800
TZNAME:America/Tijuana PST
END:STANDARD
BEGIN:STANDARD
DTSTART:20261101T010000
RDATE:20270314T030000
TZOFFSETFROM:-0700
TZOFFSETTO:-0800
TZNAME:America/Tijuana PST
END:STANDARD
BEGIN:STANDARD
DTSTART:20271107T010000
RDATE:20280312T030000
TZOFFSETFROM:-0700
TZOFFSETTO:-0800
TZNAME:America/Tijuana PST
END:STANDARD
BEGIN:DAYLIGHT
DTSTART:20190924T193000
RDATE:20191103T010000
TZOFFSETFROM:-0800
TZOFFSETTO:-0700
TZNAME:America/Tijuana PDT
END:DAYLIGHT
BEGIN:DAYLIGHT
DTSTART:20200308T030000
RDATE:20201101T010000
TZOFFSETFROM:-0800
TZOFFSETTO:-0700
TZNAME:America/Tijuana PDT
END:DAYLIGHT
BEGIN:DAYLIGHT
DTSTART:20210314T030000
RDATE:20211107T010000
TZOFFSETFROM:-0800
TZOFFSETTO:-0700
TZNAME:America/Tijuana PDT
END:DAYLIGHT
BEGIN:DAYLIGHT
DTSTART:20220313T030000
RDATE:20221106T010000
TZOFFSETFROM:-0800
TZOFFSETTO:-0700
TZNAME:America/Tijuana PDT
END:DAYLIGHT
BEGIN:DAYLIGHT
DTSTART:20230312T030000
RDATE:20231105T010000
TZOFFSETFROM:-0800
TZOFFSETTO:-0700
TZNAME:America/Tijuana PDT
END:DAYLIGHT
BEGIN:DAYLIGHT
DTSTART:20240310T030000
RDATE:20241103T010000
TZOFFSETFROM:-0800
TZOFFSETTO:-0700
TZNAME:America/Tijuana PDT
END:DAYLIGHT
BEGIN:DAYLIGHT
DTSTART:20250309T030000
RDATE:20251102T010000
TZOFFSETFROM:-0800
TZOFFSETTO:-0700
TZNAME:America/Tijuana PDT
END:DAYLIGHT
BEGIN:DAYLIGHT
DTSTART:20260308T030000
RDATE:20261101T010000
TZOFFSETFROM:-0800
TZOFFSETTO:-0700
TZNAME:America/Tijuana PDT
END:DAYLIGHT
BEGIN:DAYLIGHT
DTSTART:20270314T030000
RDATE:20271107T010000
TZOFFSETFROM:-0800
TZOFFSETTO:-0700
TZNAME:America/Tijuana PDT
END:DAYLIGHT
END:VTIMEZONE
BEGIN:VEVENT
UID:836762f69a0d1d4f1083abb5dad9688a
CATEGORIES:Meetings
CREATED:20200829T065605
SUMMARY:A Botanical Quest in Asia & Europe
LOCATION:Zoom
DESCRIPTION:Join Ken and Dee Himes as they highlight their 2019 travels from May to Nov
 ember: a journey to Hong Kong, Borneo, Singapore, Penang, India and parts o
 f Europe, on a botanical quest to compare flora and geological features wit
 h those of California.\nThe main botanical focus of the trip was in Munsyar
 i, the southern side of the Himalaya in the state of Uttarakhand, India. Th
 ey will share some of their experiences from a once-in-a-lifetime trek in t
 he Himalaya with three other Chapter members: Arvind Kumar, Ashok Jethanand
 ani, and Joe Cernac.\nWe will see a surprising geological feature in Hong K
 ong; orangutans in Borneo; amazing flora in the Himalayas; and other botani
 cal interests in the other countries visited. Of course there will be some 
 interesting insect and bug photos as well.\nKen and Dee Himes have been Cha
 pter members since 1974 (Ken) and 2007 (Dee). In 2006, our Chapter nominate
 d Ken as a CNPS Fellow in recognition of his dedication to protecting Calif
 ornia flora and his boundless enthusiasm for passing on his knowledge. Over
  the years, Ken has held nearly every Chapter position, in addition to lead
 ing long-term habitat restoration efforts at Edgewood.\nSince joining CNPS,
  Dee has been our Chapter treasurer, field trip chair and board member; and
  has inspired many with her exceptional photography skills. Dee is currentl
 y serving as a member of the CNPS State Board. Ken and Dee were married in 
 2016, and have continued to celebrate by enjoying interesting plants and ha
 bitats wherever they travel.\nHow to attend: This meeting will be held virt
 ually, via Zoom and YouTube (https://www.youtube.com/c/CNPSSantaClaraValley
 ). Attendees may check our Meetup page (https://www.meetup.com/California-N
 ative-Plant-Society-Santa-Clara-Valley-Chapter/) or our Facebook page (http
 s://www.facebook.com/scv.cnps/) for more information. RSVP on Meetup to rec
 eive the Zoom meeting link.\nCNPS General Meetings are free and open to the
  public. For more information, contact Chapter President Vivian Neou at Thi
 s email address is being protected from spambots. You need JavaScript enabl
 ed to view it.
				document.getElementById('cloakeb1d3fa254e2b53427bb182de6
 369ae3').innerHTML = '';
				var prefix = '&#109;a' + 'i&#108;' + '&#116;o'
 ;
				var path = 'hr' + 'ef' + '=';
				var addyeb1d3fa254e2b53427bb182de63
 69ae3 = 'pr&#101;s&#105;d&#101;nt' + '&#64;';
				addyeb1d3fa254e2b53427bb1
 82de6369ae3 = addyeb1d3fa254e2b53427bb182de6369ae3 + 'cnps-scv' + '&#46;' +
  '&#111;rg';
				var addy_texteb1d3fa254e2b53427bb182de6369ae3 = 'pr&#101;s
 &#105;d&#101;nt' + '&#64;' + 'cnps-scv' + '&#46;' + '&#111;rg';document.get
 ElementById('cloakeb1d3fa254e2b53427bb182de6369ae3').innerHTML += '<a ' + p
 ath + '\'' + prefix + ':' + addyeb1d3fa254e2b53427bb182de6369ae3 + '\'>'+ad
 dy_texteb1d3fa254e2b53427bb182de6369ae3+'';
		 or the Chapter phone at (650
 ) 260-3450.\n 
X-ALT-DESC;FMTTYPE=text/html:<div class="page" title="Page 1"><div class="layoutArea"><div class="column
 "><p>Join Ken and Dee Himes as they highlight their 2019 travels from May t
 o November: a journey to Hong Kong, Borneo, Singapore, Penang, India and pa
 rts of Europe, on a botanical quest to compare flora and geological feature
 s with those of California.</p><div class="page" title="Page 1"><div class=
 "layoutArea"><div class="column"><p>The main botanical focus of the trip wa
 s in Munsyari, the southern side of the Himalaya in the state of Uttarakhan
 d, India. They will share some of their experiences from a once-in-a-lifeti
 me trek in the Himalaya with three other Chapter members: Arvind Kumar, Ash
 ok Jethanandani, and Joe Cernac.</p><p>We will see a surprising geological 
 feature in Hong Kong; orangutans in Borneo; amazing flora in the Himalayas;
  and&nbsp;other botanical interests in the other countries visited. Of cour
 se there will be some interesting insect and bug photos as well.</p><div cl
 ass="column"><p>Ken and Dee Himes have been Chapter members since 1974 (Ken
 ) and 2007 (Dee). In 2006, our Chapter nominated Ken as a CNPS Fellow in re
 cognition of his dedication to protecting California flora and his boundles
 s enthusiasm for passing on his knowledge. Over the years, Ken has held nea
 rly every Chapter position, in addition to leading long-term habitat restor
 ation efforts at Edgewood.</p><p>Since joining CNPS, Dee has been our Chapt
 er treasurer, field trip chair and board member; and has inspired many with
  her exceptional photography skills. Dee is currently serving as a member o
 f the CNPS State Board. Ken and Dee were married in 2016, and have continue
 d to celebrate by enjoying interesting plants and habitats wherever they tr
 avel.</p><p>How to attend: This meeting will be held virtually, via Zoom an
 d <a href="https://www.youtube.com/c/CNPSSantaClaraValley">YouTube</a>. Att
 endees may check <a href="https://www.meetup.com/California-Native-Plant-So
 ciety-Santa-Clara-Valley-Chapter/">our Meetup page</a> or <a href="https://
 www.facebook.com/scv.cnps/">our Facebook page</a> for more information. RSV
 P on Meetup to receive the Zoom meeting link.</p><p>CNPS General Meetings a
 re free and open to the public. For more information, contact Chapter Presi
 dent Vivian Neou at <span id="cloakeb1d3fa254e2b53427bb182de6369ae3">This e
 mail address is being protected from spambots. You need JavaScript enabled 
 to view it.</span><script type='text/javascript'>
				document.getElementBy
 Id('cloakeb1d3fa254e2b53427bb182de6369ae3').innerHTML = '';
				var prefix 
 = '&#109;a' + 'i&#108;' + '&#116;o';
				var path = 'hr' + 'ef' + '=';
				
 var addyeb1d3fa254e2b53427bb182de6369ae3 = 'pr&#101;s&#105;d&#101;nt' + '&#
 64;';
				addyeb1d3fa254e2b53427bb182de6369ae3 = addyeb1d3fa254e2b53427bb18
 2de6369ae3 + 'cnps-scv' + '&#46;' + '&#111;rg';
				var addy_texteb1d3fa254
 e2b53427bb182de6369ae3 = 'pr&#101;s&#105;d&#101;nt' + '&#64;' + 'cnps-scv' 
 + '&#46;' + '&#111;rg';document.getElementById('cloakeb1d3fa254e2b53427bb18
 2de6369ae3').innerHTML += '<a ' + path + '\'' + prefix + ':' + addyeb1d3fa2
 54e2b53427bb182de6369ae3 + '\'>'+addy_texteb1d3fa254e2b53427bb182de6369ae3+
 '<\/a>';
		</script> or the Chapter phone at (650) 260-3450.</p></div><div 
 class="page" title="Page 1">&nbsp;</div></div></div></div></div></div></div
 >
CONTACT:Chapter President Vivian Neou at This email address is being protected from spambots. You need JavaScript enabled to view it.
				document.getElementById('cloak733df52131d0751a71538a028690ce43').innerHTML = '';
				var prefix = '&#109;a' + 'i&#108;' + '&#116;o';
				var path = 'hr' + 'ef' + '=';
				var addy733df52131d0751a71538a028690ce43 = 'pr&#101;s&#105;d&#101;nt' + '&#64;';
				addy733df52131d0751a71538a028690ce43 = addy733df52131d0751a71538a028690ce43 + 'cnps-scv' + '&#46;' + '&#111;rg';
				var addy_text733df52131d0751a71538a028690ce43 = 'pr&#101;s&#105;d&#101;nt' + '&#64;' + 'cnps-scv' + '&#46;' + '&#111;rg';document.getElementById('cloak733df52131d0751a71538a028690ce43').innerHTML += '<a ' + path + '\'' + prefix + ':' + addy733df52131d0751a71538a028690ce43 + '\'>'+addy_text733df52131d0751a71538a028690ce43+'';
		 or the Chapter phone at (650) 260-3450.
DTSTAMP:20260420T121936
DTSTART;TZID=America/Tijuana:20200924T193000
DTEND;TZID=America/Tijuana:20200924T210000
SEQUENCE:0
TRANSP:OPAQUE
END:VEVENT
END:VCALENDAR