BEGIN:VCALENDAR
VERSION:2.0
PRODID:-//jEvents 2.0 for Joomla//EN
CALSCALE:GREGORIAN
METHOD:PUBLISH
BEGIN:VTIMEZONE
TZID:America/Tijuana
BEGIN:STANDARD
DTSTART:20191103T010000
RDATE:20200308T030000
TZOFFSETFROM:-0700
TZOFFSETTO:-0800
TZNAME:America/Tijuana PST
END:STANDARD
BEGIN:STANDARD
DTSTART:20201101T010000
RDATE:20210314T030000
TZOFFSETFROM:-0700
TZOFFSETTO:-0800
TZNAME:America/Tijuana PST
END:STANDARD
BEGIN:STANDARD
DTSTART:20211107T010000
RDATE:20220313T030000
TZOFFSETFROM:-0700
TZOFFSETTO:-0800
TZNAME:America/Tijuana PST
END:STANDARD
BEGIN:STANDARD
DTSTART:20221106T010000
RDATE:20230312T030000
TZOFFSETFROM:-0700
TZOFFSETTO:-0800
TZNAME:America/Tijuana PST
END:STANDARD
BEGIN:STANDARD
DTSTART:20231105T010000
RDATE:20240310T030000
TZOFFSETFROM:-0700
TZOFFSETTO:-0800
TZNAME:America/Tijuana PST
END:STANDARD
BEGIN:STANDARD
DTSTART:20241103T010000
RDATE:20250309T030000
TZOFFSETFROM:-0700
TZOFFSETTO:-0800
TZNAME:America/Tijuana PST
END:STANDARD
BEGIN:STANDARD
DTSTART:20251102T010000
RDATE:20260308T030000
TZOFFSETFROM:-0700
TZOFFSETTO:-0800
TZNAME:America/Tijuana PST
END:STANDARD
BEGIN:STANDARD
DTSTART:20261101T010000
RDATE:20270314T030000
TZOFFSETFROM:-0700
TZOFFSETTO:-0800
TZNAME:America/Tijuana PST
END:STANDARD
BEGIN:STANDARD
DTSTART:20271107T010000
RDATE:20280312T030000
TZOFFSETFROM:-0700
TZOFFSETTO:-0800
TZNAME:America/Tijuana PST
END:STANDARD
BEGIN:DAYLIGHT
DTSTART:20191021T193000
RDATE:20191103T010000
TZOFFSETFROM:-0800
TZOFFSETTO:-0700
TZNAME:America/Tijuana PDT
END:DAYLIGHT
BEGIN:DAYLIGHT
DTSTART:20200308T030000
RDATE:20201101T010000
TZOFFSETFROM:-0800
TZOFFSETTO:-0700
TZNAME:America/Tijuana PDT
END:DAYLIGHT
BEGIN:DAYLIGHT
DTSTART:20210314T030000
RDATE:20211107T010000
TZOFFSETFROM:-0800
TZOFFSETTO:-0700
TZNAME:America/Tijuana PDT
END:DAYLIGHT
BEGIN:DAYLIGHT
DTSTART:20220313T030000
RDATE:20221106T010000
TZOFFSETFROM:-0800
TZOFFSETTO:-0700
TZNAME:America/Tijuana PDT
END:DAYLIGHT
BEGIN:DAYLIGHT
DTSTART:20230312T030000
RDATE:20231105T010000
TZOFFSETFROM:-0800
TZOFFSETTO:-0700
TZNAME:America/Tijuana PDT
END:DAYLIGHT
BEGIN:DAYLIGHT
DTSTART:20240310T030000
RDATE:20241103T010000
TZOFFSETFROM:-0800
TZOFFSETTO:-0700
TZNAME:America/Tijuana PDT
END:DAYLIGHT
BEGIN:DAYLIGHT
DTSTART:20250309T030000
RDATE:20251102T010000
TZOFFSETFROM:-0800
TZOFFSETTO:-0700
TZNAME:America/Tijuana PDT
END:DAYLIGHT
BEGIN:DAYLIGHT
DTSTART:20260308T030000
RDATE:20261101T010000
TZOFFSETFROM:-0800
TZOFFSETTO:-0700
TZNAME:America/Tijuana PDT
END:DAYLIGHT
BEGIN:DAYLIGHT
DTSTART:20270314T030000
RDATE:20271107T010000
TZOFFSETFROM:-0800
TZOFFSETTO:-0700
TZNAME:America/Tijuana PDT
END:DAYLIGHT
END:VTIMEZONE
BEGIN:VEVENT
UID:7d73673789dd053670455242b753366b
CATEGORIES:Meetings
CREATED:20200829T070145
SUMMARY: The CNPS Vegetation Program – Mapping California
LOCATION:Zoom
DESCRIPTION:See our Meetup page (https://www.meetup.com/California-Native-Plant-Society
 -Santa-Clara-Valley-Chapter/) for details. The topic will be:\nThe CNPS Veg
 etation Program\n – Mapping California, A talk by Julie Evens, CNPS Vegetat
 ion Program Director\n \n
X-ALT-DESC;FMTTYPE=text/html:<div class="page" title="Page 2"><div class="layoutArea"><div class="column
 "><p>See <a href="https://www.meetup.com/California-Native-Plant-Society-Sa
 nta-Clara-Valley-Chapter/">our Meetup page</a> for details. The topic will 
 be:</p><div class="page" title="Page 2"><div class="layoutArea"><div class=
 "column"><p>The CNPS Vegetation Program<br /> – Mapping California, A talk 
 by Julie Evens, CNPS Vegetation Program Director</p><p>&nbsp;</p></div></di
 v></div></div></div></div>
CONTACT:Chapter President Vivian Neou at This email address is being protected from spambots. You need JavaScript enabled to view it.
				document.getElementById('cloakc502d6f067f32e515f41cbb471c438f8').innerHTML = '';
				var prefix = '&#109;a' + 'i&#108;' + '&#116;o';
				var path = 'hr' + 'ef' + '=';
				var addyc502d6f067f32e515f41cbb471c438f8 = 'pr&#101;s&#105;d&#101;nt' + '&#64;';
				addyc502d6f067f32e515f41cbb471c438f8 = addyc502d6f067f32e515f41cbb471c438f8 + 'cnps-scv' + '&#46;' + '&#111;rg';
				var addy_textc502d6f067f32e515f41cbb471c438f8 = 'pr&#101;s&#105;d&#101;nt' + '&#64;' + 'cnps-scv' + '&#46;' + '&#111;rg';document.getElementById('cloakc502d6f067f32e515f41cbb471c438f8').innerHTML += '<a ' + path + '\'' + prefix + ':' + addyc502d6f067f32e515f41cbb471c438f8 + '\'>'+addy_textc502d6f067f32e515f41cbb471c438f8+'';
		 or the Chapter phone at (650) 260-3450.
DTSTAMP:20260423T200658
DTSTART;TZID=America/Tijuana:20201021T193000
DTEND;TZID=America/Tijuana:20201021T210000
SEQUENCE:0
TRANSP:OPAQUE
END:VEVENT
END:VCALENDAR