BEGIN:VCALENDAR
VERSION:2.0
PRODID:-//jEvents 2.0 for Joomla//EN
CALSCALE:GREGORIAN
METHOD:PUBLISH
BEGIN:VTIMEZONE
TZID:America/Tijuana
BEGIN:STANDARD
DTSTART:20200113T193000
RDATE:20200308T030000
TZOFFSETFROM:-0700
TZOFFSETTO:-0800
TZNAME:America/Tijuana PST
END:STANDARD
BEGIN:STANDARD
DTSTART:20201101T010000
RDATE:20210314T030000
TZOFFSETFROM:-0700
TZOFFSETTO:-0800
TZNAME:America/Tijuana PST
END:STANDARD
BEGIN:STANDARD
DTSTART:20211107T010000
RDATE:20220313T030000
TZOFFSETFROM:-0700
TZOFFSETTO:-0800
TZNAME:America/Tijuana PST
END:STANDARD
BEGIN:STANDARD
DTSTART:20221106T010000
RDATE:20230312T030000
TZOFFSETFROM:-0700
TZOFFSETTO:-0800
TZNAME:America/Tijuana PST
END:STANDARD
BEGIN:STANDARD
DTSTART:20231105T010000
RDATE:20240310T030000
TZOFFSETFROM:-0700
TZOFFSETTO:-0800
TZNAME:America/Tijuana PST
END:STANDARD
BEGIN:STANDARD
DTSTART:20241103T010000
RDATE:20250309T030000
TZOFFSETFROM:-0700
TZOFFSETTO:-0800
TZNAME:America/Tijuana PST
END:STANDARD
BEGIN:STANDARD
DTSTART:20251102T010000
RDATE:20260308T030000
TZOFFSETFROM:-0700
TZOFFSETTO:-0800
TZNAME:America/Tijuana PST
END:STANDARD
BEGIN:STANDARD
DTSTART:20261101T010000
RDATE:20270314T030000
TZOFFSETFROM:-0700
TZOFFSETTO:-0800
TZNAME:America/Tijuana PST
END:STANDARD
BEGIN:STANDARD
DTSTART:20271107T010000
RDATE:20280312T030000
TZOFFSETFROM:-0700
TZOFFSETTO:-0800
TZNAME:America/Tijuana PST
END:STANDARD
BEGIN:DAYLIGHT
DTSTART:20200308T030000
RDATE:20201101T010000
TZOFFSETFROM:-0800
TZOFFSETTO:-0700
TZNAME:America/Tijuana PDT
END:DAYLIGHT
BEGIN:DAYLIGHT
DTSTART:20210314T030000
RDATE:20211107T010000
TZOFFSETFROM:-0800
TZOFFSETTO:-0700
TZNAME:America/Tijuana PDT
END:DAYLIGHT
BEGIN:DAYLIGHT
DTSTART:20220313T030000
RDATE:20221106T010000
TZOFFSETFROM:-0800
TZOFFSETTO:-0700
TZNAME:America/Tijuana PDT
END:DAYLIGHT
BEGIN:DAYLIGHT
DTSTART:20230312T030000
RDATE:20231105T010000
TZOFFSETFROM:-0800
TZOFFSETTO:-0700
TZNAME:America/Tijuana PDT
END:DAYLIGHT
BEGIN:DAYLIGHT
DTSTART:20240310T030000
RDATE:20241103T010000
TZOFFSETFROM:-0800
TZOFFSETTO:-0700
TZNAME:America/Tijuana PDT
END:DAYLIGHT
BEGIN:DAYLIGHT
DTSTART:20250309T030000
RDATE:20251102T010000
TZOFFSETFROM:-0800
TZOFFSETTO:-0700
TZNAME:America/Tijuana PDT
END:DAYLIGHT
BEGIN:DAYLIGHT
DTSTART:20260308T030000
RDATE:20261101T010000
TZOFFSETFROM:-0800
TZOFFSETTO:-0700
TZNAME:America/Tijuana PDT
END:DAYLIGHT
BEGIN:DAYLIGHT
DTSTART:20270314T030000
RDATE:20271107T010000
TZOFFSETFROM:-0800
TZOFFSETTO:-0700
TZNAME:America/Tijuana PDT
END:DAYLIGHT
END:VTIMEZONE
BEGIN:VEVENT
UID:f8be61483a56af75a81964a7c254c67b
CATEGORIES:Native Plant Talks
CREATED:20201230T212820
SUMMARY:The Amazing Manzanita and All Her Relations
LOCATION:Zoom and YouTube
DESCRIPTION:<div class="page" title="Page 2"><div class="layoutArea"><div class="column
 "><p>Manzanita! The word conjures visions of curvy reddish limbs reaching u
 pward and outward into the sky, a feast for the fingers as well as the eyes
 . But there is much more to this plant than its striking beauty, including 
 its talent for thriving in tough conditions. Have you ever wondered how 193
  species and subspecies have managed to emerge since manzanita first appear
 ed on the central California coast 37 million years ago?</p><div class="pag
 e" title="Page 2"><div class="layoutArea"><div class="column"><p>In January
 , when manzanitas of all shapes and sizes will be glowing with small white 
 or pink flowers, author and naturalist Kate Marianchild will explain some o
 f manzanita’s “mojo” ̶ its profound partnerships with fungi and bumblebees;
  its super-thin skin that both helps and hinders it; and its waxy leaves th
 at follow the sun from dawn to dusk. She’ll tell stories about pollination 
 in middle C; unscrupulous “nectar thieves,” and bark that peels around summ
 er solstice. She’ll also emphasize manzanita’s&nbsp;vital role in the lives
  of animals ̶ from ants and silk moths&nbsp;to birds and bears.</p><div cla
 ss="column"><p>Kate Marianchild is the&nbsp;author of <em>Secrets of the&nb
 sp;Oak Woodlands: Plants&nbsp;and Animals among&nbsp;California’s Oaks</em>
 . This&nbsp;award-winning&nbsp;bestseller is an&nbsp;engaging and&nbsp;beau
 tifully illustrated&nbsp;romp through&nbsp;California’s most&nbsp;widesprea
 d habitat.&nbsp;With humor, affection,&nbsp;and scientific accuracy,&nbsp;M
 arianchild profiles the&nbsp;behaviors, social&nbsp;structures, anatomical&
 nbsp;marvels and co-evolutionary&nbsp;relationships of 22&nbsp;plants and a
 nimals found in California’s oak woodlands.</p><p>Marianchild lives in a yu
 rt near Ukiah surrounded by acorn woodpeckers, woodrats, newts and five kin
 ds of oaks. When she is not giving talks, guiding walks or observing nature
 , she swims, sings and advocates for the preservation of native plants and 
 the food webs that depend on them. More information, as well as the opportu
 nity to purchase signed copies of her book, close-focus binoculars and oak 
 identification guides may be found at <a href="https://www.katemarianchild.
 com">www.katemarianchild.com</a>.</p><p>How to attend: <a href="https://us0
 2web.zoom.us/meeting/register/tZIodeCurjssHd1GCImtX-3I3tO0wUUJpohu">via Zoo
 m (preregistration required)</a> Or watch live or later on our YouTube chan
 nel at:</p></div><div class="page" title="Page 2">&nbsp;</div><p><a href="h
 ttps://www.youtube.com/c/CNPSSantaClaraValley">www.youtube.com/c/CNPSSantaC
 laraValley</a>.</p></div></div></div></div></div></div>
DTSTAMP:20260423T092507
DTSTART;TZID=America/Tijuana:20210113T193000
SEQUENCE:0
TRANSP:OPAQUE
END:VEVENT
END:VCALENDAR