BEGIN:VCALENDAR
VERSION:2.0
PRODID:-//jEvents 2.0 for Joomla//EN
CALSCALE:GREGORIAN
METHOD:PUBLISH
BEGIN:VTIMEZONE
TZID:America/Tijuana
BEGIN:STANDARD
DTSTART:20200203T193000
RDATE:20200308T030000
TZOFFSETFROM:-0700
TZOFFSETTO:-0800
TZNAME:America/Tijuana PST
END:STANDARD
BEGIN:STANDARD
DTSTART:20201101T010000
RDATE:20210314T030000
TZOFFSETFROM:-0700
TZOFFSETTO:-0800
TZNAME:America/Tijuana PST
END:STANDARD
BEGIN:STANDARD
DTSTART:20211107T010000
RDATE:20220313T030000
TZOFFSETFROM:-0700
TZOFFSETTO:-0800
TZNAME:America/Tijuana PST
END:STANDARD
BEGIN:STANDARD
DTSTART:20221106T010000
RDATE:20230312T030000
TZOFFSETFROM:-0700
TZOFFSETTO:-0800
TZNAME:America/Tijuana PST
END:STANDARD
BEGIN:STANDARD
DTSTART:20231105T010000
RDATE:20240310T030000
TZOFFSETFROM:-0700
TZOFFSETTO:-0800
TZNAME:America/Tijuana PST
END:STANDARD
BEGIN:STANDARD
DTSTART:20241103T010000
RDATE:20250309T030000
TZOFFSETFROM:-0700
TZOFFSETTO:-0800
TZNAME:America/Tijuana PST
END:STANDARD
BEGIN:STANDARD
DTSTART:20251102T010000
RDATE:20260308T030000
TZOFFSETFROM:-0700
TZOFFSETTO:-0800
TZNAME:America/Tijuana PST
END:STANDARD
BEGIN:STANDARD
DTSTART:20261101T010000
RDATE:20270314T030000
TZOFFSETFROM:-0700
TZOFFSETTO:-0800
TZNAME:America/Tijuana PST
END:STANDARD
BEGIN:STANDARD
DTSTART:20271107T010000
RDATE:20280312T030000
TZOFFSETFROM:-0700
TZOFFSETTO:-0800
TZNAME:America/Tijuana PST
END:STANDARD
BEGIN:DAYLIGHT
DTSTART:20200308T030000
RDATE:20201101T010000
TZOFFSETFROM:-0800
TZOFFSETTO:-0700
TZNAME:America/Tijuana PDT
END:DAYLIGHT
BEGIN:DAYLIGHT
DTSTART:20210314T030000
RDATE:20211107T010000
TZOFFSETFROM:-0800
TZOFFSETTO:-0700
TZNAME:America/Tijuana PDT
END:DAYLIGHT
BEGIN:DAYLIGHT
DTSTART:20220313T030000
RDATE:20221106T010000
TZOFFSETFROM:-0800
TZOFFSETTO:-0700
TZNAME:America/Tijuana PDT
END:DAYLIGHT
BEGIN:DAYLIGHT
DTSTART:20230312T030000
RDATE:20231105T010000
TZOFFSETFROM:-0800
TZOFFSETTO:-0700
TZNAME:America/Tijuana PDT
END:DAYLIGHT
BEGIN:DAYLIGHT
DTSTART:20240310T030000
RDATE:20241103T010000
TZOFFSETFROM:-0800
TZOFFSETTO:-0700
TZNAME:America/Tijuana PDT
END:DAYLIGHT
BEGIN:DAYLIGHT
DTSTART:20250309T030000
RDATE:20251102T010000
TZOFFSETFROM:-0800
TZOFFSETTO:-0700
TZNAME:America/Tijuana PDT
END:DAYLIGHT
BEGIN:DAYLIGHT
DTSTART:20260308T030000
RDATE:20261101T010000
TZOFFSETFROM:-0800
TZOFFSETTO:-0700
TZNAME:America/Tijuana PDT
END:DAYLIGHT
BEGIN:DAYLIGHT
DTSTART:20270314T030000
RDATE:20271107T010000
TZOFFSETFROM:-0800
TZOFFSETTO:-0700
TZNAME:America/Tijuana PDT
END:DAYLIGHT
END:VTIMEZONE
BEGIN:VEVENT
UID:a30157ae93cc487c84980e3df2bcdf46
CATEGORIES:Native Plant Talks
CREATED:20201230T213518
SUMMARY:Gardening for Biodiversity with Native Plants, a talk by Shelkie Tao
LOCATION:Zoom and YouTube
DESCRIPTION:<div class="page" title="Page 2"><div class="layoutArea"><div class="column
 "><div class="page" title="Page 2"><div class="layoutArea"><div class="colu
 mn"><p>Native gardens provide so many benefits. They are beautiful, low wat
 er, low maintenance and support a wide variety of wildlife. A major advanta
 ge of native gardens is that they can be a great place to help us preserve 
 biodiversity.&nbsp;</p><p>California is a hotspot of biodiversity: it “is&n
 bsp;<a href="https://californiabiodiversityinitiative.org/pdf/california-bi
 odiversity-action-plan.pdf" target="_blank" rel="noopener">home</a>&nbsp;to
  more species of plants and animals than any other state, and is home to ab
 out one third of all species found in the United States, including more rar
 e plants than most states have plants.”&nbsp; However, “More than&nbsp;<a h
 ref="https://wildlife.ca.gov/biodiversity" target="_blank" rel="noopener">3
 0%</a>&nbsp;of California’s species are threatened with extinction.”</p><p>
 The good news is that our gardens can help restore and preserve biodiversit
 y. By planting a wide variety of native plants, including those that are fa
 cing extinction, native plant gardens can support plant biodiversity while 
 supporting a large number of insects, pollinators and other forms of wildli
 fe.&nbsp; In this meeting, Shelkie will talk about the biodiversity benefit
 s of native plants, and go through some of the plants she uses in the garde
 ns she designed.</p><p>Shelkie Tao is landscape designer and founder of&nbs
 p;<a href="https://waterefficientgardens.com/" target="_blank" rel="noopene
 r">WaterEfficientGardens.com</a>, an online landscape design business that 
 excels in low water and native plant garden designs. She is a sustainabilit
 y-driven entrepreneur committed to developing water-saving and ecosystem-fr
 iendly solutions.&nbsp; Prior to Water Efficient Gardens, Shelkie worked ov
 er 10 years in the high tech industry in Silicon Valley.&nbsp; She received
  her Certificate of Achievement in Environmental Horticulture and Design fr
 om Foothill College, and MBA from the Anderson School at UCLA.</p><p>This t
 alk will be live streamed on&nbsp;<strong><a href="https://www.youtube.com/
 c/CNPSSantaClaraValley">YouTube</a>&nbsp;</strong>and&nbsp;<strong><a href=
 "https://us02web.zoom.us/meeting/register/tZcqde6oqjsiGtyIW2Py_wT_amKqgrhyt
 nML">Zoom</a>&nbsp;(requires advance registration).</strong></p></div></div
 ></div></div></div></div>
DTSTAMP:20260425T232043
DTSTART;TZID=America/Tijuana:20210203T193000
SEQUENCE:0
TRANSP:OPAQUE
END:VEVENT
END:VCALENDAR