BEGIN:VCALENDAR
VERSION:2.0
PRODID:-//jEvents 2.0 for Joomla//EN
CALSCALE:GREGORIAN
METHOD:PUBLISH
BEGIN:VTIMEZONE
TZID:America/Tijuana
BEGIN:STANDARD
DTSTART:20201101T010000
RDATE:20210314T030000
TZOFFSETFROM:-0700
TZOFFSETTO:-0800
TZNAME:America/Tijuana PST
END:STANDARD
BEGIN:STANDARD
DTSTART:20211107T010000
RDATE:20220313T030000
TZOFFSETFROM:-0700
TZOFFSETTO:-0800
TZNAME:America/Tijuana PST
END:STANDARD
BEGIN:STANDARD
DTSTART:20221106T010000
RDATE:20230312T030000
TZOFFSETFROM:-0700
TZOFFSETTO:-0800
TZNAME:America/Tijuana PST
END:STANDARD
BEGIN:STANDARD
DTSTART:20231105T010000
RDATE:20240310T030000
TZOFFSETFROM:-0700
TZOFFSETTO:-0800
TZNAME:America/Tijuana PST
END:STANDARD
BEGIN:STANDARD
DTSTART:20241103T010000
RDATE:20250309T030000
TZOFFSETFROM:-0700
TZOFFSETTO:-0800
TZNAME:America/Tijuana PST
END:STANDARD
BEGIN:STANDARD
DTSTART:20251102T010000
RDATE:20260308T030000
TZOFFSETFROM:-0700
TZOFFSETTO:-0800
TZNAME:America/Tijuana PST
END:STANDARD
BEGIN:STANDARD
DTSTART:20261101T010000
RDATE:20270314T030000
TZOFFSETFROM:-0700
TZOFFSETTO:-0800
TZNAME:America/Tijuana PST
END:STANDARD
BEGIN:STANDARD
DTSTART:20271107T010000
RDATE:20280312T030000
TZOFFSETFROM:-0700
TZOFFSETTO:-0800
TZNAME:America/Tijuana PST
END:STANDARD
BEGIN:DAYLIGHT
DTSTART:20200420T193000
RDATE:20201101T010000
TZOFFSETFROM:-0800
TZOFFSETTO:-0700
TZNAME:America/Tijuana PDT
END:DAYLIGHT
BEGIN:DAYLIGHT
DTSTART:20210314T030000
RDATE:20211107T010000
TZOFFSETFROM:-0800
TZOFFSETTO:-0700
TZNAME:America/Tijuana PDT
END:DAYLIGHT
BEGIN:DAYLIGHT
DTSTART:20220313T030000
RDATE:20221106T010000
TZOFFSETFROM:-0800
TZOFFSETTO:-0700
TZNAME:America/Tijuana PDT
END:DAYLIGHT
BEGIN:DAYLIGHT
DTSTART:20230312T030000
RDATE:20231105T010000
TZOFFSETFROM:-0800
TZOFFSETTO:-0700
TZNAME:America/Tijuana PDT
END:DAYLIGHT
BEGIN:DAYLIGHT
DTSTART:20240310T030000
RDATE:20241103T010000
TZOFFSETFROM:-0800
TZOFFSETTO:-0700
TZNAME:America/Tijuana PDT
END:DAYLIGHT
BEGIN:DAYLIGHT
DTSTART:20250309T030000
RDATE:20251102T010000
TZOFFSETFROM:-0800
TZOFFSETTO:-0700
TZNAME:America/Tijuana PDT
END:DAYLIGHT
BEGIN:DAYLIGHT
DTSTART:20260308T030000
RDATE:20261101T010000
TZOFFSETFROM:-0800
TZOFFSETTO:-0700
TZNAME:America/Tijuana PDT
END:DAYLIGHT
BEGIN:DAYLIGHT
DTSTART:20270314T030000
RDATE:20271107T010000
TZOFFSETFROM:-0800
TZOFFSETTO:-0700
TZNAME:America/Tijuana PDT
END:DAYLIGHT
END:VTIMEZONE
BEGIN:VEVENT
UID:85e0896d8c289fc794b35c16e7ecc02d
CATEGORIES:Native Plant Talks
CREATED:20210224T211135
SUMMARY: Flora of the San Joaquin Desert
LOCATION:https://bit.ly/cnpsscv-20210421
DESCRIPTION:Located in the southern Central Valley, the San Joaquin Desert is the small
 est, least recognized and most imperiled true desert in North America, with
  less than 40% of its original area remaining. The desert was not formally 
 described until 1995 and didn’t gain recognition by the scientific communit
 y until 2011. The San Joaquin Desert is floristically distinct with 37 near
 -endemic and 40 strict- endemic plant species. Nearly half of the species a
 re imperiled and listed as endangered, threatened, rare or watch status.\nT
 his presentation will delve into why it took so long for the San Joaquin to
  be recognized as a desert, how it is both climatically and floristically s
 imilar to the Mojave Desert and what we can do to conserve what little of i
 t remains.\nRyan O’Dell has been a Natural Resource Specialist with the BLM
  Central Coast Field Office for 14 years. His primary duties include rare p
 lant survey and endangered plant species monitoring and recovery in the cen
 tral Inner South Coast Ranges and San Joaquin Desert.\nHow to attend: Most 
 of our lectures take place Wednesday evening at 7:30pm. Our talks are live-
  streamed simultaneously to Zoom and YouTube. To view talks, watch our YouT
 ube channel at www.youtube.com/c/CNPSSantaClaraValley (https://www.youtube.
 com/c/CNPSSantaClaraValley) (no registration needed) or join on Zoom by reg
 istering at the Zoom link provided in each lecture’s description. Recording
 s of past talks can also be viewed on our YouTube channel.\n 
X-ALT-DESC;FMTTYPE=text/html:<div class="page" title="Page 4"><div class="layoutArea"><div class="column
 "><p>Located in the southern Central Valley, the San Joaquin Desert is the 
 smallest, least recognized and most imperiled true desert in North America,
  with less than 40% of its original area remaining. The desert was not form
 ally described until 1995 and didn’t gain recognition by the scientific com
 munity until 2011. The San Joaquin Desert is floristically distinct with 37
  near-endemic and 40 strict- endemic plant species. Nearly half of the spec
 ies are imperiled and listed as endangered, threatened, rare or watch statu
 s.</p><p>This presentation will delve into why it took so long for the San 
 Joaquin to be recognized as a desert, how it is both climatically and flori
 stically similar to the Mojave Desert and what we can do to conserve what l
 ittle of it remains.</p><p>Ryan O’Dell has been a Natural Resource Speciali
 st with the BLM Central Coast Field Office for 14 years. His primary duties
  include rare plant survey and endangered&nbsp;plant species monitoring and
  recovery in the central Inner&nbsp;South Coast Ranges and San Joaquin Dese
 rt.</p><div class="column"><div class="page" title="Page 1"><div class="lay
 outArea"><div class="column"><p><strong>How to attend</strong>: Most of our
  lectures take place Wednesday evening at 7:30pm. Our talks are live- strea
 med simultaneously to Zoom and YouTube. To view talks, watch our YouTube ch
 annel at <a href="https://www.youtube.com/c/CNPSSantaClaraValley">www.youtu
 be.com/c/CNPSSantaClaraValley</a> (no registration needed) or join on Zoom 
 by registering at the Zoom link provided in each lecture’s description. Rec
 ordings of past talks can also be viewed on our YouTube channel.</p></div><
 /div></div></div><div class="page" title="Page 5">&nbsp;</div></div></div><
 /div>
DTSTAMP:20260423T121705
DTSTART;TZID=America/Tijuana:20210421T193000
DTEND;TZID=America/Tijuana:20210421T210000
SEQUENCE:0
TRANSP:OPAQUE
END:VEVENT
END:VCALENDAR