BEGIN:VCALENDAR
VERSION:2.0
PRODID:-//jEvents 2.0 for Joomla//EN
CALSCALE:GREGORIAN
METHOD:PUBLISH
BEGIN:VTIMEZONE
TZID:America/Tijuana
BEGIN:STANDARD
DTSTART:20221106T010000
RDATE:20230312T030000
TZOFFSETFROM:-0700
TZOFFSETTO:-0800
TZNAME:America/Tijuana PST
END:STANDARD
BEGIN:STANDARD
DTSTART:20231105T010000
RDATE:20240310T030000
TZOFFSETFROM:-0700
TZOFFSETTO:-0800
TZNAME:America/Tijuana PST
END:STANDARD
BEGIN:STANDARD
DTSTART:20241103T010000
RDATE:20250309T030000
TZOFFSETFROM:-0700
TZOFFSETTO:-0800
TZNAME:America/Tijuana PST
END:STANDARD
BEGIN:STANDARD
DTSTART:20251102T010000
RDATE:20260308T030000
TZOFFSETFROM:-0700
TZOFFSETTO:-0800
TZNAME:America/Tijuana PST
END:STANDARD
BEGIN:STANDARD
DTSTART:20261101T010000
RDATE:20270314T030000
TZOFFSETFROM:-0700
TZOFFSETTO:-0800
TZNAME:America/Tijuana PST
END:STANDARD
BEGIN:STANDARD
DTSTART:20271107T010000
RDATE:20280312T030000
TZOFFSETFROM:-0700
TZOFFSETTO:-0800
TZNAME:America/Tijuana PST
END:STANDARD
BEGIN:DAYLIGHT
DTSTART:20221022T190000
RDATE:20221106T010000
TZOFFSETFROM:-0800
TZOFFSETTO:-0700
TZNAME:America/Tijuana PDT
END:DAYLIGHT
BEGIN:DAYLIGHT
DTSTART:20230312T030000
RDATE:20231105T010000
TZOFFSETFROM:-0800
TZOFFSETTO:-0700
TZNAME:America/Tijuana PDT
END:DAYLIGHT
BEGIN:DAYLIGHT
DTSTART:20240310T030000
RDATE:20241103T010000
TZOFFSETFROM:-0800
TZOFFSETTO:-0700
TZNAME:America/Tijuana PDT
END:DAYLIGHT
BEGIN:DAYLIGHT
DTSTART:20250309T030000
RDATE:20251102T010000
TZOFFSETFROM:-0800
TZOFFSETTO:-0700
TZNAME:America/Tijuana PDT
END:DAYLIGHT
BEGIN:DAYLIGHT
DTSTART:20260308T030000
RDATE:20261101T010000
TZOFFSETFROM:-0800
TZOFFSETTO:-0700
TZNAME:America/Tijuana PDT
END:DAYLIGHT
BEGIN:DAYLIGHT
DTSTART:20270314T030000
RDATE:20271107T010000
TZOFFSETFROM:-0800
TZOFFSETTO:-0700
TZNAME:America/Tijuana PDT
END:DAYLIGHT
END:VTIMEZONE
BEGIN:VEVENT
UID:d68383dceae61340254fa02dc6548aef
CATEGORIES:Native Plant Talks
CREATED:20210622T212524
SUMMARY:Gardening with California Natives, a talk by Helen Popper
LOCATION:Los Altos Library 13 S San Antonio Rd · Los Altos\, CA
DESCRIPTION:<div class="page" title="Page 1"><div class="layoutArea"><div class="column
 "><p><em><strong>This talk will be held at the Los Altos Library and will n
 ot be available online.</strong></em></p><p class="mb-4">California native 
 plants differ from typical garden plants as they have their own rhythm. Hel
 en Popper's book,&nbsp;<em>California Native Gardening: A Month by Month Gu
 ide</em>, explains that "spring" typically begins in October, when much of 
 California leaves the dry season behind. Helen will provide calendar-based 
 information for both beginning and experienced native gardeners.</p><p clas
 s="mb-4">Helen Popper is the author of <em>California Native Gardening, A M
 onth-by-Month Guide</em>. She has been honored as one of the ten best garde
 n authors of California by Live Outside. Having collected the insights of d
 ozens of dedicated professional and amateur native gardeners, she’s delight
 ed to pass them along.</p></div></div></div>
DTSTAMP:20260420T005937
DTSTART;TZID=America/Tijuana:20231023T190000
DTEND;TZID=America/Tijuana:20231023T203000
SEQUENCE:0
TRANSP:OPAQUE
END:VEVENT
END:VCALENDAR