BEGIN:VCALENDAR
VERSION:2.0
PRODID:-//jEvents 2.0 for Joomla//EN
CALSCALE:GREGORIAN
METHOD:PUBLISH
BEGIN:VTIMEZONE
TZID:America/Tijuana
BEGIN:STANDARD
DTSTART:20201101T010000
RDATE:20210314T030000
TZOFFSETFROM:-0700
TZOFFSETTO:-0800
TZNAME:America/Tijuana PST
END:STANDARD
BEGIN:STANDARD
DTSTART:20211107T010000
RDATE:20220313T030000
TZOFFSETFROM:-0700
TZOFFSETTO:-0800
TZNAME:America/Tijuana PST
END:STANDARD
BEGIN:STANDARD
DTSTART:20221106T010000
RDATE:20230312T030000
TZOFFSETFROM:-0700
TZOFFSETTO:-0800
TZNAME:America/Tijuana PST
END:STANDARD
BEGIN:STANDARD
DTSTART:20231105T010000
RDATE:20240310T030000
TZOFFSETFROM:-0700
TZOFFSETTO:-0800
TZNAME:America/Tijuana PST
END:STANDARD
BEGIN:STANDARD
DTSTART:20241103T010000
RDATE:20250309T030000
TZOFFSETFROM:-0700
TZOFFSETTO:-0800
TZNAME:America/Tijuana PST
END:STANDARD
BEGIN:STANDARD
DTSTART:20251102T010000
RDATE:20260308T030000
TZOFFSETFROM:-0700
TZOFFSETTO:-0800
TZNAME:America/Tijuana PST
END:STANDARD
BEGIN:STANDARD
DTSTART:20261101T010000
RDATE:20270314T030000
TZOFFSETFROM:-0700
TZOFFSETTO:-0800
TZNAME:America/Tijuana PST
END:STANDARD
BEGIN:STANDARD
DTSTART:20271107T010000
RDATE:20280312T030000
TZOFFSETFROM:-0700
TZOFFSETTO:-0800
TZNAME:America/Tijuana PST
END:STANDARD
BEGIN:DAYLIGHT
DTSTART:20201008T000000
RDATE:20201101T010000
TZOFFSETFROM:-0800
TZOFFSETTO:-0700
TZNAME:America/Tijuana PDT
END:DAYLIGHT
BEGIN:DAYLIGHT
DTSTART:20210314T030000
RDATE:20211107T010000
TZOFFSETFROM:-0800
TZOFFSETTO:-0700
TZNAME:America/Tijuana PDT
END:DAYLIGHT
BEGIN:DAYLIGHT
DTSTART:20220313T030000
RDATE:20221106T010000
TZOFFSETFROM:-0800
TZOFFSETTO:-0700
TZNAME:America/Tijuana PDT
END:DAYLIGHT
BEGIN:DAYLIGHT
DTSTART:20230312T030000
RDATE:20231105T010000
TZOFFSETFROM:-0800
TZOFFSETTO:-0700
TZNAME:America/Tijuana PDT
END:DAYLIGHT
BEGIN:DAYLIGHT
DTSTART:20240310T030000
RDATE:20241103T010000
TZOFFSETFROM:-0800
TZOFFSETTO:-0700
TZNAME:America/Tijuana PDT
END:DAYLIGHT
BEGIN:DAYLIGHT
DTSTART:20250309T030000
RDATE:20251102T010000
TZOFFSETFROM:-0800
TZOFFSETTO:-0700
TZNAME:America/Tijuana PDT
END:DAYLIGHT
BEGIN:DAYLIGHT
DTSTART:20260308T030000
RDATE:20261101T010000
TZOFFSETFROM:-0800
TZOFFSETTO:-0700
TZNAME:America/Tijuana PDT
END:DAYLIGHT
BEGIN:DAYLIGHT
DTSTART:20270314T030000
RDATE:20271107T010000
TZOFFSETFROM:-0800
TZOFFSETTO:-0700
TZNAME:America/Tijuana PDT
END:DAYLIGHT
END:VTIMEZONE
BEGIN:VEVENT
UID:a1f5a2e7243cf18565c65ea22e61915d
CATEGORIES:Nursery
CREATED:20210820T161314
SUMMARY:Native Plant Sale
LOCATION:Hidden Villa\, 26870 Moody Rd\, Los Altos Hills\, CA 94022
DESCRIPTION:Our 2021 plant sale at the Dana Center at Hidden Villa will be a combinatio
 n of online plant shopping and in-person activities. From October 2 through
  October 7 order from the online CNPS SCV Nursery store at california-nativ
 e-plant-society-santa-clara-valley-chapter.square.site (https://california-
 native-plant-society-santa-clara-valley-chapter.square.site/). Then schedul
 e a time to join us on October 9th (https://www.signupgenius.com/go/4090f49
 a9a729aafd0-2021) to pick your plants up and shop for native plant-related 
 items!  \nNo drop-ins. Even though we will be outdoors, masks are mandatory
  for attendance. \nWe'll have:\n\n - Used books, t-shirts and more from our
  Chapter\n - Grassroots Ecology (https://www.grassrootsecology.org/nursery)
 \n - Coyote Brush Studios (https://coyotebrushstudios.com/)\n - Wild Jules 
 Seed Balls (https://wildjules.com/)\n - Member-collected Seed ExchangeMore 
 information at: https://www.cnps-scv.org/46-events/plant-sale/389-2021-plan
 t-sale (https://www.cnps-scv.org/46-events/plant-sale/389-2021-plant-sale)\
 n
X-ALT-DESC;FMTTYPE=text/html:<div class="page" title="Page 1"><div class="layoutArea"><div class="column
 "><p>Our 2021 plant sale at the Dana Center at Hidden Villa will be a combi
 nation of online plant shopping and in-person activities.&nbsp;From October
  2 through October 7 order from the online CNPS SCV Nursery store at&nbsp;<
 a href="https://california-native-plant-society-santa-clara-valley-chapter.
 square.site/">california-native-plant-society-santa-clara-valley-chapter.sq
 uare.site</a>. Then s<a href="https://www.signupgenius.com/go/4090f49a9a729
 aafd0-2021">chedule a time to join us on October 9th</a>&nbsp;to pick your 
 plants up and shop for native plant-related items!&nbsp;&nbsp;</p><p><stron
 g>No drop-ins.&nbsp;Even though we will be outdoors, masks are mandatory fo
 r attendance.&nbsp;</strong></p><p>We'll have:</p><ul><li>Used books, t-shi
 rts and more from our Chapter</li><li><a href="https://www.grassrootsecolog
 y.org/nursery">Grassroots Ecology</a></li><li><a href="https://coyotebrushs
 tudios.com/">Coyote Brush Studios</a></li><li><a href="https://wildjules.co
 m/">Wild Jules Seed Balls</a></li><li><strong>Member-collected Seed Exchang
 e</strong></li></ul><p><strong>More information at:&nbsp;<a href="https://w
 ww.cnps-scv.org/46-events/plant-sale/389-2021-plant-sale">https://www.cnps-
 scv.org/46-events/plant-sale/389-2021-plant-sale</a></strong></p></div></di
 v></div>
DTSTAMP:20260422T184618
DTSTART;TZID=America/Tijuana;VALUE=DATE:20211009
DTEND;TZID=America/Tijuana;VALUE=DATE:20211010
SEQUENCE:0
TRANSP:OPAQUE
END:VEVENT
END:VCALENDAR