BEGIN:VCALENDAR
VERSION:2.0
PRODID:-//jEvents 2.0 for Joomla//EN
CALSCALE:GREGORIAN
METHOD:PUBLISH
BEGIN:VTIMEZONE
TZID:America/Tijuana
BEGIN:STANDARD
DTSTART:20210107T100000
RDATE:20210314T030000
TZOFFSETFROM:-0700
TZOFFSETTO:-0800
TZNAME:America/Tijuana PST
END:STANDARD
BEGIN:STANDARD
DTSTART:20211107T010000
RDATE:20220313T030000
TZOFFSETFROM:-0700
TZOFFSETTO:-0800
TZNAME:America/Tijuana PST
END:STANDARD
BEGIN:STANDARD
DTSTART:20221106T010000
RDATE:20230312T030000
TZOFFSETFROM:-0700
TZOFFSETTO:-0800
TZNAME:America/Tijuana PST
END:STANDARD
BEGIN:STANDARD
DTSTART:20231105T010000
RDATE:20240310T030000
TZOFFSETFROM:-0700
TZOFFSETTO:-0800
TZNAME:America/Tijuana PST
END:STANDARD
BEGIN:STANDARD
DTSTART:20241103T010000
RDATE:20250309T030000
TZOFFSETFROM:-0700
TZOFFSETTO:-0800
TZNAME:America/Tijuana PST
END:STANDARD
BEGIN:STANDARD
DTSTART:20251102T010000
RDATE:20260308T030000
TZOFFSETFROM:-0700
TZOFFSETTO:-0800
TZNAME:America/Tijuana PST
END:STANDARD
BEGIN:STANDARD
DTSTART:20261101T010000
RDATE:20270314T030000
TZOFFSETFROM:-0700
TZOFFSETTO:-0800
TZNAME:America/Tijuana PST
END:STANDARD
BEGIN:STANDARD
DTSTART:20271107T010000
RDATE:20280312T030000
TZOFFSETFROM:-0700
TZOFFSETTO:-0800
TZNAME:America/Tijuana PST
END:STANDARD
BEGIN:DAYLIGHT
DTSTART:20210314T030000
RDATE:20211107T010000
TZOFFSETFROM:-0800
TZOFFSETTO:-0700
TZNAME:America/Tijuana PDT
END:DAYLIGHT
BEGIN:DAYLIGHT
DTSTART:20220313T030000
RDATE:20221106T010000
TZOFFSETFROM:-0800
TZOFFSETTO:-0700
TZNAME:America/Tijuana PDT
END:DAYLIGHT
BEGIN:DAYLIGHT
DTSTART:20230312T030000
RDATE:20231105T010000
TZOFFSETFROM:-0800
TZOFFSETTO:-0700
TZNAME:America/Tijuana PDT
END:DAYLIGHT
BEGIN:DAYLIGHT
DTSTART:20240310T030000
RDATE:20241103T010000
TZOFFSETFROM:-0800
TZOFFSETTO:-0700
TZNAME:America/Tijuana PDT
END:DAYLIGHT
BEGIN:DAYLIGHT
DTSTART:20250309T030000
RDATE:20251102T010000
TZOFFSETFROM:-0800
TZOFFSETTO:-0700
TZNAME:America/Tijuana PDT
END:DAYLIGHT
BEGIN:DAYLIGHT
DTSTART:20260308T030000
RDATE:20261101T010000
TZOFFSETFROM:-0800
TZOFFSETTO:-0700
TZNAME:America/Tijuana PDT
END:DAYLIGHT
BEGIN:DAYLIGHT
DTSTART:20270314T030000
RDATE:20271107T010000
TZOFFSETFROM:-0800
TZOFFSETTO:-0700
TZNAME:America/Tijuana PDT
END:DAYLIGHT
END:VTIMEZONE
BEGIN:VEVENT
UID:07c1020cdb41854a7244bd7c5d43867b
CATEGORIES:Field Trips
CREATED:20211221T090054
SUMMARY:Dirca Walk at Foothills Nature Preserve (Palo Alto)
LOCATION:Foothills Nature Preserve (Palo Alto)
DESCRIPTION:Join Don Thomas to see the endemic western leatherwood (Dirca occidentalis)
  at Foothills Nature Preserve. Dirca flowered early this season, starting i
 n November. We will look for late-flowering dirca along the Los Trancos Tra
 il.\nThe preserve, until recently only open to Palo Alto residents, is now 
 open to the general public. The preserve entrance is off Page Mill Road. We
  will meet at the Orchard Glen Picnic Area at 10am. To get to the Orchard G
 len parking lot, bear left at the first intersection after passing the entr
 ance kiosk.\nBring water and snacks for an optional lunch in the picnic are
 a following the walk. For more information, contact Don at This email addre
 ss is being protected from spambots. You need JavaScript enabled to view it
 .
				document.getElementById('cloak3bf5cf7795e835650ad64382bd929bdb').inne
 rHTML = '';
				var prefix = '&amp;#109;a' + 'i&amp;#108;' + '&amp;#116;o';
 
				var path = 'hr' + 'ef' + '=';
				var addy3bf5cf7795e835650ad64382bd92
 9bdb = 'd&amp;#111;n_&amp;#101;_th&amp;#111;m&amp;#97;s' + '&amp;#64;';
			
 	addy3bf5cf7795e835650ad64382bd929bdb = addy3bf5cf7795e835650ad64382bd929bd
 b + 'y&amp;#97;h&amp;#111;&amp;#111;' + '&amp;#46;' + 'c&amp;#111;m';
				v
 ar addy_text3bf5cf7795e835650ad64382bd929bdb = 'd&amp;#111;n_&amp;#101;_th&
 amp;#111;m&amp;#97;s' + '&amp;#64;' + 'y&amp;#97;h&amp;#111;&amp;#111;' + '
 &amp;#46;' + 'c&amp;#111;m';document.getElementById('cloak3bf5cf7795e835650
 ad64382bd929bdb').innerHTML += '&lt;a ' + path + '\'' + prefix + ':' + addy
 3bf5cf7795e835650ad64382bd929bdb + '\'&gt;'+addy_text3bf5cf7795e835650ad643
 82bd929bdb+'&lt;\/a&gt;';
		. (mailto:don_e_thomas@yahoo.com.)\nRSVP is req
 uired to join us for the walk. Space is limited. No drop-ins please. To reg
 ister, please visit our Chapter’s Meetup page at www.meetup.com/California-
 Native-Plant- Society-Santa-Clara-Valley-Chapter. Driving directions are pr
 ovided on the Meetup page. There’s a $6 entrance fee, exact change required
 .\nFor more information on Foothills Nature Preserve, see: www.cityofpaloal
 to.org/Departments/Community-Services/Open-Space-Parks/Neighborhood-Parks/F
 oothills-Nature-Preserve (https://www.cityofpaloalto.org/Departments/Commun
 ity-Services/Open-Space-Parks/Neighborhood-Parks/Foothills-Nature-Preserve)
 . For a trail map, see: https://www.cityofpaloalto.org/files/assets/public/
 community-services/parks-and-open-space/open-space-maps/foothills-map.pdf (
 https://www.cityofpaloalto.org/files/assets/public/community-services/parks
 -and-open-space/open-space-maps/foothills-map.pdf).\n
X-ALT-DESC;FMTTYPE=text/html:<div class="page" title="Page 12"><div class="layoutArea"><div class="colum
 n"><p>Join Don Thomas to see the endemic western leatherwood (Dirca occiden
 talis) at Foothills Nature Preserve. Dirca flowered early this season, star
 ting in November. We will look for late-flowering dirca along the Los Tranc
 os Trail.</p><p>The preserve, until recently only open to Palo Alto residen
 ts, is now open to the general public. The preserve entrance is off Page Mi
 ll Road. We will meet at the Orchard Glen Picnic Area at 10am. To get to th
 e Orchard Glen parking lot, bear left at the first intersection after passi
 ng the entrance kiosk.</p><p>Bring water and snacks for an optional lunch i
 n the picnic area following the walk. For more information, contact Don at 
 <a href="mailto:don_e_thomas@yahoo.com."><span id="cloak3bf5cf7795e835650ad
 64382bd929bdb">This email address is being protected from spambots. You nee
 d JavaScript enabled to view it.</span><script type='text/javascript'>
				
 document.getElementById('cloak3bf5cf7795e835650ad64382bd929bdb').innerHTML 
 = '';
				var prefix = '&#109;a' + 'i&#108;' + '&#116;o';
				var path = 'h
 r' + 'ef' + '=';
				var addy3bf5cf7795e835650ad64382bd929bdb = 'd&#111;n_&
 #101;_th&#111;m&#97;s' + '&#64;';
				addy3bf5cf7795e835650ad64382bd929bdb 
 = addy3bf5cf7795e835650ad64382bd929bdb + 'y&#97;h&#111;&#111;' + '&#46;' + 
 'c&#111;m';
				var addy_text3bf5cf7795e835650ad64382bd929bdb = 'd&#111;n_&
 #101;_th&#111;m&#97;s' + '&#64;' + 'y&#97;h&#111;&#111;' + '&#46;' + 'c&#11
 1;m';document.getElementById('cloak3bf5cf7795e835650ad64382bd929bdb').inner
 HTML += '<a ' + path + '\'' + prefix + ':' + addy3bf5cf7795e835650ad64382bd
 929bdb + '\'>'+addy_text3bf5cf7795e835650ad64382bd929bdb+'<\/a>';
		</scrip
 t>.</a></p><p>RSVP is required to join us for the walk. Space is limited. N
 o drop-ins please. To register, please visit our Chapter’s Meetup page at w
 ww.meetup.com/California-Native-Plant- Society-Santa-Clara-Valley-Chapter. 
 Driving directions are provided on the Meetup page. There’s a $6 entrance f
 ee, exact change required.</p><p>For more information on Foothills Nature P
 reserve, see:&nbsp;<a href="https://www.cityofpaloalto.org/Departments/Comm
 unity-Services/Open-Space-Parks/Neighborhood-Parks/Foothills-Nature-Preserv
 e">www.cityofpaloalto.org/Departments/Community-Services/Open-Space-Parks/N
 eighborhood-Parks/Foothills-Nature-Preserve</a>. For a trail map, see: <a h
 ref="https://www.cityofpaloalto.org/files/assets/public/community-services/
 parks-and-open-space/open-space-maps/foothills-map.pdf">https://www.cityofp
 aloalto.org/files/assets/public/community-services/parks-and-open-space/ope
 n-space-maps/foothills-map.pdf</a>.</p></div></div></div>
CONTACT:Don at This email address is being protected from spambots. You need JavaScript enabled to view it.
				document.getElementById('cloake0c79cebc231449c6d564c72b15642a7').innerHTML = '';
				var prefix = '&#109;a' + 'i&#108;' + '&#116;o';
				var path = 'hr' + 'ef' + '=';
				var addye0c79cebc231449c6d564c72b15642a7 = 'd&#111;n_&#101;_th&#111;m&#97;s' + '&#64;';
				addye0c79cebc231449c6d564c72b15642a7 = addye0c79cebc231449c6d564c72b15642a7 + 'y&#97;h&#111;&#111;' + '&#46;' + 'c&#111;m';
				var addy_texte0c79cebc231449c6d564c72b15642a7 = 'd&#111;n_&#101;_th&#111;m&#97;s' + '&#64;' + 'y&#97;h&#111;&#111;' + '&#46;' + 'c&#111;m';document.getElementById('cloake0c79cebc231449c6d564c72b15642a7').innerHTML += '<a ' + path + '\'' + prefix + ':' + addye0c79cebc231449c6d564c72b15642a7 + '\'>'+addy_texte0c79cebc231449c6d564c72b15642a7+'';
		
DTSTAMP:20260423T223336
DTSTART;TZID=America/Tijuana:20220108T100000
DTEND;TZID=America/Tijuana:20220108T130000
SEQUENCE:0
TRANSP:OPAQUE
END:VEVENT
END:VCALENDAR