BEGIN:VCALENDAR
VERSION:2.0
PRODID:-//jEvents 2.0 for Joomla//EN
CALSCALE:GREGORIAN
METHOD:PUBLISH
BEGIN:VTIMEZONE
TZID:America/Tijuana
BEGIN:STANDARD
DTSTART:20201231T100000
RDATE:20210314T030000
TZOFFSETFROM:-0700
TZOFFSETTO:-0800
TZNAME:America/Tijuana PST
END:STANDARD
BEGIN:STANDARD
DTSTART:20211107T010000
RDATE:20220313T030000
TZOFFSETFROM:-0700
TZOFFSETTO:-0800
TZNAME:America/Tijuana PST
END:STANDARD
BEGIN:STANDARD
DTSTART:20221106T010000
RDATE:20230312T030000
TZOFFSETFROM:-0700
TZOFFSETTO:-0800
TZNAME:America/Tijuana PST
END:STANDARD
BEGIN:STANDARD
DTSTART:20231105T010000
RDATE:20240310T030000
TZOFFSETFROM:-0700
TZOFFSETTO:-0800
TZNAME:America/Tijuana PST
END:STANDARD
BEGIN:STANDARD
DTSTART:20241103T010000
RDATE:20250309T030000
TZOFFSETFROM:-0700
TZOFFSETTO:-0800
TZNAME:America/Tijuana PST
END:STANDARD
BEGIN:STANDARD
DTSTART:20251102T010000
RDATE:20260308T030000
TZOFFSETFROM:-0700
TZOFFSETTO:-0800
TZNAME:America/Tijuana PST
END:STANDARD
BEGIN:STANDARD
DTSTART:20261101T010000
RDATE:20270314T030000
TZOFFSETFROM:-0700
TZOFFSETTO:-0800
TZNAME:America/Tijuana PST
END:STANDARD
BEGIN:STANDARD
DTSTART:20271107T010000
RDATE:20280312T030000
TZOFFSETFROM:-0700
TZOFFSETTO:-0800
TZNAME:America/Tijuana PST
END:STANDARD
BEGIN:DAYLIGHT
DTSTART:20210314T030000
RDATE:20211107T010000
TZOFFSETFROM:-0800
TZOFFSETTO:-0700
TZNAME:America/Tijuana PDT
END:DAYLIGHT
BEGIN:DAYLIGHT
DTSTART:20220313T030000
RDATE:20221106T010000
TZOFFSETFROM:-0800
TZOFFSETTO:-0700
TZNAME:America/Tijuana PDT
END:DAYLIGHT
BEGIN:DAYLIGHT
DTSTART:20230312T030000
RDATE:20231105T010000
TZOFFSETFROM:-0800
TZOFFSETTO:-0700
TZNAME:America/Tijuana PDT
END:DAYLIGHT
BEGIN:DAYLIGHT
DTSTART:20240310T030000
RDATE:20241103T010000
TZOFFSETFROM:-0800
TZOFFSETTO:-0700
TZNAME:America/Tijuana PDT
END:DAYLIGHT
BEGIN:DAYLIGHT
DTSTART:20250309T030000
RDATE:20251102T010000
TZOFFSETFROM:-0800
TZOFFSETTO:-0700
TZNAME:America/Tijuana PDT
END:DAYLIGHT
BEGIN:DAYLIGHT
DTSTART:20260308T030000
RDATE:20261101T010000
TZOFFSETFROM:-0800
TZOFFSETTO:-0700
TZNAME:America/Tijuana PDT
END:DAYLIGHT
BEGIN:DAYLIGHT
DTSTART:20270314T030000
RDATE:20271107T010000
TZOFFSETFROM:-0800
TZOFFSETTO:-0700
TZNAME:America/Tijuana PDT
END:DAYLIGHT
END:VTIMEZONE
BEGIN:VEVENT
UID:6c29523d3175564de4280d15528f95fb
CATEGORIES:Field Trips
CREATED:20211221T101128
SUMMARY:New Year’s walk to Franklin Point, part of Año Nuevo State Preserve (Hwy 1 coast ̶ southern San Mateo County)
LOCATION:Franklin Point\, part of Año Nuevo State Preserve (Hwy 1 coast ̶ southern S
 an Mateo County)
DESCRIPTION:Join other CNPS members as we celebrate a Chapter tradition of welcoming th
 e New Year with a walk to and picnic at Franklin Point, which is part of th
 e Año Nuevo State Preserve on the San Mateo County coast. We will be explo
 ring as we casually walk towards Franklin Point, which is the most botanica
 lly interesting area of the park.\nWe will be starting from the North White
 house Creek Trailhead (https://goo.gl/maps/F8soNU3vZAjSPJETA) which is loca
 ted south of Pescadero on Highway 1, just north of the Santa Cruz County li
 ne.\nWe’ll enjoy ocean views, coastal prairie including silver bur ragweed 
 (Ambrosia chamissonis), California goldenbush (Ericameria ericoides), coast
 al sagewort (Artemisia pycnocephala) and Argentina anserina (Potentilla ans
 erina); dune including yellow sand verbena (Abronia latifolia), pink sand v
 erbena (Abronia umbellata), seaside heliotrope (Heliotropium curassavicum) 
 and American dunegrass (Eleymus mollis); sea cliff bluff lettuce (Dudleya f
 arinosa), fleshy jaumea (Jaumea carnosa), raptors, songbirds and maybe mari
 ne mammals.\nAs this is a day to have fun at the beach with fellow Chapter 
 members, the ending time and depth of botanical discussion may be extended 
 depending on participants.\nBring binoculars and layers of clothing for var
 iable coastal conditions including wind, sun, precipitation and fog. We wil
 l be walking on sand dunes. Bring a lunch or snacks and fluids. Extreme bad
  weather cancels.\nNo drop-ins please. To complete the required RSVP, pleas
 e visit our Chapter’s Meetup page at www.meetup.com/California-Native-Plant
 -Society-Santa-Clara-Valley-Chapter (https://www.meetup.com/California-Nati
 ve-Plant-Society-Santa-Clara-Valley-Chapter). Driving directions and parkin
 g tips are provided on the Meetup page.\nBefore signing up, please read the
  Año Nuevo State Park restrictions at www.parks.ca.gov/?page_id=523 (https
 ://www.parks.ca.gov/?page_id=523). Note that there are no bathrooms at Fran
 klin Point. Flush toilets are located at the main entrance of Año Nuevo St
 ate Park, which may require payment to enter. For more information or quest
 ions, contact Dee Himes at This email address is being protected from spamb
 ots. You need JavaScript enabled to view it.
				document.getElementById('c
 loakd5d8c1cd2ad83262b986ea5b8bff67c1').innerHTML = '';
				var prefix = '&a
 mp;#109;a' + 'i&amp;#108;' + '&amp;#116;o';
				var path = 'hr' + 'ef' + '=
 ';
				var addyd5d8c1cd2ad83262b986ea5b8bff67c1 = 'd&amp;#101;&amp;#101;4cn
 ps' + '&amp;#64;';
				addyd5d8c1cd2ad83262b986ea5b8bff67c1 = addyd5d8c1cd2
 ad83262b986ea5b8bff67c1 + 'gm&amp;#97;&amp;#105;l' + '&amp;#46;' + 'c&amp;#
 111;m';
				var addy_textd5d8c1cd2ad83262b986ea5b8bff67c1 = 'd&amp;#101;&am
 p;#101;4cnps' + '&amp;#64;' + 'gm&amp;#97;&amp;#105;l' + '&amp;#46;' + 'c&a
 mp;#111;m';document.getElementById('cloakd5d8c1cd2ad83262b986ea5b8bff67c1')
 .innerHTML += '&lt;a ' + path + '\'' + prefix + ':' + addyd5d8c1cd2ad83262b
 986ea5b8bff67c1 + '\'&gt;'+addy_textd5d8c1cd2ad83262b986ea5b8bff67c1+'&lt;\
 /a&gt;';
		. (mailto:dee4cnps@gmail.com.)\n
X-ALT-DESC;FMTTYPE=text/html:<div class="page" title="Page 11"><div class="layoutArea"><div class="colum
 n"><p>Join other CNPS members as we celebrate a Chapter tradition of welcom
 ing the New Year with a walk to and picnic at Franklin Point, which is part
  of the Año Nuevo State Preserve on the San Mateo County coast. We will be
  exploring as we casually walk towards Franklin Point, which is the most bo
 tanically interesting area of the park.</p><p>We will be starting from the 
 <a href="https://goo.gl/maps/F8soNU3vZAjSPJETA">North Whitehouse Creek Trai
 lhead</a> which is located south of Pescadero on Highway 1, just north of t
 he Santa Cruz County line.</p><p>We’ll enjoy ocean views, coastal prairie i
 ncluding silver bur ragweed (<em>Ambrosia chamissonis</em>), California gol
 denbush (<em>Ericameria ericoides</em>), coastal sagewort (<em>Artemisia py
 cnocephala</em>) and Argentina anserina (<em>Potentilla anserina</em>); dun
 e including yellow sand verbena (<em>Abronia latifolia</em>), pink sand ver
 bena (<em>Abronia umbellata</em>), seaside heliotrope (<em>Heliotropium cur
 assavicum</em>) and American dunegrass (<em>Eleymus mollis</em>); sea cliff
  bluff lettuce (<em>Dudleya farinosa</em>), fleshy jaumea (<em>Jaumea carno
 sa</em>), raptors, songbirds and maybe marine mammals.</p><p>As this is a d
 ay to have fun at the beach with fellow Chapter members, the ending time an
 d depth of botanical discussion may be extended depending on participants.<
 /p><p>Bring binoculars and layers of clothing for variable coastal conditio
 ns including wind, sun, precipitation and fog. We will be walking on sand d
 unes. Bring a lunch or snacks and fluids. Extreme bad weather cancels.</p><
 div class="page" title="Page 12"><div class="layoutArea"><div class="column
 "><p>No drop-ins please. To complete the required RSVP, please visit our Ch
 apter’s Meetup page at <a href="https://www.meetup.com/California-Native-Pl
 ant-Society-Santa-Clara-Valley-Chapter">www.meetup.com/California-Native-Pl
 ant-Society-Santa-Clara-Valley-Chapter</a>. Driving directions and parking 
 tips are provided on the Meetup page.</p><p>Before signing up, please read 
 the Año Nuevo State Park restrictions at <a href="https://www.parks.ca.gov
 /?page_id=523">www.parks.ca.gov/?page_id=523</a>. Note that there are no ba
 throoms at Franklin Point. Flush toilets are located at the main entrance o
 f Año Nuevo State Park, which may require payment to enter. For more infor
 mation or questions, contact Dee Himes at <a href="mailto:dee4cnps@gmail.co
 m."><span id="cloakd5d8c1cd2ad83262b986ea5b8bff67c1">This email address is 
 being protected from spambots. You need JavaScript enabled to view it.</spa
 n><script type='text/javascript'>
				document.getElementById('cloakd5d8c1c
 d2ad83262b986ea5b8bff67c1').innerHTML = '';
				var prefix = '&#109;a' + 'i
 &#108;' + '&#116;o';
				var path = 'hr' + 'ef' + '=';
				var addyd5d8c1cd
 2ad83262b986ea5b8bff67c1 = 'd&#101;&#101;4cnps' + '&#64;';
				addyd5d8c1cd
 2ad83262b986ea5b8bff67c1 = addyd5d8c1cd2ad83262b986ea5b8bff67c1 + 'gm&#97;&
 #105;l' + '&#46;' + 'c&#111;m';
				var addy_textd5d8c1cd2ad83262b986ea5b8b
 ff67c1 = 'd&#101;&#101;4cnps' + '&#64;' + 'gm&#97;&#105;l' + '&#46;' + 'c&#
 111;m';document.getElementById('cloakd5d8c1cd2ad83262b986ea5b8bff67c1').inn
 erHTML += '<a ' + path + '\'' + prefix + ':' + addyd5d8c1cd2ad83262b986ea5b
 8bff67c1 + '\'>'+addy_textd5d8c1cd2ad83262b986ea5b8bff67c1+'<\/a>';
		</scr
 ipt>.</a></p></div></div></div></div></div></div>
CONTACT:Dee Himes at This email address is being protected from spambots. You need JavaScript enabled to view it.
				document.getElementById('cloakca9e70cee00757fd3ebd532a1613c280').innerHTML = '';
				var prefix = '&#109;a' + 'i&#108;' + '&#116;o';
				var path = 'hr' + 'ef' + '=';
				var addyca9e70cee00757fd3ebd532a1613c280 = 'd&#101;&#101;4cnps' + '&#64;';
				addyca9e70cee00757fd3ebd532a1613c280 = addyca9e70cee00757fd3ebd532a1613c280 + 'gm&#97;&#105;l' + '&#46;' + 'c&#111;m';
				var addy_textca9e70cee00757fd3ebd532a1613c280 = 'd&#101;&#101;4cnps' + '&#64;' + 'gm&#97;&#105;l' + '&#46;' + 'c&#111;m';document.getElementById('cloakca9e70cee00757fd3ebd532a1613c280').innerHTML += '<a ' + path + '\'' + prefix + ':' + addyca9e70cee00757fd3ebd532a1613c280 + '\'>'+addy_textca9e70cee00757fd3ebd532a1613c280+'';
		
DTSTAMP:20260424T000457
DTSTART;TZID=America/Tijuana:20220101T100000
DTEND;TZID=America/Tijuana:20220101T140000
SEQUENCE:0
TRANSP:OPAQUE
END:VEVENT
END:VCALENDAR