BEGIN:VCALENDAR
VERSION:2.0
PRODID:-//jEvents 2.0 for Joomla//EN
CALSCALE:GREGORIAN
METHOD:PUBLISH
BEGIN:VTIMEZONE
TZID:America/Tijuana
BEGIN:STANDARD
DTSTART:20210218T100000
RDATE:20210314T030000
TZOFFSETFROM:-0700
TZOFFSETTO:-0800
TZNAME:America/Tijuana PST
END:STANDARD
BEGIN:STANDARD
DTSTART:20211107T010000
RDATE:20220313T030000
TZOFFSETFROM:-0700
TZOFFSETTO:-0800
TZNAME:America/Tijuana PST
END:STANDARD
BEGIN:STANDARD
DTSTART:20221106T010000
RDATE:20230312T030000
TZOFFSETFROM:-0700
TZOFFSETTO:-0800
TZNAME:America/Tijuana PST
END:STANDARD
BEGIN:STANDARD
DTSTART:20231105T010000
RDATE:20240310T030000
TZOFFSETFROM:-0700
TZOFFSETTO:-0800
TZNAME:America/Tijuana PST
END:STANDARD
BEGIN:STANDARD
DTSTART:20241103T010000
RDATE:20250309T030000
TZOFFSETFROM:-0700
TZOFFSETTO:-0800
TZNAME:America/Tijuana PST
END:STANDARD
BEGIN:STANDARD
DTSTART:20251102T010000
RDATE:20260308T030000
TZOFFSETFROM:-0700
TZOFFSETTO:-0800
TZNAME:America/Tijuana PST
END:STANDARD
BEGIN:STANDARD
DTSTART:20261101T010000
RDATE:20270314T030000
TZOFFSETFROM:-0700
TZOFFSETTO:-0800
TZNAME:America/Tijuana PST
END:STANDARD
BEGIN:STANDARD
DTSTART:20271107T010000
RDATE:20280312T030000
TZOFFSETFROM:-0700
TZOFFSETTO:-0800
TZNAME:America/Tijuana PST
END:STANDARD
BEGIN:DAYLIGHT
DTSTART:20210314T030000
RDATE:20211107T010000
TZOFFSETFROM:-0800
TZOFFSETTO:-0700
TZNAME:America/Tijuana PDT
END:DAYLIGHT
BEGIN:DAYLIGHT
DTSTART:20220313T030000
RDATE:20221106T010000
TZOFFSETFROM:-0800
TZOFFSETTO:-0700
TZNAME:America/Tijuana PDT
END:DAYLIGHT
BEGIN:DAYLIGHT
DTSTART:20230312T030000
RDATE:20231105T010000
TZOFFSETFROM:-0800
TZOFFSETTO:-0700
TZNAME:America/Tijuana PDT
END:DAYLIGHT
BEGIN:DAYLIGHT
DTSTART:20240310T030000
RDATE:20241103T010000
TZOFFSETFROM:-0800
TZOFFSETTO:-0700
TZNAME:America/Tijuana PDT
END:DAYLIGHT
BEGIN:DAYLIGHT
DTSTART:20250309T030000
RDATE:20251102T010000
TZOFFSETFROM:-0800
TZOFFSETTO:-0700
TZNAME:America/Tijuana PDT
END:DAYLIGHT
BEGIN:DAYLIGHT
DTSTART:20260308T030000
RDATE:20261101T010000
TZOFFSETFROM:-0800
TZOFFSETTO:-0700
TZNAME:America/Tijuana PDT
END:DAYLIGHT
BEGIN:DAYLIGHT
DTSTART:20270314T030000
RDATE:20271107T010000
TZOFFSETFROM:-0800
TZOFFSETTO:-0700
TZNAME:America/Tijuana PDT
END:DAYLIGHT
END:VTIMEZONE
BEGIN:VEVENT
UID:a5c0a00802b012e744f91ee38bcd8303
CATEGORIES:Field Trips
CREATED:20220112T133502
SUMMARY:Joint Chapter Hike to South Slope Walk on San Bruno Mountain (South SF)
LOCATION:San Bruno Mountain (South SF)
DESCRIPTION:Join Chuck Heimstadt and Loretta Brooks on this joint chapter (Yerba Buena 
 and Santa Clara Valley) field trip to explore the less visited south slopes
  of San Bruno Mountain. With its bright landscapes of large grasslands area
 s critical to our resident endangered butterflies and some locally rare pla
 nts on the CNPS Rare Plant Ranks, such as coast iris (Iris longipetala) CRP
 R 4.2, coast rock cress (Arabis blepharophylla) CRPR 4.3 and San Francisco 
 wallflower (Erysimum franciscanum) CRPR 4.2. \nWe may also see the coast on
 ion, Allium dichlamydeum, mission bells / checker lily, Fritillaria affinis
 ; and the Mission blue and Callippe Silverspot butterflies of which its lar
 vae need host plants such as silver bush lupine, Lupinus albifrons var coll
 inus, and California golden violet, Viola pedunculata to thrive. In additio
 n, Niebla lichen abundantly occurs only in the fog belt of the California c
 oast from Mendocino to Baja.\nSince there are only fire roads and weeding t
 rails on this side of SBM, the trail is steep, slippery, and rocky slopes a
 nd can be difficult to maneuver on. So please be sure to wear sturdy footwe
 ar and bring hiking poles as this area is only for the really adventuresome
 .  \nWe should have time to stop at the top, so bring a snack or lunch.  Re
 strooms are only available in the parking area.\nLimited space. To sign up,
  please directly contact Loretta or Chuck at  (mailto:Chuckheimstadt@yahoo.
 com)This email address is being protected from spambots. You need JavaScrip
 t enabled to view it.
				document.getElementById('cloak7147bba6ed1f1792ab2
 a83fcf7200a32').innerHTML = '';
				var prefix = '&#109;a' + 'i&#108;' + '&
 #116;o';
				var path = 'hr' + 'ef' + '=';
				var addy7147bba6ed1f1792ab2a
 83fcf7200a32 = 'Ch&#117;ckh&#101;&#105;mst&#97;dt' + '&#64;';
				addy7147b
 ba6ed1f1792ab2a83fcf7200a32 = addy7147bba6ed1f1792ab2a83fcf7200a32 + 'y&#97
 ;h&#111;&#111;' + '&#46;' + 'c&#111;m';
				var addy_text7147bba6ed1f1792ab
 2a83fcf7200a32 = 'Ch&#117;ckh&#101;&#105;mst&#97;dt' + '&#64;' + 'y&#97;h&#
 111;&#111;' + '&#46;' + 'c&#111;m';document.getElementById('cloak7147bba6ed
 1f1792ab2a83fcf7200a32').innerHTML += '<a ' + path + '\'' + prefix + ':' + 
 addy7147bba6ed1f1792ab2a83fcf7200a32 + '\'>'+addy_text7147bba6ed1f1792ab2a8
 3fcf7200a32+'';
		.  \nDetails of the meeting location will be sent to part
 icipants closer to the day of the hike. Cancels if it rains. \n
X-ALT-DESC;FMTTYPE=text/html:<div><p><span style="color: #000000;">Join Chuck Heimstadt and Loretta Broo
 ks on this joint chapter (Yerba Buena and Santa Clara Valley) field trip to
  explore the less visited south slopes of San Bruno Mountain. With its brig
 ht landscapes of large grasslands areas critical to our resident endangered
  butterflies and some locally rare plants on the CNPS Rare Plant Ranks, suc
 h as coast iris (Iris longipetala) CRPR 4.2, coast rock cress (Arabis bleph
 arophylla) CRPR 4.3 and San Francisco wallflower (Erysimum franciscanum) CR
 PR 4.2.&nbsp;</span></p><p><span style="color: #000000;">We may also see th
 e coast onion,&nbsp;<i>Allium dichlamydeum</i>, mission bells / checker lil
 y,&nbsp;<i>Fritillaria affinis;&nbsp;</i>and the Mission blue and Callippe 
 Silverspot butterflies of which its larvae need host plants such as silver 
 bush lupine,&nbsp;<i>Lupinus albifrons var collinus,</i>&nbsp;and Californi
 a golden violet,&nbsp;<i>Viola pedunculata&nbsp;</i>to thrive<i>.</i>&nbsp;
 In addition, Niebla lichen abundantly occurs only in the fog belt of the Ca
 lifornia coast from Mendocino to Baja.</span></p><p><span style="color: #00
 0000;">Since there are only fire roads and weeding trails on this side of S
 BM, the trail is steep, slippery, and rocky slopes and can be difficult to 
 maneuver on. So please be sure to wear sturdy footwear and bring hiking pol
 es as this area is only for the really adventuresome.&nbsp;&nbsp;</span></p
 ><p><span style="color: #000000;">We should have time to stop at the top, s
 o bring a snack or lunch.&nbsp; Restrooms are only available in the parking
  area.</span></p><p><span style="color: #000000;">Limited space. To sign up
 , please directly contact Loretta or Chuck at&nbsp;<span id="yiv9306661461g
 mail-cloak8ff8926abfa3f0c0e024b43d8871bde1"><a href="mailto:Chuckheimstadt@
 yahoo.com" target="_blank" rel="nofollow noopener noreferrer"></a><span id=
 "cloak7147bba6ed1f1792ab2a83fcf7200a32">This email address is being protect
 ed from spambots. You need JavaScript enabled to view it.</span><script typ
 e='text/javascript'>
				document.getElementById('cloak7147bba6ed1f1792ab2a
 83fcf7200a32').innerHTML = '';
				var prefix = '&#109;a' + 'i&#108;' + '&#
 116;o';
				var path = 'hr' + 'ef' + '=';
				var addy7147bba6ed1f1792ab2a8
 3fcf7200a32 = 'Ch&#117;ckh&#101;&#105;mst&#97;dt' + '&#64;';
				addy7147bb
 a6ed1f1792ab2a83fcf7200a32 = addy7147bba6ed1f1792ab2a83fcf7200a32 + 'y&#97;
 h&#111;&#111;' + '&#46;' + 'c&#111;m';
				var addy_text7147bba6ed1f1792ab2
 a83fcf7200a32 = 'Ch&#117;ckh&#101;&#105;mst&#97;dt' + '&#64;' + 'y&#97;h&#1
 11;&#111;' + '&#46;' + 'c&#111;m';document.getElementById('cloak7147bba6ed1
 f1792ab2a83fcf7200a32').innerHTML += '<a ' + path + '\'' + prefix + ':' + a
 ddy7147bba6ed1f1792ab2a83fcf7200a32 + '\'>'+addy_text7147bba6ed1f1792ab2a83
 fcf7200a32+'<\/a>';
		</script></span>.&nbsp;&nbsp;</span></p></div><p><spa
 n style="color: #000000;">Details of the meeting location will be sent to p
 articipants closer to the day of the hike. Cancels if it rains.&nbsp;</span
 ></p>
CONTACT:Loretta or Chuck at This email address is being protected from spambots. You need JavaScript enabled to view it.
				document.getElementById('cloak591ff9daac4ff64de86c8af262874bcf').innerHTML = '';
				var prefix = '&#109;a' + 'i&#108;' + '&#116;o';
				var path = 'hr' + 'ef' + '=';
				var addy591ff9daac4ff64de86c8af262874bcf = 'Ch&#117;ckh&#101;&#105;mst&#97;dt' + '&#64;';
				addy591ff9daac4ff64de86c8af262874bcf = addy591ff9daac4ff64de86c8af262874bcf + 'y&#97;h&#111;&#111;' + '&#46;' + 'c&#111;m';
				var addy_text591ff9daac4ff64de86c8af262874bcf = 'Ch&#117;ckh&#101;&#105;mst&#97;dt' + '&#64;' + 'y&#97;h&#111;&#111;' + '&#46;' + 'c&#111;m';document.getElementById('cloak591ff9daac4ff64de86c8af262874bcf').innerHTML += '<a ' + path + '\'' + prefix + ':' + addy591ff9daac4ff64de86c8af262874bcf + '\'>'+addy_text591ff9daac4ff64de86c8af262874bcf+'';
		
DTSTAMP:20260421T112934
DTSTART;TZID=America/Tijuana:20220219T100000
DTEND;TZID=America/Tijuana:20220219T140000
SEQUENCE:0
TRANSP:OPAQUE
END:VEVENT
END:VCALENDAR