BEGIN:VCALENDAR
VERSION:2.0
PRODID:-//jEvents 2.0 for Joomla//EN
CALSCALE:GREGORIAN
METHOD:PUBLISH
BEGIN:VTIMEZONE
TZID:America/Tijuana
BEGIN:STANDARD
DTSTART:20210307T090000
RDATE:20210314T030000
TZOFFSETFROM:-0700
TZOFFSETTO:-0800
TZNAME:America/Tijuana PST
END:STANDARD
BEGIN:STANDARD
DTSTART:20211107T010000
RDATE:20220313T030000
TZOFFSETFROM:-0700
TZOFFSETTO:-0800
TZNAME:America/Tijuana PST
END:STANDARD
BEGIN:STANDARD
DTSTART:20221106T010000
RDATE:20230312T030000
TZOFFSETFROM:-0700
TZOFFSETTO:-0800
TZNAME:America/Tijuana PST
END:STANDARD
BEGIN:STANDARD
DTSTART:20231105T010000
RDATE:20240310T030000
TZOFFSETFROM:-0700
TZOFFSETTO:-0800
TZNAME:America/Tijuana PST
END:STANDARD
BEGIN:STANDARD
DTSTART:20241103T010000
RDATE:20250309T030000
TZOFFSETFROM:-0700
TZOFFSETTO:-0800
TZNAME:America/Tijuana PST
END:STANDARD
BEGIN:STANDARD
DTSTART:20251102T010000
RDATE:20260308T030000
TZOFFSETFROM:-0700
TZOFFSETTO:-0800
TZNAME:America/Tijuana PST
END:STANDARD
BEGIN:STANDARD
DTSTART:20261101T010000
RDATE:20270314T030000
TZOFFSETFROM:-0700
TZOFFSETTO:-0800
TZNAME:America/Tijuana PST
END:STANDARD
BEGIN:STANDARD
DTSTART:20271107T010000
RDATE:20280312T030000
TZOFFSETFROM:-0700
TZOFFSETTO:-0800
TZNAME:America/Tijuana PST
END:STANDARD
BEGIN:DAYLIGHT
DTSTART:20210314T030000
RDATE:20211107T010000
TZOFFSETFROM:-0800
TZOFFSETTO:-0700
TZNAME:America/Tijuana PDT
END:DAYLIGHT
BEGIN:DAYLIGHT
DTSTART:20220313T030000
RDATE:20221106T010000
TZOFFSETFROM:-0800
TZOFFSETTO:-0700
TZNAME:America/Tijuana PDT
END:DAYLIGHT
BEGIN:DAYLIGHT
DTSTART:20230312T030000
RDATE:20231105T010000
TZOFFSETFROM:-0800
TZOFFSETTO:-0700
TZNAME:America/Tijuana PDT
END:DAYLIGHT
BEGIN:DAYLIGHT
DTSTART:20240310T030000
RDATE:20241103T010000
TZOFFSETFROM:-0800
TZOFFSETTO:-0700
TZNAME:America/Tijuana PDT
END:DAYLIGHT
BEGIN:DAYLIGHT
DTSTART:20250309T030000
RDATE:20251102T010000
TZOFFSETFROM:-0800
TZOFFSETTO:-0700
TZNAME:America/Tijuana PDT
END:DAYLIGHT
BEGIN:DAYLIGHT
DTSTART:20260308T030000
RDATE:20261101T010000
TZOFFSETFROM:-0800
TZOFFSETTO:-0700
TZNAME:America/Tijuana PDT
END:DAYLIGHT
BEGIN:DAYLIGHT
DTSTART:20270314T030000
RDATE:20271107T010000
TZOFFSETFROM:-0800
TZOFFSETTO:-0700
TZNAME:America/Tijuana PDT
END:DAYLIGHT
END:VTIMEZONE
BEGIN:VEVENT
UID:aa493e197351d0da14b81f540df20cb2
CATEGORIES:Field Trips
CREATED:20220221T233422
SUMMARY:Serpentine Chaparral & Grasslands at Edgewood Park Walk #1 (San Mateo County)
LOCATION:Edgewood Park (San Mateo County)
DESCRIPTION:Join Paul Heiple and Ken Himes on an early spring walk along the Clarkia Tr
 ail in Edgewood County Park and Preserve. Plants of the serpentine chaparra
 l and serpentine grasslands will be featured. In addition, Paul will commen
 t about the improvements to the grasslands along the western Clarkia Trail 
 as habitat restoration efforts continue to reduce the yellow star-thistle p
 opulation. For example, plants such as narrow-leaf milkweed (Asclepias fasc
 icularis) have increased dramatically.\nRSVP is required to join us for the
  walk. Space is limited. No drop-ins please. We have arranged for two walks
 : this one in March and a second one on April 19. Please register for only 
 one walk to allow others to attend. To register, please visit the walk’s Me
 etup page, at www.meetup.com/California-Native-Plant-Society-Santa- Clara-V
 alley-Chapter/events/284005806 (https://www.meetup.com/California-Native-Pl
 ant-Society-Santa-%20Clara-Valley-Chapter/events/284005806). Walk details a
 nd driving directions are provided on Meetup. We’ll be meeting at the Caña
 da Road entrance to the park.\n
X-ALT-DESC;FMTTYPE=text/html:<div class="page" title="Page 7"><div class="layoutArea"><div class="column
 "><p>Join Paul Heiple and Ken Himes on an early spring walk along the Clark
 ia Trail in Edgewood County Park and Preserve. Plants of the serpentine cha
 parral and serpentine grasslands will be featured. In addition, Paul will c
 omment about the improvements to the grasslands along the western Clarkia T
 rail as habitat restoration efforts continue to reduce the yellow star-this
 tle population. For example, plants such as narrow-leaf milkweed (<em>Ascle
 pias fascicularis</em>) have increased dramatically.</p><div class="page" t
 itle="Page 8"><div class="layoutArea"><div class="column"><p>RSVP is requir
 ed to join us for the walk. Space is limited. No drop-ins please. We have a
 rranged for two walks: this one in March and a second one on April 19. Plea
 se register for only one walk to allow others to attend. To register, pleas
 e visit the walk’s Meetup page, at <a href="https://www.meetup.com/Californ
 ia-Native-Plant-Society-Santa-%20Clara-Valley-Chapter/events/284005806">www
 .meetup.com/California-Native-Plant-Society-Santa- Clara-Valley-Chapter/eve
 nts/284005806</a>. Walk details and driving directions are provided on Meet
 up. We’ll be meeting at the Cañada Road entrance to the park.</p></div></d
 iv></div></div></div></div>
CONTACT:https://www.meetup.com/California-Native-Plant-Society-Santa-%20Clara-Valley-Chapter/events/284005806
DTSTAMP:20260421T145401
DTSTART;TZID=America/Tijuana:20220308T090000
DTEND;TZID=America/Tijuana:20220308T130000
SEQUENCE:0
TRANSP:OPAQUE
END:VEVENT
END:VCALENDAR