BEGIN:VCALENDAR
VERSION:2.0
PRODID:-//jEvents 2.0 for Joomla//EN
CALSCALE:GREGORIAN
METHOD:PUBLISH
BEGIN:VTIMEZONE
TZID:America/Tijuana
BEGIN:STANDARD
DTSTART:20211214T100000
RDATE:20220313T030000
TZOFFSETFROM:-0700
TZOFFSETTO:-0800
TZNAME:America/Tijuana PST
END:STANDARD
BEGIN:STANDARD
DTSTART:20221106T010000
RDATE:20230312T030000
TZOFFSETFROM:-0700
TZOFFSETTO:-0800
TZNAME:America/Tijuana PST
END:STANDARD
BEGIN:STANDARD
DTSTART:20231105T010000
RDATE:20240310T030000
TZOFFSETFROM:-0700
TZOFFSETTO:-0800
TZNAME:America/Tijuana PST
END:STANDARD
BEGIN:STANDARD
DTSTART:20241103T010000
RDATE:20250309T030000
TZOFFSETFROM:-0700
TZOFFSETTO:-0800
TZNAME:America/Tijuana PST
END:STANDARD
BEGIN:STANDARD
DTSTART:20251102T010000
RDATE:20260308T030000
TZOFFSETFROM:-0700
TZOFFSETTO:-0800
TZNAME:America/Tijuana PST
END:STANDARD
BEGIN:STANDARD
DTSTART:20261101T010000
RDATE:20270314T030000
TZOFFSETFROM:-0700
TZOFFSETTO:-0800
TZNAME:America/Tijuana PST
END:STANDARD
BEGIN:STANDARD
DTSTART:20271107T010000
RDATE:20280312T030000
TZOFFSETFROM:-0700
TZOFFSETTO:-0800
TZNAME:America/Tijuana PST
END:STANDARD
BEGIN:DAYLIGHT
DTSTART:20220313T030000
RDATE:20221106T010000
TZOFFSETFROM:-0800
TZOFFSETTO:-0700
TZNAME:America/Tijuana PDT
END:DAYLIGHT
BEGIN:DAYLIGHT
DTSTART:20230312T030000
RDATE:20231105T010000
TZOFFSETFROM:-0800
TZOFFSETTO:-0700
TZNAME:America/Tijuana PDT
END:DAYLIGHT
BEGIN:DAYLIGHT
DTSTART:20240310T030000
RDATE:20241103T010000
TZOFFSETFROM:-0800
TZOFFSETTO:-0700
TZNAME:America/Tijuana PDT
END:DAYLIGHT
BEGIN:DAYLIGHT
DTSTART:20250309T030000
RDATE:20251102T010000
TZOFFSETFROM:-0800
TZOFFSETTO:-0700
TZNAME:America/Tijuana PDT
END:DAYLIGHT
BEGIN:DAYLIGHT
DTSTART:20260308T030000
RDATE:20261101T010000
TZOFFSETFROM:-0800
TZOFFSETTO:-0700
TZNAME:America/Tijuana PDT
END:DAYLIGHT
BEGIN:DAYLIGHT
DTSTART:20270314T030000
RDATE:20271107T010000
TZOFFSETFROM:-0800
TZOFFSETTO:-0700
TZNAME:America/Tijuana PDT
END:DAYLIGHT
END:VTIMEZONE
BEGIN:VEVENT
UID:2f2cc3450fb592fd59a7e00d8ca3b9c3
CATEGORIES:Field Trips
CREATED:20221025T062145
SUMMARY:Carl W. Sharsmith Herbarium at San Jose State University (San Jose)
LOCATION:San Jose State University (San Jose)
DESCRIPTION:Please join us for a winter tour at the Department of Biological Sciences, 
 Carl W. Sharsmith Herbarium at San Jose State University.\nThe tour will be
  led by Lars Rosengreen, Greenhouse Manager and Curator; and Ben Carter, Di
 rector and Associate Professor. Founded in 1945 by Dr. Carl Sharsmith, the 
 herbarium at San Jose State University houses a collection of more than 27,
 000 pressed plants (18,000 vascular plants and more than 9,000 bryophytes).
 \nMany specimens were collected over Dr. Sharsmith’s long career as a unive
 rsity professor and natural history ranger at Yosemite National Park. The h
 erbarium is actively curated and a member of the Consortium of California H
 erbaria. Most of the specimens are California natives, with a focus on plan
 ts found in the Bay Area and the Sierra Nevada.\nAs part of the visit, you 
 will have a chance to view notable specimens in the collection as well as v
 iew taxa that may be of special interest to attendees. You will also have a
  hands- on opportunity to learn how to mount and preserve specimens, and le
 arn about the process of imaging them and adding them to the herbarium’s co
 llection.\nThis is a CNPS members-only tour. Please be sure your CNPS membe
 rship is current. Space is limited to 20, and RSVP is required to join us f
 or the tour; no drop-ins please. To register or for more information, pleas
 e email Dee Himes at This email address is being protected from spambots. Y
 ou need JavaScript enabled to view it.
				document.getElementById('cloak55
 76e3e649f64568d7103c097cba2749').innerHTML = '';
				var prefix = '&amp;#10
 9;a' + 'i&amp;#108;' + '&amp;#116;o';
				var path = 'hr' + 'ef' + '=';
			
 	var addy5576e3e649f64568d7103c097cba2749 = 'd&amp;#101;&amp;#101;4cnps' + 
 '&amp;#64;';
				addy5576e3e649f64568d7103c097cba2749 = addy5576e3e649f6456
 8d7103c097cba2749 + 'gm&amp;#97;&amp;#105;l' + '&amp;#46;' + 'c&amp;#111;m'
 ;
				var addy_text5576e3e649f64568d7103c097cba2749 = 'd&amp;#101;&amp;#101
 ;4cnps' + '&amp;#64;' + 'gm&amp;#97;&amp;#105;l' + '&amp;#46;' + 'c&amp;#11
 1;m';document.getElementById('cloak5576e3e649f64568d7103c097cba2749').inner
 HTML += '&lt;a ' + path + '\'' + prefix + ':' + addy5576e3e649f64568d7103c0
 97cba2749 + '\'&gt;'+addy_text5576e3e649f64568d7103c097cba2749+'&lt;\/a&gt;
 ';
		. (mailto:dee4cnps@gmail.com.) A detailed email will be sent to you a 
 few days before the tour.\n
X-ALT-DESC;FMTTYPE=text/html:<div class="page" title="Page 6"><div class="layoutArea"><div class="column
 "><p>Please join us for a winter tour at the Department of Biological Scien
 ces, Carl W. Sharsmith Herbarium at San Jose State University.</p><p>The to
 ur will be led by Lars Rosengreen, Greenhouse Manager and Curator; and Ben 
 Carter, Director and Associate Professor. Founded in 1945 by Dr. Carl Shars
 mith, the herbarium at San Jose State University houses a collection of mor
 e than 27,000 pressed plants (18,000 vascular plants and more than 9,000 br
 yophytes).</p><div class="page" title="Page 7"><div class="layoutArea"><div
  class="column"><p>Many specimens were collected over Dr. Sharsmith’s long 
 career as a university professor and natural history ranger at Yosemite Nat
 ional Park. The herbarium is actively curated and a member of the Consortiu
 m of California Herbaria. Most of the specimens are California natives, wit
 h a focus on plants found in the Bay Area and the Sierra Nevada.</p><p>As p
 art of the visit, you will have a chance to view notable specimens in the c
 ollection as well as view taxa that may be of special interest to attendees
 . You will also have a hands- on opportunity to learn how to mount and pres
 erve specimens, and learn about the process of imaging them and adding them
  to the herbarium’s collection.</p><p>This is a CNPS members-only tour. Ple
 ase be sure your CNPS membership is current. Space is limited to 20, and RS
 VP is required to join us for the tour; no drop-ins please. To register or 
 for more information, please email Dee Himes at <a href="mailto:dee4cnps@gm
 ail.com."><span id="cloak5576e3e649f64568d7103c097cba2749">This email addre
 ss is being protected from spambots. You need JavaScript enabled to view it
 .</span><script type='text/javascript'>
				document.getElementById('cloak5
 576e3e649f64568d7103c097cba2749').innerHTML = '';
				var prefix = '&#109;a
 ' + 'i&#108;' + '&#116;o';
				var path = 'hr' + 'ef' + '=';
				var addy55
 76e3e649f64568d7103c097cba2749 = 'd&#101;&#101;4cnps' + '&#64;';
				addy55
 76e3e649f64568d7103c097cba2749 = addy5576e3e649f64568d7103c097cba2749 + 'gm
 &#97;&#105;l' + '&#46;' + 'c&#111;m';
				var addy_text5576e3e649f64568d710
 3c097cba2749 = 'd&#101;&#101;4cnps' + '&#64;' + 'gm&#97;&#105;l' + '&#46;' 
 + 'c&#111;m';document.getElementById('cloak5576e3e649f64568d7103c097cba2749
 ').innerHTML += '<a ' + path + '\'' + prefix + ':' + addy5576e3e649f64568d7
 103c097cba2749 + '\'>'+addy_text5576e3e649f64568d7103c097cba2749+'<\/a>';
	
 	</script>.</a> A detailed email will be sent to you a few days before the 
 tour.</p></div></div></div></div></div></div>
CONTACT:Dee Himes at This email address is being protected from spambots. You need JavaScript enabled to view it.
				document.getElementById('cloak876e000f8c3c6af4ecbd5a271b5678a4').innerHTML = '';
				var prefix = '&#109;a' + 'i&#108;' + '&#116;o';
				var path = 'hr' + 'ef' + '=';
				var addy876e000f8c3c6af4ecbd5a271b5678a4 = 'd&#101;&#101;4cnps' + '&#64;';
				addy876e000f8c3c6af4ecbd5a271b5678a4 = addy876e000f8c3c6af4ecbd5a271b5678a4 + 'gm&#97;&#105;l' + '&#46;' + 'c&#111;m';
				var addy_text876e000f8c3c6af4ecbd5a271b5678a4 = 'd&#101;&#101;4cnps' + '&#64;' + 'gm&#97;&#105;l' + '&#46;' + 'c&#111;m';document.getElementById('cloak876e000f8c3c6af4ecbd5a271b5678a4').innerHTML += '<a ' + path + '\'' + prefix + ':' + addy876e000f8c3c6af4ecbd5a271b5678a4 + '\'>'+addy_text876e000f8c3c6af4ecbd5a271b5678a4+'';
		
DTSTAMP:20260425T155549
DTSTART;TZID=America/Tijuana:20221215T100000
DTEND;TZID=America/Tijuana:20221215T130000
SEQUENCE:0
TRANSP:OPAQUE
END:VEVENT
END:VCALENDAR