BEGIN:VCALENDAR
VERSION:2.0
PRODID:-//jEvents 2.0 for Joomla//EN
CALSCALE:GREGORIAN
METHOD:PUBLISH
BEGIN:VTIMEZONE
TZID:America/Tijuana
BEGIN:STANDARD
DTSTART:20220210T100000
RDATE:20220313T030000
TZOFFSETFROM:-0700
TZOFFSETTO:-0800
TZNAME:America/Tijuana PST
END:STANDARD
BEGIN:STANDARD
DTSTART:20221106T010000
RDATE:20230312T030000
TZOFFSETFROM:-0700
TZOFFSETTO:-0800
TZNAME:America/Tijuana PST
END:STANDARD
BEGIN:STANDARD
DTSTART:20231105T010000
RDATE:20240310T030000
TZOFFSETFROM:-0700
TZOFFSETTO:-0800
TZNAME:America/Tijuana PST
END:STANDARD
BEGIN:STANDARD
DTSTART:20241103T010000
RDATE:20250309T030000
TZOFFSETFROM:-0700
TZOFFSETTO:-0800
TZNAME:America/Tijuana PST
END:STANDARD
BEGIN:STANDARD
DTSTART:20251102T010000
RDATE:20260308T030000
TZOFFSETFROM:-0700
TZOFFSETTO:-0800
TZNAME:America/Tijuana PST
END:STANDARD
BEGIN:STANDARD
DTSTART:20261101T010000
RDATE:20270314T030000
TZOFFSETFROM:-0700
TZOFFSETTO:-0800
TZNAME:America/Tijuana PST
END:STANDARD
BEGIN:STANDARD
DTSTART:20271107T010000
RDATE:20280312T030000
TZOFFSETFROM:-0700
TZOFFSETTO:-0800
TZNAME:America/Tijuana PST
END:STANDARD
BEGIN:DAYLIGHT
DTSTART:20220313T030000
RDATE:20221106T010000
TZOFFSETFROM:-0800
TZOFFSETTO:-0700
TZNAME:America/Tijuana PDT
END:DAYLIGHT
BEGIN:DAYLIGHT
DTSTART:20230312T030000
RDATE:20231105T010000
TZOFFSETFROM:-0800
TZOFFSETTO:-0700
TZNAME:America/Tijuana PDT
END:DAYLIGHT
BEGIN:DAYLIGHT
DTSTART:20240310T030000
RDATE:20241103T010000
TZOFFSETFROM:-0800
TZOFFSETTO:-0700
TZNAME:America/Tijuana PDT
END:DAYLIGHT
BEGIN:DAYLIGHT
DTSTART:20250309T030000
RDATE:20251102T010000
TZOFFSETFROM:-0800
TZOFFSETTO:-0700
TZNAME:America/Tijuana PDT
END:DAYLIGHT
BEGIN:DAYLIGHT
DTSTART:20260308T030000
RDATE:20261101T010000
TZOFFSETFROM:-0800
TZOFFSETTO:-0700
TZNAME:America/Tijuana PDT
END:DAYLIGHT
BEGIN:DAYLIGHT
DTSTART:20270314T030000
RDATE:20271107T010000
TZOFFSETFROM:-0800
TZOFFSETTO:-0700
TZNAME:America/Tijuana PDT
END:DAYLIGHT
END:VTIMEZONE
BEGIN:VEVENT
UID:c9499a06a40b0dce9790ab9b9689f769
CATEGORIES:Field Trips
CREATED:20221222T045037
SUMMARY:Dirca Walk at Pulgas Ridge Open Space Preserve (San Mateo County)
LOCATION:Pulgas Ridge Open Space Preserve (San Mateo County)
DESCRIPTION:Join Don Thomas for a 3 to 4 mile hike with 500+ feet in elevation change, 
 to search for the elusive Western leatherwood at Pulgas Ridge OSP near Edge
 wood Road. Western leatherwood (Dirca occidentalis) is a rare paleoendemic 
 plant native only to the San Francisco Bay Area, ranked by CNPS as 1B.2. (R
 ead more about CNPS rare plant ranks at www.cnps.org/rare-plants/california
 -rare-plant-ranks (http://www.cnps.org/rare-plants/california-rare-plant-ra
 nks).)\nDirca is one of our earliest flowering native plants, blooming in m
 id-to-late winter before most other natives begin blooming in the spring. W
 e will look for late- flowering Dirca along the Dusky Woodrat Trail. We may
  be able to observe other early-blooming plants, such as manzanitas and goo
 seberries.\nSpace is limited. No drop-ins please. To complete the required 
 RSVP, please visit our Chapter’s Meetup page (https://www.meetup.com/Califo
 rnia-Native-Plant-Society-Santa-Clara-Valley-Chapter/).\nDriving directions
  and parking tips are provided on the Meetup page. Before signing up, pleas
 e read about Pulgas Ridge OSP at www.openspace.org/preserves/pulgas-ridge (
 http://www.openspace.org/preserves/pulgas-ridge).\nContact Don at This emai
 l address is being protected from spambots. You need JavaScript enabled to 
 view it.
				document.getElementById('cloak8d9b8637524c0e5a695ea3eb17913f91
 ').innerHTML = '';
				var prefix = '&#109;a' + 'i&#108;' + '&#116;o';
				
 var path = 'hr' + 'ef' + '=';
				var addy8d9b8637524c0e5a695ea3eb17913f91 
 = 'd&#111;n&#101;th&#111;m&#97;sd' + '&#64;';
				addy8d9b8637524c0e5a695ea
 3eb17913f91 = addy8d9b8637524c0e5a695ea3eb17913f91 + 'gm&#97;&#105;l' + '&#
 46;' + 'c&#111;m';
				var addy_text8d9b8637524c0e5a695ea3eb17913f91 = 'd&#
 111;n&#101;th&#111;m&#97;sd' + '&#64;' + 'gm&#97;&#105;l' + '&#46;' + 'c&#1
 11;m';document.getElementById('cloak8d9b8637524c0e5a695ea3eb17913f91').inne
 rHTML += '<a ' + path + '\'' + prefix + ':' + addy8d9b8637524c0e5a695ea3eb1
 7913f91 + '\'>'+addy_text8d9b8637524c0e5a695ea3eb17913f91+'';
		 for more i
 nformation. Trails are narrow at most parts and may be slippery and steep i
 n some. Wear hiking shoes and we recommend bringing hiking poles. Bring wat
 er and snacks for an optional lunch in the picnic area following the walk. 
 Heavy rain cancels.\n
X-ALT-DESC;FMTTYPE=text/html:<div class="page" title="Page 7"><div class="layoutArea"><div class="column
 "><p>Join Don Thomas for a 3 to 4 mile hike with 500+ feet in elevation cha
 nge, to search for the elusive Western leatherwood at Pulgas Ridge OSP near
  Edgewood Road. Western leatherwood (Dirca occidentalis) is a rare paleoend
 emic plant native only to the San Francisco Bay Area, ranked by CNPS as 1B.
 2. (Read more about CNPS rare plant ranks at <a href="http://www.cnps.org/r
 are-plants/california-rare-plant-ranks">www.cnps.org/rare-plants/california
 -rare-plant-ranks</a>.)</p><div class="page" title="Page 7"><div class="lay
 outArea"><div class="column"><p>Dirca is one of our earliest flowering nati
 ve plants, blooming in mid-to-late winter before most other natives begin b
 looming in the spring. We will look for late- flowering Dirca along the Dus
 ky Woodrat Trail. We may be able to observe other early-blooming plants, su
 ch as manzanitas and gooseberries.</p><p>Space is limited. No drop-ins plea
 se. To complete the required RSVP, please visit our <a href="https://www.me
 etup.com/California-Native-Plant-Society-Santa-Clara-Valley-Chapter/">Chapt
 er’s Meetup page</a>.</p><div class="page" title="Page 8"><div class="layou
 tArea"><div class="column"><p>Driving directions and parking tips are provi
 ded on the Meetup page. Before signing up, please read about Pulgas Ridge O
 SP at <a href="http://www.openspace.org/preserves/pulgas-ridge">www.openspa
 ce.org/preserves/pulgas-ridge</a>.</p><p>Contact Don at <span id="cloak8d9b
 8637524c0e5a695ea3eb17913f91">This email address is being protected from sp
 ambots. You need JavaScript enabled to view it.</span><script type='text/ja
 vascript'>
				document.getElementById('cloak8d9b8637524c0e5a695ea3eb17913f
 91').innerHTML = '';
				var prefix = '&#109;a' + 'i&#108;' + '&#116;o';
		
 		var path = 'hr' + 'ef' + '=';
				var addy8d9b8637524c0e5a695ea3eb17913f9
 1 = 'd&#111;n&#101;th&#111;m&#97;sd' + '&#64;';
				addy8d9b8637524c0e5a695
 ea3eb17913f91 = addy8d9b8637524c0e5a695ea3eb17913f91 + 'gm&#97;&#105;l' + '
 &#46;' + 'c&#111;m';
				var addy_text8d9b8637524c0e5a695ea3eb17913f91 = 'd
 &#111;n&#101;th&#111;m&#97;sd' + '&#64;' + 'gm&#97;&#105;l' + '&#46;' + 'c&
 #111;m';document.getElementById('cloak8d9b8637524c0e5a695ea3eb17913f91').in
 nerHTML += '<a ' + path + '\'' + prefix + ':' + addy8d9b8637524c0e5a695ea3e
 b17913f91 + '\'>'+addy_text8d9b8637524c0e5a695ea3eb17913f91+'<\/a>';
		</sc
 ript> for more information. Trails are narrow at most parts and may be slip
 pery and steep in some. Wear hiking shoes and we recommend bringing hiking 
 poles. Bring water and snacks for an optional lunch in the picnic area foll
 owing the walk. Heavy rain cancels.</p></div></div></div></div></div></div>
 </div></div></div>
CONTACT:Don at This email address is being protected from spambots. You need JavaScript enabled to view it.
				document.getElementById('cloak20e4dac0f1072ca65e933029e74bd7c7').innerHTML = '';
				var prefix = '&#109;a' + 'i&#108;' + '&#116;o';
				var path = 'hr' + 'ef' + '=';
				var addy20e4dac0f1072ca65e933029e74bd7c7 = 'd&#111;n&#101;th&#111;m&#97;sd' + '&#64;';
				addy20e4dac0f1072ca65e933029e74bd7c7 = addy20e4dac0f1072ca65e933029e74bd7c7 + 'gm&#97;&#105;l' + '&#46;' + 'c&#111;m';
				var addy_text20e4dac0f1072ca65e933029e74bd7c7 = 'd&#111;n&#101;th&#111;m&#97;sd' + '&#64;' + 'gm&#97;&#105;l' + '&#46;' + 'c&#111;m';document.getElementById('cloak20e4dac0f1072ca65e933029e74bd7c7').innerHTML += '<a ' + path + '\'' + prefix + ':' + addy20e4dac0f1072ca65e933029e74bd7c7 + '\'>'+addy_text20e4dac0f1072ca65e933029e74bd7c7+'';
		
DTSTAMP:20260420T192449
DTSTART;TZID=America/Tijuana:20230211T100000
DTEND;TZID=America/Tijuana:20230211T130000
SEQUENCE:0
TRANSP:OPAQUE
END:VEVENT
END:VCALENDAR