BEGIN:VCALENDAR
VERSION:2.0
PRODID:-//jEvents 2.0 for Joomla//EN
CALSCALE:GREGORIAN
METHOD:PUBLISH
BEGIN:VTIMEZONE
TZID:America/Tijuana
BEGIN:STANDARD
DTSTART:20221106T010000
RDATE:20230312T030000
TZOFFSETFROM:-0700
TZOFFSETTO:-0800
TZNAME:America/Tijuana PST
END:STANDARD
BEGIN:STANDARD
DTSTART:20231105T010000
RDATE:20240310T030000
TZOFFSETFROM:-0700
TZOFFSETTO:-0800
TZNAME:America/Tijuana PST
END:STANDARD
BEGIN:STANDARD
DTSTART:20241103T010000
RDATE:20250309T030000
TZOFFSETFROM:-0700
TZOFFSETTO:-0800
TZNAME:America/Tijuana PST
END:STANDARD
BEGIN:STANDARD
DTSTART:20251102T010000
RDATE:20260308T030000
TZOFFSETFROM:-0700
TZOFFSETTO:-0800
TZNAME:America/Tijuana PST
END:STANDARD
BEGIN:STANDARD
DTSTART:20261101T010000
RDATE:20270314T030000
TZOFFSETFROM:-0700
TZOFFSETTO:-0800
TZNAME:America/Tijuana PST
END:STANDARD
BEGIN:STANDARD
DTSTART:20271107T010000
RDATE:20280312T030000
TZOFFSETFROM:-0700
TZOFFSETTO:-0800
TZNAME:America/Tijuana PST
END:STANDARD
BEGIN:DAYLIGHT
DTSTART:20220424T190000
RDATE:20221106T010000
TZOFFSETFROM:-0800
TZOFFSETTO:-0700
TZNAME:America/Tijuana PDT
END:DAYLIGHT
BEGIN:DAYLIGHT
DTSTART:20230312T030000
RDATE:20231105T010000
TZOFFSETFROM:-0800
TZOFFSETTO:-0700
TZNAME:America/Tijuana PDT
END:DAYLIGHT
BEGIN:DAYLIGHT
DTSTART:20240310T030000
RDATE:20241103T010000
TZOFFSETFROM:-0800
TZOFFSETTO:-0700
TZNAME:America/Tijuana PDT
END:DAYLIGHT
BEGIN:DAYLIGHT
DTSTART:20250309T030000
RDATE:20251102T010000
TZOFFSETFROM:-0800
TZOFFSETTO:-0700
TZNAME:America/Tijuana PDT
END:DAYLIGHT
BEGIN:DAYLIGHT
DTSTART:20260308T030000
RDATE:20261101T010000
TZOFFSETFROM:-0800
TZOFFSETTO:-0700
TZNAME:America/Tijuana PDT
END:DAYLIGHT
BEGIN:DAYLIGHT
DTSTART:20270314T030000
RDATE:20271107T010000
TZOFFSETFROM:-0800
TZOFFSETTO:-0700
TZNAME:America/Tijuana PDT
END:DAYLIGHT
END:VTIMEZONE
BEGIN:VEVENT
UID:06396f2e6e656088d1ef2a5f7cdf2687
CATEGORIES:Native Plant Talks
CREATED:20230227T130201
SUMMARY:Gardening for Habitat
LOCATION:Saratoga Library Community Room\, 13650 Saratoga Ave.\, Saratoga
DESCRIPTION:Why do we garden? Is it only for beauty and to enhance the curb appeal of h
 ouses? Or does the garden also play a role in the local ecology? More and m
 ore people are coming to realize that our yards can provide sustenance to w
 ildlife, from butterflies to birds and more, without sacrificing aesthetics
 . A yard landscaped with well-chosen native plants can not only look good b
 ut also provide unparalleled habitat value. Come to this talk to learn the 
 basics of habitat gardening and which native plants in our area are particu
 larly suited for attracting birds and butterflies. A plant list will be ava
 ilable.\nA software engineer by training, Arvind Kumar has been growing nat
 ive plants in his home garden in San Jose for 22 years. He coordinates volu
 nteer workdays at the 2-acre Native Garden in Lake Cunningham Park. He is a
  board member and former president of our CNPS Chapter.\n
X-ALT-DESC;FMTTYPE=text/html:<div class="page" title="Page 4"><div class="layoutArea"><div class="column
 "><p>Why do we garden? Is it only for beauty and to enhance the curb appeal
  of houses? Or does the garden also play a role in the local ecology? More 
 and more people are coming to realize that our yards can provide sustenance
  to wildlife, from butterflies to birds and more, without sacrificing aesth
 etics. A yard&nbsp;landscaped with well-chosen native plants can not only l
 ook good but also provide unparalleled habitat value. Come to this talk to 
 learn the basics of habitat gardening and which native plants in our area a
 re particularly suited for attracting birds and butterflies. A plant list w
 ill be available.</p><p>A software engineer by training, Arvind Kumar has b
 een growing native plants in his home garden in San Jose for 22 years. He c
 oordinates volunteer workdays at the 2-acre Native Garden in Lake Cunningha
 m Park. He is a board member and former president of our CNPS Chapter.</p><
 /div></div></div>
DTSTAMP:20260422T051740
DTSTART;TZID=America/Tijuana:20230425T190000
DTEND;TZID=America/Tijuana:20230425T203000
SEQUENCE:0
TRANSP:OPAQUE
END:VEVENT
END:VCALENDAR