BEGIN:VCALENDAR
VERSION:2.0
PRODID:-//jEvents 2.0 for Joomla//EN
CALSCALE:GREGORIAN
METHOD:PUBLISH
BEGIN:VTIMEZONE
TZID:America/Tijuana
BEGIN:STANDARD
DTSTART:20221106T010000
RDATE:20230312T030000
TZOFFSETFROM:-0700
TZOFFSETTO:-0800
TZNAME:America/Tijuana PST
END:STANDARD
BEGIN:STANDARD
DTSTART:20231105T010000
RDATE:20240310T030000
TZOFFSETFROM:-0700
TZOFFSETTO:-0800
TZNAME:America/Tijuana PST
END:STANDARD
BEGIN:STANDARD
DTSTART:20241103T010000
RDATE:20250309T030000
TZOFFSETFROM:-0700
TZOFFSETTO:-0800
TZNAME:America/Tijuana PST
END:STANDARD
BEGIN:STANDARD
DTSTART:20251102T010000
RDATE:20260308T030000
TZOFFSETFROM:-0700
TZOFFSETTO:-0800
TZNAME:America/Tijuana PST
END:STANDARD
BEGIN:STANDARD
DTSTART:20261101T010000
RDATE:20270314T030000
TZOFFSETFROM:-0700
TZOFFSETTO:-0800
TZNAME:America/Tijuana PST
END:STANDARD
BEGIN:STANDARD
DTSTART:20271107T010000
RDATE:20280312T030000
TZOFFSETFROM:-0700
TZOFFSETTO:-0800
TZNAME:America/Tijuana PST
END:STANDARD
BEGIN:DAYLIGHT
DTSTART:20220318T090000
RDATE:20221106T010000
TZOFFSETFROM:-0800
TZOFFSETTO:-0700
TZNAME:America/Tijuana PDT
END:DAYLIGHT
BEGIN:DAYLIGHT
DTSTART:20230312T030000
RDATE:20231105T010000
TZOFFSETFROM:-0800
TZOFFSETTO:-0700
TZNAME:America/Tijuana PDT
END:DAYLIGHT
BEGIN:DAYLIGHT
DTSTART:20240310T030000
RDATE:20241103T010000
TZOFFSETFROM:-0800
TZOFFSETTO:-0700
TZNAME:America/Tijuana PDT
END:DAYLIGHT
BEGIN:DAYLIGHT
DTSTART:20250309T030000
RDATE:20251102T010000
TZOFFSETFROM:-0800
TZOFFSETTO:-0700
TZNAME:America/Tijuana PDT
END:DAYLIGHT
BEGIN:DAYLIGHT
DTSTART:20260308T030000
RDATE:20261101T010000
TZOFFSETFROM:-0800
TZOFFSETTO:-0700
TZNAME:America/Tijuana PDT
END:DAYLIGHT
BEGIN:DAYLIGHT
DTSTART:20270314T030000
RDATE:20271107T010000
TZOFFSETFROM:-0800
TZOFFSETTO:-0700
TZNAME:America/Tijuana PDT
END:DAYLIGHT
END:VTIMEZONE
BEGIN:VEVENT
UID:7d96b1b87bb56ff8af67a2b75451a053
CATEGORIES:Field Trips
CREATED:20230227T131701
SUMMARY:Bird and Plant ID Walk at Lake Cunningham Park (San Jose)
LOCATION:Lake Cunningham Park (San Jose)
DESCRIPTION:At the onset of Spring, join us for a beginner’s bird and plant identificat
 ion walk through Lake Cunningham Park. This lake is a major destination for
  waterfowl and migratory birds and its native garden draws many birds due t
 o its habitat value. On this walk, Vicki Silvas-Young will show you how to 
 identify the common birds of our area, while Arvind Kumar will identify the
  native plants that they depend on for food and shelter.\nThe distance is 4
  miles round-trip on a level path. Bring a hat, water, your bird and plant 
 lists, and binoculars. Wear comfortable walking shoes.\nSpace is limited. N
 o drop-ins please. To complete the required RSVP, please visit our Chapter’
 s Meetup page (https://www.meetup.com/California-Native-Plant-Society-Santa
 -Clara-Valley-Chapter/). Driving directions and parking tips are provided o
 n the Meetup page. We’ll meet at the Marina parking lot at 9am. Cosponsored
  by CNPS, Santa Clara Valley Audubon Society and Santa Clara Valley Open Sp
 ace Authority.\n
X-ALT-DESC;FMTTYPE=text/html:<div class="page" title="Page 8"><div class="layoutArea"><div class="column
 "><p>At the onset of Spring, join us for a <strong>beginner’s</strong> bird
  and plant identification walk through Lake Cunningham Park. This lake is a
  major destination for waterfowl and migratory birds and its native garden 
 draws many birds due to its habitat value. On this walk, Vicki Silvas-Young
  will show you how to identify the common birds of our area, while Arvind K
 umar will identify the native plants that they depend on for food and shelt
 er.</p><p>The distance is 4 miles round-trip on a level path. Bring a hat, 
 water, your bird and plant lists, and binoculars. Wear comfortable walking 
 shoes.</p><div class="page" title="Page 8"><div class="layoutArea"><div cla
 ss="column"><p>Space is limited. No drop-ins please. <strong>To complete th
 e required RSVP</strong>, please visit our <a href="https://www.meetup.com/
 California-Native-Plant-Society-Santa-Clara-Valley-Chapter/">Chapter’s Meet
 up page</a>. Driving directions and parking tips are provided on the Meetup
  page. We’ll meet at the Marina parking lot at <strong>9am</strong>. Cospon
 sored by CNPS, Santa Clara Valley Audubon Society and Santa Clara Valley Op
 en Space Authority.</p></div></div></div></div></div></div>
CONTACT:https://www.meetup.com/California-Native-Plant-Society-Santa-Clara-Valley-Chapter/
DTSTAMP:20260422T081354
DTSTART;TZID=America/Tijuana:20230319T090000
DTEND;TZID=America/Tijuana:20230319T120000
SEQUENCE:0
TRANSP:OPAQUE
END:VEVENT
END:VCALENDAR